BEGIN:VCALENDAR
VERSION:2.0
PRODID:-//Minnesota Region of Narcotics Anonymous - ECPv6.15.20//NONSGML v1.0//EN
CALSCALE:GREGORIAN
METHOD:PUBLISH
X-ORIGINAL-URL:https://naminnesota.org
X-WR-CALDESC:Events for Minnesota Region of Narcotics Anonymous
REFRESH-INTERVAL;VALUE=DURATION:PT1H
X-Robots-Tag:noindex
X-PUBLISHED-TTL:PT1H
BEGIN:VTIMEZONE
TZID:America/Chicago
BEGIN:DAYLIGHT
TZOFFSETFROM:-0600
TZOFFSETTO:-0500
TZNAME:CDT
DTSTART:20250309T080000
END:DAYLIGHT
BEGIN:STANDARD
TZOFFSETFROM:-0500
TZOFFSETTO:-0600
TZNAME:CST
DTSTART:20251102T070000
END:STANDARD
BEGIN:DAYLIGHT
TZOFFSETFROM:-0600
TZOFFSETTO:-0500
TZNAME:CDT
DTSTART:20260308T080000
END:DAYLIGHT
BEGIN:STANDARD
TZOFFSETFROM:-0500
TZOFFSETTO:-0600
TZNAME:CST
DTSTART:20261101T070000
END:STANDARD
BEGIN:DAYLIGHT
TZOFFSETFROM:-0600
TZOFFSETTO:-0500
TZNAME:CDT
DTSTART:20270314T080000
END:DAYLIGHT
BEGIN:STANDARD
TZOFFSETFROM:-0500
TZOFFSETTO:-0600
TZNAME:CST
DTSTART:20271107T070000
END:STANDARD
END:VTIMEZONE
BEGIN:VEVENT
DTSTART;TZID=America/Chicago:20260408T190000
DTEND;TZID=America/Chicago:20260408T210000
DTSTAMP:20260422T090334
CREATED:20251126T002218Z
LAST-MODIFIED:20251126T002218Z
UID:10000996-1775674800-1775682000@naminnesota.org
SUMMARY:MNNAC 34 Convention Committee Meeting
DESCRIPTION:This is a monthly meeting for the MNNAC 34 Convention Committee to meet and discuss plans for the 2027 Annual Convention.
URL:https://naminnesota.org/event/mnnac-34-convention-committee-meeting/2026-04-08/
LOCATION:535 20th Ave N\, South Saint Paul\, 535 20th Ave N\, South Saint Paul\, MN\, 55075\, United States
CATEGORIES:MNNAC
END:VEVENT
END:VCALENDAR