BEGIN:VCALENDAR
VERSION:2.0
PRODID:-//Minnesota Region of Narcotics Anonymous - ECPv6.15.20//NONSGML v1.0//EN
CALSCALE:GREGORIAN
METHOD:PUBLISH
X-ORIGINAL-URL:https://naminnesota.org
X-WR-CALDESC:Events for Minnesota Region of Narcotics Anonymous
REFRESH-INTERVAL;VALUE=DURATION:PT1H
X-Robots-Tag:noindex
X-PUBLISHED-TTL:PT1H
BEGIN:VTIMEZONE
TZID:America/Chicago
BEGIN:DAYLIGHT
TZOFFSETFROM:-0600
TZOFFSETTO:-0500
TZNAME:CDT
DTSTART:20250309T080000
END:DAYLIGHT
BEGIN:STANDARD
TZOFFSETFROM:-0500
TZOFFSETTO:-0600
TZNAME:CST
DTSTART:20251102T070000
END:STANDARD
BEGIN:DAYLIGHT
TZOFFSETFROM:-0600
TZOFFSETTO:-0500
TZNAME:CDT
DTSTART:20260308T080000
END:DAYLIGHT
BEGIN:STANDARD
TZOFFSETFROM:-0500
TZOFFSETTO:-0600
TZNAME:CST
DTSTART:20261101T070000
END:STANDARD
BEGIN:DAYLIGHT
TZOFFSETFROM:-0600
TZOFFSETTO:-0500
TZNAME:CDT
DTSTART:20270314T080000
END:DAYLIGHT
BEGIN:STANDARD
TZOFFSETFROM:-0500
TZOFFSETTO:-0600
TZNAME:CST
DTSTART:20271107T070000
END:STANDARD
BEGIN:DAYLIGHT
TZOFFSETFROM:-0600
TZOFFSETTO:-0500
TZNAME:CDT
DTSTART:20280312T080000
END:DAYLIGHT
BEGIN:STANDARD
TZOFFSETFROM:-0500
TZOFFSETTO:-0600
TZNAME:CST
DTSTART:20281105T070000
END:STANDARD
BEGIN:DAYLIGHT
TZOFFSETFROM:-0600
TZOFFSETTO:-0500
TZNAME:CDT
DTSTART:20290311T080000
END:DAYLIGHT
BEGIN:STANDARD
TZOFFSETFROM:-0500
TZOFFSETTO:-0600
TZNAME:CST
DTSTART:20291104T070000
END:STANDARD
END:VTIMEZONE
BEGIN:VEVENT
DTSTART;TZID=America/Chicago:20260502T090000
DTEND;TZID=America/Chicago:20260502T120000
DTSTAMP:20260422T090313
CREATED:20260122T003931Z
LAST-MODIFIED:20260122T004006Z
UID:10001061-1777712400-1777723200@naminnesota.org
SUMMARY:Pancake Breakfast! First Saturday every month
DESCRIPTION:Pancakes\, bacon\, sausage breakfast\nFree event. Donations accepted.\nFun & Fellowship
URL:https://naminnesota.org/event/pancake-breakfast-first-saturday-every-month/2026-05-02/
ATTACH;FMTTYPE=image/png:https://naminnesota.org/wp-content/uploads/2026/01/6204893025775230678.png
END:VEVENT
BEGIN:VEVENT
DTSTART;TZID=America/Chicago:20260529T180000
DTEND;TZID=America/Chicago:20260529T230000
DTSTAMP:20260422T090313
CREATED:20260420T122624Z
LAST-MODIFIED:20260421T201210Z
UID:10001278-1780077600-1780095600@naminnesota.org
SUMMARY:NA Keeping It Clean Karaoke
DESCRIPTION:Come enjoy a fun time singing karaoke and enjoying NA fellowship. With your ten dollar entry fee food is included.
URL:https://naminnesota.org/event/na-keeping-it-clean-karaoke/
LOCATION:520 Robert Street St. Paul\, 520 Robert Street\, St.Paul\, MN\, United States
CATEGORIES:Area of Hope
ATTACH;FMTTYPE=image/png:https://naminnesota.org/wp-content/uploads/2026/04/image-1.png
END:VEVENT
BEGIN:VEVENT
DTSTART;TZID=America/Chicago:20260606T090000
DTEND;TZID=America/Chicago:20260606T120000
DTSTAMP:20260422T090313
CREATED:20260122T003931Z
LAST-MODIFIED:20260122T004006Z
UID:10001062-1780736400-1780747200@naminnesota.org
SUMMARY:Pancake Breakfast! First Saturday every month
DESCRIPTION:Pancakes\, bacon\, sausage breakfast\nFree event. Donations accepted.\nFun & Fellowship
URL:https://naminnesota.org/event/pancake-breakfast-first-saturday-every-month/2026-06-06/
ATTACH;FMTTYPE=image/png:https://naminnesota.org/wp-content/uploads/2026/01/6204893025775230678.png
END:VEVENT
BEGIN:VEVENT
DTSTART;TZID=America/Chicago:20260704T090000
DTEND;TZID=America/Chicago:20260704T120000
DTSTAMP:20260422T090313
CREATED:20260122T003931Z
LAST-MODIFIED:20260122T004006Z
UID:10001063-1783155600-1783166400@naminnesota.org
SUMMARY:Pancake Breakfast! First Saturday every month
DESCRIPTION:Pancakes\, bacon\, sausage breakfast\nFree event. Donations accepted.\nFun & Fellowship
URL:https://naminnesota.org/event/pancake-breakfast-first-saturday-every-month/2026-07-04/
ATTACH;FMTTYPE=image/png:https://naminnesota.org/wp-content/uploads/2026/01/6204893025775230678.png
END:VEVENT
BEGIN:VEVENT
DTSTART;TZID=America/Chicago:20260801T090000
DTEND;TZID=America/Chicago:20260801T120000
DTSTAMP:20260422T090313
CREATED:20260122T003931Z
LAST-MODIFIED:20260122T004006Z
UID:10001064-1785574800-1785585600@naminnesota.org
SUMMARY:Pancake Breakfast! First Saturday every month
DESCRIPTION:Pancakes\, bacon\, sausage breakfast\nFree event. Donations accepted.\nFun & Fellowship
URL:https://naminnesota.org/event/pancake-breakfast-first-saturday-every-month/2026-08-01/
ATTACH;FMTTYPE=image/png:https://naminnesota.org/wp-content/uploads/2026/01/6204893025775230678.png
END:VEVENT
BEGIN:VEVENT
DTSTART;TZID=America/Chicago:20260808T120000
DTEND;TZID=America/Chicago:20260808T233000
DTSTAMP:20260422T090313
CREATED:20260315T134321Z
LAST-MODIFIED:20260315T134321Z
UID:10001199-1786190400-1786231800@naminnesota.org
SUMMARY:Annual Area Of Hope Picnic
DESCRIPTION:The annual picnic is right around the corner! It will be lots of fun and include fellowship\, food\, open mic\, 50/50 raffle and a large bonfire. We hope you can make it out!
URL:https://naminnesota.org/event/annual-area-of-hope-picnic/
LOCATION:Como Park\, 1177 Midway\, Saint Paul\, MN\, United States
CATEGORIES:Area of Hope
ATTACH;FMTTYPE=image/png:https://naminnesota.org/wp-content/uploads/2026/03/area-of-hope-picnic-1.png
END:VEVENT
BEGIN:VEVENT
DTSTART;TZID=America/Chicago:20260905T090000
DTEND;TZID=America/Chicago:20260905T120000
DTSTAMP:20260422T090313
CREATED:20260122T003931Z
LAST-MODIFIED:20260122T004006Z
UID:10001065-1788598800-1788609600@naminnesota.org
SUMMARY:Pancake Breakfast! First Saturday every month
DESCRIPTION:Pancakes\, bacon\, sausage breakfast\nFree event. Donations accepted.\nFun & Fellowship
URL:https://naminnesota.org/event/pancake-breakfast-first-saturday-every-month/2026-09-05/
ATTACH;FMTTYPE=image/png:https://naminnesota.org/wp-content/uploads/2026/01/6204893025775230678.png
END:VEVENT
BEGIN:VEVENT
DTSTART;TZID=America/Chicago:20261003T090000
DTEND;TZID=America/Chicago:20261003T120000
DTSTAMP:20260422T090313
CREATED:20260122T003931Z
LAST-MODIFIED:20260122T004006Z
UID:10001066-1791018000-1791028800@naminnesota.org
SUMMARY:Pancake Breakfast! First Saturday every month
DESCRIPTION:Pancakes\, bacon\, sausage breakfast\nFree event. Donations accepted.\nFun & Fellowship
URL:https://naminnesota.org/event/pancake-breakfast-first-saturday-every-month/2026-10-03/
ATTACH;FMTTYPE=image/png:https://naminnesota.org/wp-content/uploads/2026/01/6204893025775230678.png
END:VEVENT
BEGIN:VEVENT
DTSTART;TZID=America/Chicago:20261107T090000
DTEND;TZID=America/Chicago:20261107T120000
DTSTAMP:20260422T090313
CREATED:20260122T003931Z
LAST-MODIFIED:20260122T004006Z
UID:10001067-1794042000-1794052800@naminnesota.org
SUMMARY:Pancake Breakfast! First Saturday every month
DESCRIPTION:Pancakes\, bacon\, sausage breakfast\nFree event. Donations accepted.\nFun & Fellowship
URL:https://naminnesota.org/event/pancake-breakfast-first-saturday-every-month/2026-11-07/
ATTACH;FMTTYPE=image/png:https://naminnesota.org/wp-content/uploads/2026/01/6204893025775230678.png
END:VEVENT
BEGIN:VEVENT
DTSTART;TZID=America/Chicago:20261205T090000
DTEND;TZID=America/Chicago:20261205T120000
DTSTAMP:20260422T090313
CREATED:20260122T003931Z
LAST-MODIFIED:20260122T004006Z
UID:10001068-1796461200-1796472000@naminnesota.org
SUMMARY:Pancake Breakfast! First Saturday every month
DESCRIPTION:Pancakes\, bacon\, sausage breakfast\nFree event. Donations accepted.\nFun & Fellowship
URL:https://naminnesota.org/event/pancake-breakfast-first-saturday-every-month/2026-12-05/
ATTACH;FMTTYPE=image/png:https://naminnesota.org/wp-content/uploads/2026/01/6204893025775230678.png
END:VEVENT
BEGIN:VEVENT
DTSTART;TZID=America/Chicago:20270102T090000
DTEND;TZID=America/Chicago:20270102T120000
DTSTAMP:20260422T090313
CREATED:20260122T003931Z
LAST-MODIFIED:20260122T004006Z
UID:10001069-1798880400-1798891200@naminnesota.org
SUMMARY:Pancake Breakfast! First Saturday every month
DESCRIPTION:Pancakes\, bacon\, sausage breakfast\nFree event. Donations accepted.\nFun & Fellowship
URL:https://naminnesota.org/event/pancake-breakfast-first-saturday-every-month/2027-01-02/
ATTACH;FMTTYPE=image/png:https://naminnesota.org/wp-content/uploads/2026/01/6204893025775230678.png
END:VEVENT
BEGIN:VEVENT
DTSTART;TZID=America/Chicago:20270206T090000
DTEND;TZID=America/Chicago:20270206T120000
DTSTAMP:20260422T090313
CREATED:20260122T003931Z
LAST-MODIFIED:20260122T004006Z
UID:10001070-1801904400-1801915200@naminnesota.org
SUMMARY:Pancake Breakfast! First Saturday every month
DESCRIPTION:Pancakes\, bacon\, sausage breakfast\nFree event. Donations accepted.\nFun & Fellowship
URL:https://naminnesota.org/event/pancake-breakfast-first-saturday-every-month/2027-02-06/
ATTACH;FMTTYPE=image/png:https://naminnesota.org/wp-content/uploads/2026/01/6204893025775230678.png
END:VEVENT
BEGIN:VEVENT
DTSTART;TZID=America/Chicago:20270306T090000
DTEND;TZID=America/Chicago:20270306T120000
DTSTAMP:20260422T090313
CREATED:20260122T003931Z
LAST-MODIFIED:20260122T004006Z
UID:10001071-1804323600-1804334400@naminnesota.org
SUMMARY:Pancake Breakfast! First Saturday every month
DESCRIPTION:Pancakes\, bacon\, sausage breakfast\nFree event. Donations accepted.\nFun & Fellowship
URL:https://naminnesota.org/event/pancake-breakfast-first-saturday-every-month/2027-03-06/
ATTACH;FMTTYPE=image/png:https://naminnesota.org/wp-content/uploads/2026/01/6204893025775230678.png
END:VEVENT
BEGIN:VEVENT
DTSTART;TZID=America/Chicago:20270403T090000
DTEND;TZID=America/Chicago:20270403T120000
DTSTAMP:20260422T090313
CREATED:20260122T003931Z
LAST-MODIFIED:20260122T004006Z
UID:10001072-1806742800-1806753600@naminnesota.org
SUMMARY:Pancake Breakfast! First Saturday every month
DESCRIPTION:Pancakes\, bacon\, sausage breakfast\nFree event. Donations accepted.\nFun & Fellowship
URL:https://naminnesota.org/event/pancake-breakfast-first-saturday-every-month/2027-04-03/
ATTACH;FMTTYPE=image/png:https://naminnesota.org/wp-content/uploads/2026/01/6204893025775230678.png
END:VEVENT
BEGIN:VEVENT
DTSTART;TZID=America/Chicago:20270501T090000
DTEND;TZID=America/Chicago:20270501T120000
DTSTAMP:20260422T090313
CREATED:20260122T003931Z
LAST-MODIFIED:20260122T004006Z
UID:10001073-1809162000-1809172800@naminnesota.org
SUMMARY:Pancake Breakfast! First Saturday every month
DESCRIPTION:Pancakes\, bacon\, sausage breakfast\nFree event. Donations accepted.\nFun & Fellowship
URL:https://naminnesota.org/event/pancake-breakfast-first-saturday-every-month/2027-05-01/
ATTACH;FMTTYPE=image/png:https://naminnesota.org/wp-content/uploads/2026/01/6204893025775230678.png
END:VEVENT
BEGIN:VEVENT
DTSTART;TZID=America/Chicago:20270605T090000
DTEND;TZID=America/Chicago:20270605T120000
DTSTAMP:20260422T090313
CREATED:20260122T003931Z
LAST-MODIFIED:20260122T004006Z
UID:10001074-1812186000-1812196800@naminnesota.org
SUMMARY:Pancake Breakfast! First Saturday every month
DESCRIPTION:Pancakes\, bacon\, sausage breakfast\nFree event. Donations accepted.\nFun & Fellowship
URL:https://naminnesota.org/event/pancake-breakfast-first-saturday-every-month/2027-06-05/
ATTACH;FMTTYPE=image/png:https://naminnesota.org/wp-content/uploads/2026/01/6204893025775230678.png
END:VEVENT
BEGIN:VEVENT
DTSTART;TZID=America/Chicago:20270703T090000
DTEND;TZID=America/Chicago:20270703T120000
DTSTAMP:20260422T090313
CREATED:20260122T003931Z
LAST-MODIFIED:20260122T004006Z
UID:10001075-1814605200-1814616000@naminnesota.org
SUMMARY:Pancake Breakfast! First Saturday every month
DESCRIPTION:Pancakes\, bacon\, sausage breakfast\nFree event. Donations accepted.\nFun & Fellowship
URL:https://naminnesota.org/event/pancake-breakfast-first-saturday-every-month/2027-07-03/
ATTACH;FMTTYPE=image/png:https://naminnesota.org/wp-content/uploads/2026/01/6204893025775230678.png
END:VEVENT
BEGIN:VEVENT
DTSTART;TZID=America/Chicago:20270807T090000
DTEND;TZID=America/Chicago:20270807T120000
DTSTAMP:20260422T090313
CREATED:20260122T003931Z
LAST-MODIFIED:20260122T004006Z
UID:10001076-1817629200-1817640000@naminnesota.org
SUMMARY:Pancake Breakfast! First Saturday every month
DESCRIPTION:Pancakes\, bacon\, sausage breakfast\nFree event. Donations accepted.\nFun & Fellowship
URL:https://naminnesota.org/event/pancake-breakfast-first-saturday-every-month/2027-08-07/
ATTACH;FMTTYPE=image/png:https://naminnesota.org/wp-content/uploads/2026/01/6204893025775230678.png
END:VEVENT
BEGIN:VEVENT
DTSTART;TZID=America/Chicago:20270904T090000
DTEND;TZID=America/Chicago:20270904T120000
DTSTAMP:20260422T090313
CREATED:20260122T003931Z
LAST-MODIFIED:20260122T004006Z
UID:10001077-1820048400-1820059200@naminnesota.org
SUMMARY:Pancake Breakfast! First Saturday every month
DESCRIPTION:Pancakes\, bacon\, sausage breakfast\nFree event. Donations accepted.\nFun & Fellowship
URL:https://naminnesota.org/event/pancake-breakfast-first-saturday-every-month/2027-09-04/
ATTACH;FMTTYPE=image/png:https://naminnesota.org/wp-content/uploads/2026/01/6204893025775230678.png
END:VEVENT
BEGIN:VEVENT
DTSTART;TZID=America/Chicago:20271002T090000
DTEND;TZID=America/Chicago:20271002T120000
DTSTAMP:20260422T090313
CREATED:20260122T003931Z
LAST-MODIFIED:20260122T004006Z
UID:10001078-1822467600-1822478400@naminnesota.org
SUMMARY:Pancake Breakfast! First Saturday every month
DESCRIPTION:Pancakes\, bacon\, sausage breakfast\nFree event. Donations accepted.\nFun & Fellowship
URL:https://naminnesota.org/event/pancake-breakfast-first-saturday-every-month/2027-10-02/
ATTACH;FMTTYPE=image/png:https://naminnesota.org/wp-content/uploads/2026/01/6204893025775230678.png
END:VEVENT
BEGIN:VEVENT
DTSTART;TZID=America/Chicago:20271106T090000
DTEND;TZID=America/Chicago:20271106T120000
DTSTAMP:20260422T090313
CREATED:20260122T003931Z
LAST-MODIFIED:20260122T004006Z
UID:10001079-1825491600-1825502400@naminnesota.org
SUMMARY:Pancake Breakfast! First Saturday every month
DESCRIPTION:Pancakes\, bacon\, sausage breakfast\nFree event. Donations accepted.\nFun & Fellowship
URL:https://naminnesota.org/event/pancake-breakfast-first-saturday-every-month/2027-11-06/
ATTACH;FMTTYPE=image/png:https://naminnesota.org/wp-content/uploads/2026/01/6204893025775230678.png
END:VEVENT
BEGIN:VEVENT
DTSTART;TZID=America/Chicago:20271204T090000
DTEND;TZID=America/Chicago:20271204T120000
DTSTAMP:20260422T090313
CREATED:20260122T003931Z
LAST-MODIFIED:20260122T004006Z
UID:10001080-1827910800-1827921600@naminnesota.org
SUMMARY:Pancake Breakfast! First Saturday every month
DESCRIPTION:Pancakes\, bacon\, sausage breakfast\nFree event. Donations accepted.\nFun & Fellowship
URL:https://naminnesota.org/event/pancake-breakfast-first-saturday-every-month/2027-12-04/
ATTACH;FMTTYPE=image/png:https://naminnesota.org/wp-content/uploads/2026/01/6204893025775230678.png
END:VEVENT
BEGIN:VEVENT
DTSTART;TZID=America/Chicago:20280101T090000
DTEND;TZID=America/Chicago:20280101T120000
DTSTAMP:20260422T090313
CREATED:20260122T003931Z
LAST-MODIFIED:20260122T004006Z
UID:10001081-1830330000-1830340800@naminnesota.org
SUMMARY:Pancake Breakfast! First Saturday every month
DESCRIPTION:Pancakes\, bacon\, sausage breakfast\nFree event. Donations accepted.\nFun & Fellowship
URL:https://naminnesota.org/event/pancake-breakfast-first-saturday-every-month/2028-01-01/
ATTACH;FMTTYPE=image/png:https://naminnesota.org/wp-content/uploads/2026/01/6204893025775230678.png
END:VEVENT
BEGIN:VEVENT
DTSTART;TZID=America/Chicago:20280205T090000
DTEND;TZID=America/Chicago:20280205T120000
DTSTAMP:20260422T090313
CREATED:20260122T003931Z
LAST-MODIFIED:20260122T004006Z
UID:10001082-1833354000-1833364800@naminnesota.org
SUMMARY:Pancake Breakfast! First Saturday every month
DESCRIPTION:Pancakes\, bacon\, sausage breakfast\nFree event. Donations accepted.\nFun & Fellowship
URL:https://naminnesota.org/event/pancake-breakfast-first-saturday-every-month/2028-02-05/
ATTACH;FMTTYPE=image/png:https://naminnesota.org/wp-content/uploads/2026/01/6204893025775230678.png
END:VEVENT
BEGIN:VEVENT
DTSTART;TZID=America/Chicago:20280304T090000
DTEND;TZID=America/Chicago:20280304T120000
DTSTAMP:20260422T090313
CREATED:20260122T003931Z
LAST-MODIFIED:20260122T004006Z
UID:10001083-1835773200-1835784000@naminnesota.org
SUMMARY:Pancake Breakfast! First Saturday every month
DESCRIPTION:Pancakes\, bacon\, sausage breakfast\nFree event. Donations accepted.\nFun & Fellowship
URL:https://naminnesota.org/event/pancake-breakfast-first-saturday-every-month/2028-03-04/
ATTACH;FMTTYPE=image/png:https://naminnesota.org/wp-content/uploads/2026/01/6204893025775230678.png
END:VEVENT
BEGIN:VEVENT
DTSTART;TZID=America/Chicago:20280401T090000
DTEND;TZID=America/Chicago:20280401T120000
DTSTAMP:20260422T090313
CREATED:20260122T003931Z
LAST-MODIFIED:20260122T004006Z
UID:10001084-1838192400-1838203200@naminnesota.org
SUMMARY:Pancake Breakfast! First Saturday every month
DESCRIPTION:Pancakes\, bacon\, sausage breakfast\nFree event. Donations accepted.\nFun & Fellowship
URL:https://naminnesota.org/event/pancake-breakfast-first-saturday-every-month/2028-04-01/
ATTACH;FMTTYPE=image/png:https://naminnesota.org/wp-content/uploads/2026/01/6204893025775230678.png
END:VEVENT
BEGIN:VEVENT
DTSTART;TZID=America/Chicago:20280506T090000
DTEND;TZID=America/Chicago:20280506T120000
DTSTAMP:20260422T090313
CREATED:20260122T003931Z
LAST-MODIFIED:20260122T004006Z
UID:10001085-1841216400-1841227200@naminnesota.org
SUMMARY:Pancake Breakfast! First Saturday every month
DESCRIPTION:Pancakes\, bacon\, sausage breakfast\nFree event. Donations accepted.\nFun & Fellowship
URL:https://naminnesota.org/event/pancake-breakfast-first-saturday-every-month/2028-05-06/
ATTACH;FMTTYPE=image/png:https://naminnesota.org/wp-content/uploads/2026/01/6204893025775230678.png
END:VEVENT
BEGIN:VEVENT
DTSTART;TZID=America/Chicago:20280603T090000
DTEND;TZID=America/Chicago:20280603T120000
DTSTAMP:20260422T090313
CREATED:20260122T003931Z
LAST-MODIFIED:20260122T004006Z
UID:10001086-1843635600-1843646400@naminnesota.org
SUMMARY:Pancake Breakfast! First Saturday every month
DESCRIPTION:Pancakes\, bacon\, sausage breakfast\nFree event. Donations accepted.\nFun & Fellowship
URL:https://naminnesota.org/event/pancake-breakfast-first-saturday-every-month/2028-06-03/
ATTACH;FMTTYPE=image/png:https://naminnesota.org/wp-content/uploads/2026/01/6204893025775230678.png
END:VEVENT
BEGIN:VEVENT
DTSTART;TZID=America/Chicago:20280701T090000
DTEND;TZID=America/Chicago:20280701T120000
DTSTAMP:20260422T090313
CREATED:20260122T003931Z
LAST-MODIFIED:20260122T004006Z
UID:10001087-1846054800-1846065600@naminnesota.org
SUMMARY:Pancake Breakfast! First Saturday every month
DESCRIPTION:Pancakes\, bacon\, sausage breakfast\nFree event. Donations accepted.\nFun & Fellowship
URL:https://naminnesota.org/event/pancake-breakfast-first-saturday-every-month/2028-07-01/
ATTACH;FMTTYPE=image/png:https://naminnesota.org/wp-content/uploads/2026/01/6204893025775230678.png
END:VEVENT
BEGIN:VEVENT
DTSTART;TZID=America/Chicago:20280805T090000
DTEND;TZID=America/Chicago:20280805T120000
DTSTAMP:20260422T090313
CREATED:20260122T003931Z
LAST-MODIFIED:20260122T004006Z
UID:10001088-1849078800-1849089600@naminnesota.org
SUMMARY:Pancake Breakfast! First Saturday every month
DESCRIPTION:Pancakes\, bacon\, sausage breakfast\nFree event. Donations accepted.\nFun & Fellowship
URL:https://naminnesota.org/event/pancake-breakfast-first-saturday-every-month/2028-08-05/
ATTACH;FMTTYPE=image/png:https://naminnesota.org/wp-content/uploads/2026/01/6204893025775230678.png
END:VEVENT
END:VCALENDAR