BEGIN:VCALENDAR
VERSION:2.0
PRODID:-//Minnesota Region of Narcotics Anonymous - ECPv6.15.20//NONSGML v1.0//EN
CALSCALE:GREGORIAN
METHOD:PUBLISH
X-WR-CALNAME:Minnesota Region of Narcotics Anonymous
X-ORIGINAL-URL:https://naminnesota.org
X-WR-CALDESC:Events for Minnesota Region of Narcotics Anonymous
REFRESH-INTERVAL;VALUE=DURATION:PT1H
X-Robots-Tag:noindex
X-PUBLISHED-TTL:PT1H
BEGIN:VTIMEZONE
TZID:America/Chicago
BEGIN:DAYLIGHT
TZOFFSETFROM:-0600
TZOFFSETTO:-0500
TZNAME:CDT
DTSTART:20250309T080000
END:DAYLIGHT
BEGIN:STANDARD
TZOFFSETFROM:-0500
TZOFFSETTO:-0600
TZNAME:CST
DTSTART:20251102T070000
END:STANDARD
BEGIN:DAYLIGHT
TZOFFSETFROM:-0600
TZOFFSETTO:-0500
TZNAME:CDT
DTSTART:20260308T080000
END:DAYLIGHT
BEGIN:STANDARD
TZOFFSETFROM:-0500
TZOFFSETTO:-0600
TZNAME:CST
DTSTART:20261101T070000
END:STANDARD
BEGIN:DAYLIGHT
TZOFFSETFROM:-0600
TZOFFSETTO:-0500
TZNAME:CDT
DTSTART:20270314T080000
END:DAYLIGHT
BEGIN:STANDARD
TZOFFSETFROM:-0500
TZOFFSETTO:-0600
TZNAME:CST
DTSTART:20271107T070000
END:STANDARD
END:VTIMEZONE
BEGIN:VEVENT
DTSTART;TZID=America/Chicago:20260404T090000
DTEND;TZID=America/Chicago:20260404T120000
DTSTAMP:20260422T090306
CREATED:20260122T003931Z
LAST-MODIFIED:20260122T004006Z
UID:10001060-1775293200-1775304000@naminnesota.org
SUMMARY:Pancake Breakfast! First Saturday every month
DESCRIPTION:Pancakes\, bacon\, sausage breakfast\nFree event. Donations accepted.\nFun & Fellowship
URL:https://naminnesota.org/event/pancake-breakfast-first-saturday-every-month/2026-04-04/
ATTACH;FMTTYPE=image/png:https://naminnesota.org/wp-content/uploads/2026/01/6204893025775230678.png
END:VEVENT
BEGIN:VEVENT
DTSTART;TZID=America/Chicago:20260403T190000
DTEND;TZID=America/Chicago:20260403T223000
DTSTAMP:20260422T090306
CREATED:20260321T182220Z
LAST-MODIFIED:20260321T182220Z
UID:10001263-1775242800-1775255400@naminnesota.org
SUMMARY:Don't Be A Fool NA Dance
DESCRIPTION:An NA Dance with call up speakers\, food\, music and fun. Join us at the downtown alano club!
URL:https://naminnesota.org/event/dont-be-a-fool-na-dance/
LOCATION:520 Robert Street St. Paul\, 520 Robert Street\, St.Paul\, MN\, United States
CATEGORIES:Area of Hope
ATTACH;FMTTYPE=image/png:https://naminnesota.org/wp-content/uploads/2026/03/April-NA-Dance.png
END:VEVENT
END:VCALENDAR