BEGIN:VCALENDAR
VERSION:2.0
PRODID:-//Minnesota Region of Narcotics Anonymous - ECPv6.15.20//NONSGML v1.0//EN
CALSCALE:GREGORIAN
METHOD:PUBLISH
X-WR-CALNAME:Minnesota Region of Narcotics Anonymous
X-ORIGINAL-URL:https://naminnesota.org
X-WR-CALDESC:Events for Minnesota Region of Narcotics Anonymous
REFRESH-INTERVAL;VALUE=DURATION:PT1H
X-Robots-Tag:noindex
X-PUBLISHED-TTL:PT1H
BEGIN:VTIMEZONE
TZID:America/Chicago
BEGIN:DAYLIGHT
TZOFFSETFROM:-0600
TZOFFSETTO:-0500
TZNAME:CDT
DTSTART:20290311T080000
END:DAYLIGHT
BEGIN:STANDARD
TZOFFSETFROM:-0500
TZOFFSETTO:-0600
TZNAME:CST
DTSTART:20291104T070000
END:STANDARD
BEGIN:DAYLIGHT
TZOFFSETFROM:-0600
TZOFFSETTO:-0500
TZNAME:CDT
DTSTART:20300310T080000
END:DAYLIGHT
BEGIN:STANDARD
TZOFFSETFROM:-0500
TZOFFSETTO:-0600
TZNAME:CST
DTSTART:20301103T070000
END:STANDARD
BEGIN:DAYLIGHT
TZOFFSETFROM:-0600
TZOFFSETTO:-0500
TZNAME:CDT
DTSTART:20310309T080000
END:DAYLIGHT
BEGIN:STANDARD
TZOFFSETFROM:-0500
TZOFFSETTO:-0600
TZNAME:CST
DTSTART:20311102T070000
END:STANDARD
BEGIN:DAYLIGHT
TZOFFSETFROM:-0600
TZOFFSETTO:-0500
TZNAME:CDT
DTSTART:20320314T080000
END:DAYLIGHT
BEGIN:STANDARD
TZOFFSETFROM:-0500
TZOFFSETTO:-0600
TZNAME:CST
DTSTART:20321107T070000
END:STANDARD
END:VTIMEZONE
BEGIN:VEVENT
DTSTART;TZID=America/Chicago:20300119T170000
DTEND;TZID=America/Chicago:20300119T210000
DTSTAMP:20260422T220814
CREATED:20260313T145024Z
LAST-MODIFIED:20260313T145024Z
UID:10001184-1895072400-1895086800@naminnesota.org
SUMMARY:Recovery Game Night
DESCRIPTION:WAHA is hosting a monthly Recovery Game Night! \n3rd Saturday of every month\, 5PM-9PM\nLocation is at Common Ground Church in Cambridge. \nThis is a FREE event\, open to ALL!\nKids and families welcome! \nPotluck! Bring a dish to share.\nBring a game to play! \nBring a friend. Build community. In Recovery. \nContact Paul M 612-791-1288 for more info.
URL:https://naminnesota.org/event/recovery-game-night/2030-01-19/
LOCATION:Common Ground Church\, Cambridge 55008\, 404 Cypress St N\, Cambridge\, MN\, 55008\, United States
CATEGORIES:We Are Here
ATTACH;FMTTYPE=image/jpeg:https://naminnesota.org/wp-content/uploads/2026/03/1000005391.jpg
ORGANIZER;CN="Wee Are Here Area":MAILTO:ardnasknip@gmail.com
END:VEVENT
BEGIN:VEVENT
DTSTART;TZID=America/Chicago:20300202T090000
DTEND;TZID=America/Chicago:20300202T120000
DTSTAMP:20260422T220814
CREATED:20260122T003931Z
LAST-MODIFIED:20260122T004006Z
UID:10001106-1896253200-1896264000@naminnesota.org
SUMMARY:Pancake Breakfast! First Saturday every month
DESCRIPTION:Pancakes\, bacon\, sausage breakfast\nFree event. Donations accepted.\nFun & Fellowship
URL:https://naminnesota.org/event/pancake-breakfast-first-saturday-every-month/2030-02-02/
ATTACH;FMTTYPE=image/png:https://naminnesota.org/wp-content/uploads/2026/01/6204893025775230678.png
END:VEVENT
BEGIN:VEVENT
DTSTART;TZID=America/Chicago:20300216T170000
DTEND;TZID=America/Chicago:20300216T210000
DTSTAMP:20260422T220814
CREATED:20260313T145024Z
LAST-MODIFIED:20260313T145024Z
UID:10001185-1897491600-1897506000@naminnesota.org
SUMMARY:Recovery Game Night
DESCRIPTION:WAHA is hosting a monthly Recovery Game Night! \n3rd Saturday of every month\, 5PM-9PM\nLocation is at Common Ground Church in Cambridge. \nThis is a FREE event\, open to ALL!\nKids and families welcome! \nPotluck! Bring a dish to share.\nBring a game to play! \nBring a friend. Build community. In Recovery. \nContact Paul M 612-791-1288 for more info.
URL:https://naminnesota.org/event/recovery-game-night/2030-02-16/
LOCATION:Common Ground Church\, Cambridge 55008\, 404 Cypress St N\, Cambridge\, MN\, 55008\, United States
CATEGORIES:We Are Here
ATTACH;FMTTYPE=image/jpeg:https://naminnesota.org/wp-content/uploads/2026/03/1000005391.jpg
ORGANIZER;CN="Wee Are Here Area":MAILTO:ardnasknip@gmail.com
END:VEVENT
BEGIN:VEVENT
DTSTART;TZID=America/Chicago:20300302T090000
DTEND;TZID=America/Chicago:20300302T120000
DTSTAMP:20260422T220814
CREATED:20260122T003931Z
LAST-MODIFIED:20260122T004006Z
UID:10001107-1898672400-1898683200@naminnesota.org
SUMMARY:Pancake Breakfast! First Saturday every month
DESCRIPTION:Pancakes\, bacon\, sausage breakfast\nFree event. Donations accepted.\nFun & Fellowship
URL:https://naminnesota.org/event/pancake-breakfast-first-saturday-every-month/2030-03-02/
ATTACH;FMTTYPE=image/png:https://naminnesota.org/wp-content/uploads/2026/01/6204893025775230678.png
END:VEVENT
BEGIN:VEVENT
DTSTART;TZID=America/Chicago:20300316T170000
DTEND;TZID=America/Chicago:20300316T210000
DTSTAMP:20260422T220814
CREATED:20260313T145024Z
LAST-MODIFIED:20260313T145024Z
UID:10001186-1899910800-1899925200@naminnesota.org
SUMMARY:Recovery Game Night
DESCRIPTION:WAHA is hosting a monthly Recovery Game Night! \n3rd Saturday of every month\, 5PM-9PM\nLocation is at Common Ground Church in Cambridge. \nThis is a FREE event\, open to ALL!\nKids and families welcome! \nPotluck! Bring a dish to share.\nBring a game to play! \nBring a friend. Build community. In Recovery. \nContact Paul M 612-791-1288 for more info.
URL:https://naminnesota.org/event/recovery-game-night/2030-03-16/
LOCATION:Common Ground Church\, Cambridge 55008\, 404 Cypress St N\, Cambridge\, MN\, 55008\, United States
CATEGORIES:We Are Here
ATTACH;FMTTYPE=image/jpeg:https://naminnesota.org/wp-content/uploads/2026/03/1000005391.jpg
ORGANIZER;CN="Wee Are Here Area":MAILTO:ardnasknip@gmail.com
END:VEVENT
BEGIN:VEVENT
DTSTART;TZID=America/Chicago:20300406T090000
DTEND;TZID=America/Chicago:20300406T120000
DTSTAMP:20260422T220814
CREATED:20260122T003931Z
LAST-MODIFIED:20260122T004006Z
UID:10001108-1901696400-1901707200@naminnesota.org
SUMMARY:Pancake Breakfast! First Saturday every month
DESCRIPTION:Pancakes\, bacon\, sausage breakfast\nFree event. Donations accepted.\nFun & Fellowship
URL:https://naminnesota.org/event/pancake-breakfast-first-saturday-every-month/2030-04-06/
ATTACH;FMTTYPE=image/png:https://naminnesota.org/wp-content/uploads/2026/01/6204893025775230678.png
END:VEVENT
BEGIN:VEVENT
DTSTART;TZID=America/Chicago:20300420T170000
DTEND;TZID=America/Chicago:20300420T210000
DTSTAMP:20260422T220814
CREATED:20260313T145024Z
LAST-MODIFIED:20260313T145024Z
UID:10001187-1902934800-1902949200@naminnesota.org
SUMMARY:Recovery Game Night
DESCRIPTION:WAHA is hosting a monthly Recovery Game Night! \n3rd Saturday of every month\, 5PM-9PM\nLocation is at Common Ground Church in Cambridge. \nThis is a FREE event\, open to ALL!\nKids and families welcome! \nPotluck! Bring a dish to share.\nBring a game to play! \nBring a friend. Build community. In Recovery. \nContact Paul M 612-791-1288 for more info.
URL:https://naminnesota.org/event/recovery-game-night/2030-04-20/
LOCATION:Common Ground Church\, Cambridge 55008\, 404 Cypress St N\, Cambridge\, MN\, 55008\, United States
CATEGORIES:We Are Here
ATTACH;FMTTYPE=image/jpeg:https://naminnesota.org/wp-content/uploads/2026/03/1000005391.jpg
ORGANIZER;CN="Wee Are Here Area":MAILTO:ardnasknip@gmail.com
END:VEVENT
BEGIN:VEVENT
DTSTART;TZID=America/Chicago:20300504T090000
DTEND;TZID=America/Chicago:20300504T120000
DTSTAMP:20260422T220814
CREATED:20260122T003931Z
LAST-MODIFIED:20260122T004006Z
UID:10001109-1904115600-1904126400@naminnesota.org
SUMMARY:Pancake Breakfast! First Saturday every month
DESCRIPTION:Pancakes\, bacon\, sausage breakfast\nFree event. Donations accepted.\nFun & Fellowship
URL:https://naminnesota.org/event/pancake-breakfast-first-saturday-every-month/2030-05-04/
ATTACH;FMTTYPE=image/png:https://naminnesota.org/wp-content/uploads/2026/01/6204893025775230678.png
END:VEVENT
BEGIN:VEVENT
DTSTART;TZID=America/Chicago:20300518T170000
DTEND;TZID=America/Chicago:20300518T210000
DTSTAMP:20260422T220814
CREATED:20260313T145024Z
LAST-MODIFIED:20260313T145024Z
UID:10001188-1905354000-1905368400@naminnesota.org
SUMMARY:Recovery Game Night
DESCRIPTION:WAHA is hosting a monthly Recovery Game Night! \n3rd Saturday of every month\, 5PM-9PM\nLocation is at Common Ground Church in Cambridge. \nThis is a FREE event\, open to ALL!\nKids and families welcome! \nPotluck! Bring a dish to share.\nBring a game to play! \nBring a friend. Build community. In Recovery. \nContact Paul M 612-791-1288 for more info.
URL:https://naminnesota.org/event/recovery-game-night/2030-05-18/
LOCATION:Common Ground Church\, Cambridge 55008\, 404 Cypress St N\, Cambridge\, MN\, 55008\, United States
CATEGORIES:We Are Here
ATTACH;FMTTYPE=image/jpeg:https://naminnesota.org/wp-content/uploads/2026/03/1000005391.jpg
ORGANIZER;CN="Wee Are Here Area":MAILTO:ardnasknip@gmail.com
END:VEVENT
BEGIN:VEVENT
DTSTART;TZID=America/Chicago:20300601T090000
DTEND;TZID=America/Chicago:20300601T120000
DTSTAMP:20260422T220814
CREATED:20260122T003931Z
LAST-MODIFIED:20260122T004006Z
UID:10001110-1906534800-1906545600@naminnesota.org
SUMMARY:Pancake Breakfast! First Saturday every month
DESCRIPTION:Pancakes\, bacon\, sausage breakfast\nFree event. Donations accepted.\nFun & Fellowship
URL:https://naminnesota.org/event/pancake-breakfast-first-saturday-every-month/2030-06-01/
ATTACH;FMTTYPE=image/png:https://naminnesota.org/wp-content/uploads/2026/01/6204893025775230678.png
END:VEVENT
BEGIN:VEVENT
DTSTART;TZID=America/Chicago:20300615T170000
DTEND;TZID=America/Chicago:20300615T210000
DTSTAMP:20260422T220814
CREATED:20260313T145024Z
LAST-MODIFIED:20260313T145024Z
UID:10001189-1907773200-1907787600@naminnesota.org
SUMMARY:Recovery Game Night
DESCRIPTION:WAHA is hosting a monthly Recovery Game Night! \n3rd Saturday of every month\, 5PM-9PM\nLocation is at Common Ground Church in Cambridge. \nThis is a FREE event\, open to ALL!\nKids and families welcome! \nPotluck! Bring a dish to share.\nBring a game to play! \nBring a friend. Build community. In Recovery. \nContact Paul M 612-791-1288 for more info.
URL:https://naminnesota.org/event/recovery-game-night/2030-06-15/
LOCATION:Common Ground Church\, Cambridge 55008\, 404 Cypress St N\, Cambridge\, MN\, 55008\, United States
CATEGORIES:We Are Here
ATTACH;FMTTYPE=image/jpeg:https://naminnesota.org/wp-content/uploads/2026/03/1000005391.jpg
ORGANIZER;CN="Wee Are Here Area":MAILTO:ardnasknip@gmail.com
END:VEVENT
BEGIN:VEVENT
DTSTART;TZID=America/Chicago:20300706T090000
DTEND;TZID=America/Chicago:20300706T120000
DTSTAMP:20260422T220814
CREATED:20260122T003931Z
LAST-MODIFIED:20260122T004006Z
UID:10001111-1909558800-1909569600@naminnesota.org
SUMMARY:Pancake Breakfast! First Saturday every month
DESCRIPTION:Pancakes\, bacon\, sausage breakfast\nFree event. Donations accepted.\nFun & Fellowship
URL:https://naminnesota.org/event/pancake-breakfast-first-saturday-every-month/2030-07-06/
ATTACH;FMTTYPE=image/png:https://naminnesota.org/wp-content/uploads/2026/01/6204893025775230678.png
END:VEVENT
BEGIN:VEVENT
DTSTART;TZID=America/Chicago:20300720T170000
DTEND;TZID=America/Chicago:20300720T210000
DTSTAMP:20260422T220814
CREATED:20260313T145024Z
LAST-MODIFIED:20260313T145024Z
UID:10001190-1910797200-1910811600@naminnesota.org
SUMMARY:Recovery Game Night
DESCRIPTION:WAHA is hosting a monthly Recovery Game Night! \n3rd Saturday of every month\, 5PM-9PM\nLocation is at Common Ground Church in Cambridge. \nThis is a FREE event\, open to ALL!\nKids and families welcome! \nPotluck! Bring a dish to share.\nBring a game to play! \nBring a friend. Build community. In Recovery. \nContact Paul M 612-791-1288 for more info.
URL:https://naminnesota.org/event/recovery-game-night/2030-07-20/
LOCATION:Common Ground Church\, Cambridge 55008\, 404 Cypress St N\, Cambridge\, MN\, 55008\, United States
CATEGORIES:We Are Here
ATTACH;FMTTYPE=image/jpeg:https://naminnesota.org/wp-content/uploads/2026/03/1000005391.jpg
ORGANIZER;CN="Wee Are Here Area":MAILTO:ardnasknip@gmail.com
END:VEVENT
BEGIN:VEVENT
DTSTART;TZID=America/Chicago:20300803T090000
DTEND;TZID=America/Chicago:20300803T120000
DTSTAMP:20260422T220814
CREATED:20260122T003931Z
LAST-MODIFIED:20260122T004006Z
UID:10001112-1911978000-1911988800@naminnesota.org
SUMMARY:Pancake Breakfast! First Saturday every month
DESCRIPTION:Pancakes\, bacon\, sausage breakfast\nFree event. Donations accepted.\nFun & Fellowship
URL:https://naminnesota.org/event/pancake-breakfast-first-saturday-every-month/2030-08-03/
ATTACH;FMTTYPE=image/png:https://naminnesota.org/wp-content/uploads/2026/01/6204893025775230678.png
END:VEVENT
BEGIN:VEVENT
DTSTART;TZID=America/Chicago:20300817T170000
DTEND;TZID=America/Chicago:20300817T210000
DTSTAMP:20260422T220814
CREATED:20260313T145024Z
LAST-MODIFIED:20260313T145024Z
UID:10001191-1913216400-1913230800@naminnesota.org
SUMMARY:Recovery Game Night
DESCRIPTION:WAHA is hosting a monthly Recovery Game Night! \n3rd Saturday of every month\, 5PM-9PM\nLocation is at Common Ground Church in Cambridge. \nThis is a FREE event\, open to ALL!\nKids and families welcome! \nPotluck! Bring a dish to share.\nBring a game to play! \nBring a friend. Build community. In Recovery. \nContact Paul M 612-791-1288 for more info.
URL:https://naminnesota.org/event/recovery-game-night/2030-08-17/
LOCATION:Common Ground Church\, Cambridge 55008\, 404 Cypress St N\, Cambridge\, MN\, 55008\, United States
CATEGORIES:We Are Here
ATTACH;FMTTYPE=image/jpeg:https://naminnesota.org/wp-content/uploads/2026/03/1000005391.jpg
ORGANIZER;CN="Wee Are Here Area":MAILTO:ardnasknip@gmail.com
END:VEVENT
BEGIN:VEVENT
DTSTART;TZID=America/Chicago:20300907T090000
DTEND;TZID=America/Chicago:20300907T120000
DTSTAMP:20260422T220814
CREATED:20260122T003931Z
LAST-MODIFIED:20260122T004006Z
UID:10001113-1915002000-1915012800@naminnesota.org
SUMMARY:Pancake Breakfast! First Saturday every month
DESCRIPTION:Pancakes\, bacon\, sausage breakfast\nFree event. Donations accepted.\nFun & Fellowship
URL:https://naminnesota.org/event/pancake-breakfast-first-saturday-every-month/2030-09-07/
ATTACH;FMTTYPE=image/png:https://naminnesota.org/wp-content/uploads/2026/01/6204893025775230678.png
END:VEVENT
BEGIN:VEVENT
DTSTART;TZID=America/Chicago:20300921T170000
DTEND;TZID=America/Chicago:20300921T210000
DTSTAMP:20260422T220814
CREATED:20260313T145024Z
LAST-MODIFIED:20260313T145024Z
UID:10001192-1916240400-1916254800@naminnesota.org
SUMMARY:Recovery Game Night
DESCRIPTION:WAHA is hosting a monthly Recovery Game Night! \n3rd Saturday of every month\, 5PM-9PM\nLocation is at Common Ground Church in Cambridge. \nThis is a FREE event\, open to ALL!\nKids and families welcome! \nPotluck! Bring a dish to share.\nBring a game to play! \nBring a friend. Build community. In Recovery. \nContact Paul M 612-791-1288 for more info.
URL:https://naminnesota.org/event/recovery-game-night/2030-09-21/
LOCATION:Common Ground Church\, Cambridge 55008\, 404 Cypress St N\, Cambridge\, MN\, 55008\, United States
CATEGORIES:We Are Here
ATTACH;FMTTYPE=image/jpeg:https://naminnesota.org/wp-content/uploads/2026/03/1000005391.jpg
ORGANIZER;CN="Wee Are Here Area":MAILTO:ardnasknip@gmail.com
END:VEVENT
BEGIN:VEVENT
DTSTART;TZID=America/Chicago:20301005T090000
DTEND;TZID=America/Chicago:20301005T120000
DTSTAMP:20260422T220814
CREATED:20260122T003931Z
LAST-MODIFIED:20260122T004006Z
UID:10001114-1917421200-1917432000@naminnesota.org
SUMMARY:Pancake Breakfast! First Saturday every month
DESCRIPTION:Pancakes\, bacon\, sausage breakfast\nFree event. Donations accepted.\nFun & Fellowship
URL:https://naminnesota.org/event/pancake-breakfast-first-saturday-every-month/2030-10-05/
ATTACH;FMTTYPE=image/png:https://naminnesota.org/wp-content/uploads/2026/01/6204893025775230678.png
END:VEVENT
BEGIN:VEVENT
DTSTART;TZID=America/Chicago:20301019T170000
DTEND;TZID=America/Chicago:20301019T210000
DTSTAMP:20260422T220814
CREATED:20260313T145024Z
LAST-MODIFIED:20260313T145024Z
UID:10001193-1918659600-1918674000@naminnesota.org
SUMMARY:Recovery Game Night
DESCRIPTION:WAHA is hosting a monthly Recovery Game Night! \n3rd Saturday of every month\, 5PM-9PM\nLocation is at Common Ground Church in Cambridge. \nThis is a FREE event\, open to ALL!\nKids and families welcome! \nPotluck! Bring a dish to share.\nBring a game to play! \nBring a friend. Build community. In Recovery. \nContact Paul M 612-791-1288 for more info.
URL:https://naminnesota.org/event/recovery-game-night/2030-10-19/
LOCATION:Common Ground Church\, Cambridge 55008\, 404 Cypress St N\, Cambridge\, MN\, 55008\, United States
CATEGORIES:We Are Here
ATTACH;FMTTYPE=image/jpeg:https://naminnesota.org/wp-content/uploads/2026/03/1000005391.jpg
ORGANIZER;CN="Wee Are Here Area":MAILTO:ardnasknip@gmail.com
END:VEVENT
BEGIN:VEVENT
DTSTART;TZID=America/Chicago:20301102T090000
DTEND;TZID=America/Chicago:20301102T120000
DTSTAMP:20260422T220814
CREATED:20260122T003931Z
LAST-MODIFIED:20260122T004006Z
UID:10001115-1919840400-1919851200@naminnesota.org
SUMMARY:Pancake Breakfast! First Saturday every month
DESCRIPTION:Pancakes\, bacon\, sausage breakfast\nFree event. Donations accepted.\nFun & Fellowship
URL:https://naminnesota.org/event/pancake-breakfast-first-saturday-every-month/2030-11-02/
ATTACH;FMTTYPE=image/png:https://naminnesota.org/wp-content/uploads/2026/01/6204893025775230678.png
END:VEVENT
BEGIN:VEVENT
DTSTART;TZID=America/Chicago:20301116T170000
DTEND;TZID=America/Chicago:20301116T210000
DTSTAMP:20260422T220814
CREATED:20260313T145024Z
LAST-MODIFIED:20260313T145024Z
UID:10001194-1921078800-1921093200@naminnesota.org
SUMMARY:Recovery Game Night
DESCRIPTION:WAHA is hosting a monthly Recovery Game Night! \n3rd Saturday of every month\, 5PM-9PM\nLocation is at Common Ground Church in Cambridge. \nThis is a FREE event\, open to ALL!\nKids and families welcome! \nPotluck! Bring a dish to share.\nBring a game to play! \nBring a friend. Build community. In Recovery. \nContact Paul M 612-791-1288 for more info.
URL:https://naminnesota.org/event/recovery-game-night/2030-11-16/
LOCATION:Common Ground Church\, Cambridge 55008\, 404 Cypress St N\, Cambridge\, MN\, 55008\, United States
CATEGORIES:We Are Here
ATTACH;FMTTYPE=image/jpeg:https://naminnesota.org/wp-content/uploads/2026/03/1000005391.jpg
ORGANIZER;CN="Wee Are Here Area":MAILTO:ardnasknip@gmail.com
END:VEVENT
BEGIN:VEVENT
DTSTART;TZID=America/Chicago:20301207T090000
DTEND;TZID=America/Chicago:20301207T120000
DTSTAMP:20260422T220814
CREATED:20260122T003931Z
LAST-MODIFIED:20260122T004006Z
UID:10001116-1922864400-1922875200@naminnesota.org
SUMMARY:Pancake Breakfast! First Saturday every month
DESCRIPTION:Pancakes\, bacon\, sausage breakfast\nFree event. Donations accepted.\nFun & Fellowship
URL:https://naminnesota.org/event/pancake-breakfast-first-saturday-every-month/2030-12-07/
ATTACH;FMTTYPE=image/png:https://naminnesota.org/wp-content/uploads/2026/01/6204893025775230678.png
END:VEVENT
BEGIN:VEVENT
DTSTART;TZID=America/Chicago:20301221T170000
DTEND;TZID=America/Chicago:20301221T210000
DTSTAMP:20260422T220814
CREATED:20260313T145024Z
LAST-MODIFIED:20260313T145024Z
UID:10001195-1924102800-1924117200@naminnesota.org
SUMMARY:Recovery Game Night
DESCRIPTION:WAHA is hosting a monthly Recovery Game Night! \n3rd Saturday of every month\, 5PM-9PM\nLocation is at Common Ground Church in Cambridge. \nThis is a FREE event\, open to ALL!\nKids and families welcome! \nPotluck! Bring a dish to share.\nBring a game to play! \nBring a friend. Build community. In Recovery. \nContact Paul M 612-791-1288 for more info.
URL:https://naminnesota.org/event/recovery-game-night/2030-12-21/
LOCATION:Common Ground Church\, Cambridge 55008\, 404 Cypress St N\, Cambridge\, MN\, 55008\, United States
CATEGORIES:We Are Here
ATTACH;FMTTYPE=image/jpeg:https://naminnesota.org/wp-content/uploads/2026/03/1000005391.jpg
ORGANIZER;CN="Wee Are Here Area":MAILTO:ardnasknip@gmail.com
END:VEVENT
BEGIN:VEVENT
DTSTART;TZID=America/Chicago:20310104T090000
DTEND;TZID=America/Chicago:20310104T120000
DTSTAMP:20260422T220814
CREATED:20260122T003931Z
LAST-MODIFIED:20260122T004006Z
UID:10001117-1925283600-1925294400@naminnesota.org
SUMMARY:Pancake Breakfast! First Saturday every month
DESCRIPTION:Pancakes\, bacon\, sausage breakfast\nFree event. Donations accepted.\nFun & Fellowship
URL:https://naminnesota.org/event/pancake-breakfast-first-saturday-every-month/2031-01-04/
ATTACH;FMTTYPE=image/png:https://naminnesota.org/wp-content/uploads/2026/01/6204893025775230678.png
END:VEVENT
BEGIN:VEVENT
DTSTART;TZID=America/Chicago:20310118T170000
DTEND;TZID=America/Chicago:20310118T210000
DTSTAMP:20260422T220814
CREATED:20260313T145024Z
LAST-MODIFIED:20260313T145024Z
UID:10001196-1926522000-1926536400@naminnesota.org
SUMMARY:Recovery Game Night
DESCRIPTION:WAHA is hosting a monthly Recovery Game Night! \n3rd Saturday of every month\, 5PM-9PM\nLocation is at Common Ground Church in Cambridge. \nThis is a FREE event\, open to ALL!\nKids and families welcome! \nPotluck! Bring a dish to share.\nBring a game to play! \nBring a friend. Build community. In Recovery. \nContact Paul M 612-791-1288 for more info.
URL:https://naminnesota.org/event/recovery-game-night/2031-01-18/
LOCATION:Common Ground Church\, Cambridge 55008\, 404 Cypress St N\, Cambridge\, MN\, 55008\, United States
CATEGORIES:We Are Here
ATTACH;FMTTYPE=image/jpeg:https://naminnesota.org/wp-content/uploads/2026/03/1000005391.jpg
ORGANIZER;CN="Wee Are Here Area":MAILTO:ardnasknip@gmail.com
END:VEVENT
BEGIN:VEVENT
DTSTART;TZID=America/Chicago:20310201T090000
DTEND;TZID=America/Chicago:20310201T120000
DTSTAMP:20260422T220814
CREATED:20260122T003931Z
LAST-MODIFIED:20260122T004006Z
UID:10001260-1927702800-1927713600@naminnesota.org
SUMMARY:Pancake Breakfast! First Saturday every month
DESCRIPTION:Pancakes\, bacon\, sausage breakfast\nFree event. Donations accepted.\nFun & Fellowship
URL:https://naminnesota.org/event/pancake-breakfast-first-saturday-every-month/2031-02-01/
ATTACH;FMTTYPE=image/png:https://naminnesota.org/wp-content/uploads/2026/01/6204893025775230678.png
END:VEVENT
BEGIN:VEVENT
DTSTART;TZID=America/Chicago:20310215T170000
DTEND;TZID=America/Chicago:20310215T210000
DTSTAMP:20260422T220814
CREATED:20260313T145024Z
LAST-MODIFIED:20260313T145024Z
UID:10001197-1928941200-1928955600@naminnesota.org
SUMMARY:Recovery Game Night
DESCRIPTION:WAHA is hosting a monthly Recovery Game Night! \n3rd Saturday of every month\, 5PM-9PM\nLocation is at Common Ground Church in Cambridge. \nThis is a FREE event\, open to ALL!\nKids and families welcome! \nPotluck! Bring a dish to share.\nBring a game to play! \nBring a friend. Build community. In Recovery. \nContact Paul M 612-791-1288 for more info.
URL:https://naminnesota.org/event/recovery-game-night/2031-02-15/
LOCATION:Common Ground Church\, Cambridge 55008\, 404 Cypress St N\, Cambridge\, MN\, 55008\, United States
CATEGORIES:We Are Here
ATTACH;FMTTYPE=image/jpeg:https://naminnesota.org/wp-content/uploads/2026/03/1000005391.jpg
ORGANIZER;CN="Wee Are Here Area":MAILTO:ardnasknip@gmail.com
END:VEVENT
BEGIN:VEVENT
DTSTART;TZID=America/Chicago:20310301T090000
DTEND;TZID=America/Chicago:20310301T120000
DTSTAMP:20260422T220814
CREATED:20260122T003931Z
LAST-MODIFIED:20260122T004006Z
UID:10001261-1930122000-1930132800@naminnesota.org
SUMMARY:Pancake Breakfast! First Saturday every month
DESCRIPTION:Pancakes\, bacon\, sausage breakfast\nFree event. Donations accepted.\nFun & Fellowship
URL:https://naminnesota.org/event/pancake-breakfast-first-saturday-every-month/2031-03-01/
ATTACH;FMTTYPE=image/png:https://naminnesota.org/wp-content/uploads/2026/01/6204893025775230678.png
END:VEVENT
BEGIN:VEVENT
DTSTART;TZID=America/Chicago:20310315T170000
DTEND;TZID=America/Chicago:20310315T210000
DTSTAMP:20260422T220814
CREATED:20260313T145024Z
LAST-MODIFIED:20260313T145024Z
UID:10001280-1931360400-1931374800@naminnesota.org
SUMMARY:Recovery Game Night
DESCRIPTION:WAHA is hosting a monthly Recovery Game Night! \n3rd Saturday of every month\, 5PM-9PM\nLocation is at Common Ground Church in Cambridge. \nThis is a FREE event\, open to ALL!\nKids and families welcome! \nPotluck! Bring a dish to share.\nBring a game to play! \nBring a friend. Build community. In Recovery. \nContact Paul M 612-791-1288 for more info.
URL:https://naminnesota.org/event/recovery-game-night/2031-03-15/
LOCATION:Common Ground Church\, Cambridge 55008\, 404 Cypress St N\, Cambridge\, MN\, 55008\, United States
CATEGORIES:We Are Here
ATTACH;FMTTYPE=image/jpeg:https://naminnesota.org/wp-content/uploads/2026/03/1000005391.jpg
ORGANIZER;CN="Wee Are Here Area":MAILTO:ardnasknip@gmail.com
END:VEVENT
BEGIN:VEVENT
DTSTART;TZID=America/Chicago:20310405T090000
DTEND;TZID=America/Chicago:20310405T120000
DTSTAMP:20260422T220814
CREATED:20260122T003931Z
LAST-MODIFIED:20260122T004006Z
UID:10001271-1933146000-1933156800@naminnesota.org
SUMMARY:Pancake Breakfast! First Saturday every month
DESCRIPTION:Pancakes\, bacon\, sausage breakfast\nFree event. Donations accepted.\nFun & Fellowship
URL:https://naminnesota.org/event/pancake-breakfast-first-saturday-every-month/2031-04-05/
ATTACH;FMTTYPE=image/png:https://naminnesota.org/wp-content/uploads/2026/01/6204893025775230678.png
END:VEVENT
END:VCALENDAR