BEGIN:VCALENDAR
VERSION:2.0
PRODID:-//Minnesota Region of Narcotics Anonymous - ECPv6.15.20//NONSGML v1.0//EN
CALSCALE:GREGORIAN
METHOD:PUBLISH
X-WR-CALNAME:Minnesota Region of Narcotics Anonymous
X-ORIGINAL-URL:https://naminnesota.org
X-WR-CALDESC:Events for Minnesota Region of Narcotics Anonymous
REFRESH-INTERVAL;VALUE=DURATION:PT1H
X-Robots-Tag:noindex
X-PUBLISHED-TTL:PT1H
BEGIN:VTIMEZONE
TZID:America/Chicago
BEGIN:DAYLIGHT
TZOFFSETFROM:-0600
TZOFFSETTO:-0500
TZNAME:CDT
DTSTART:20260308T080000
END:DAYLIGHT
BEGIN:STANDARD
TZOFFSETFROM:-0500
TZOFFSETTO:-0600
TZNAME:CST
DTSTART:20261101T070000
END:STANDARD
BEGIN:DAYLIGHT
TZOFFSETFROM:-0600
TZOFFSETTO:-0500
TZNAME:CDT
DTSTART:20270314T080000
END:DAYLIGHT
BEGIN:STANDARD
TZOFFSETFROM:-0500
TZOFFSETTO:-0600
TZNAME:CST
DTSTART:20271107T070000
END:STANDARD
BEGIN:DAYLIGHT
TZOFFSETFROM:-0600
TZOFFSETTO:-0500
TZNAME:CDT
DTSTART:20280312T080000
END:DAYLIGHT
BEGIN:STANDARD
TZOFFSETFROM:-0500
TZOFFSETTO:-0600
TZNAME:CST
DTSTART:20281105T070000
END:STANDARD
BEGIN:DAYLIGHT
TZOFFSETFROM:-0600
TZOFFSETTO:-0500
TZNAME:CDT
DTSTART:20290311T080000
END:DAYLIGHT
BEGIN:STANDARD
TZOFFSETFROM:-0500
TZOFFSETTO:-0600
TZNAME:CST
DTSTART:20291104T070000
END:STANDARD
BEGIN:DAYLIGHT
TZOFFSETFROM:-0600
TZOFFSETTO:-0500
TZNAME:CDT
DTSTART:20300310T080000
END:DAYLIGHT
BEGIN:STANDARD
TZOFFSETFROM:-0500
TZOFFSETTO:-0600
TZNAME:CST
DTSTART:20301103T070000
END:STANDARD
END:VTIMEZONE
BEGIN:VEVENT
DTSTART;TZID=America/Chicago:20271218T170000
DTEND;TZID=America/Chicago:20271218T210000
DTSTAMP:20260423T003003
CREATED:20260313T145024Z
LAST-MODIFIED:20260313T145024Z
UID:10001159-1829149200-1829163600@naminnesota.org
SUMMARY:Recovery Game Night
DESCRIPTION:WAHA is hosting a monthly Recovery Game Night! \n3rd Saturday of every month\, 5PM-9PM\nLocation is at Common Ground Church in Cambridge. \nThis is a FREE event\, open to ALL!\nKids and families welcome! \nPotluck! Bring a dish to share.\nBring a game to play! \nBring a friend. Build community. In Recovery. \nContact Paul M 612-791-1288 for more info.
URL:https://naminnesota.org/event/recovery-game-night/2027-12-18/
LOCATION:Common Ground Church\, Cambridge 55008\, 404 Cypress St N\, Cambridge\, MN\, 55008\, United States
CATEGORIES:We Are Here
ATTACH;FMTTYPE=image/jpeg:https://naminnesota.org/wp-content/uploads/2026/03/1000005391.jpg
ORGANIZER;CN="Wee Are Here Area":MAILTO:ardnasknip@gmail.com
END:VEVENT
BEGIN:VEVENT
DTSTART;TZID=America/Chicago:20280101T090000
DTEND;TZID=America/Chicago:20280101T120000
DTSTAMP:20260423T003003
CREATED:20260122T003931Z
LAST-MODIFIED:20260122T004006Z
UID:10001081-1830330000-1830340800@naminnesota.org
SUMMARY:Pancake Breakfast! First Saturday every month
DESCRIPTION:Pancakes\, bacon\, sausage breakfast\nFree event. Donations accepted.\nFun & Fellowship
URL:https://naminnesota.org/event/pancake-breakfast-first-saturday-every-month/2028-01-01/
LOCATION:MN
ATTACH;FMTTYPE=image/png:https://naminnesota.org/wp-content/uploads/2026/01/6204893025775230678.png
END:VEVENT
BEGIN:VEVENT
DTSTART;TZID=America/Chicago:20280115T170000
DTEND;TZID=America/Chicago:20280115T210000
DTSTAMP:20260423T003003
CREATED:20260313T145024Z
LAST-MODIFIED:20260313T145024Z
UID:10001160-1831568400-1831582800@naminnesota.org
SUMMARY:Recovery Game Night
DESCRIPTION:WAHA is hosting a monthly Recovery Game Night! \n3rd Saturday of every month\, 5PM-9PM\nLocation is at Common Ground Church in Cambridge. \nThis is a FREE event\, open to ALL!\nKids and families welcome! \nPotluck! Bring a dish to share.\nBring a game to play! \nBring a friend. Build community. In Recovery. \nContact Paul M 612-791-1288 for more info.
URL:https://naminnesota.org/event/recovery-game-night/2028-01-15/
LOCATION:Common Ground Church\, Cambridge 55008\, 404 Cypress St N\, Cambridge\, MN\, 55008\, United States
CATEGORIES:We Are Here
ATTACH;FMTTYPE=image/jpeg:https://naminnesota.org/wp-content/uploads/2026/03/1000005391.jpg
ORGANIZER;CN="Wee Are Here Area":MAILTO:ardnasknip@gmail.com
END:VEVENT
BEGIN:VEVENT
DTSTART;TZID=America/Chicago:20280205T090000
DTEND;TZID=America/Chicago:20280205T120000
DTSTAMP:20260423T003003
CREATED:20260122T003931Z
LAST-MODIFIED:20260122T004006Z
UID:10001082-1833354000-1833364800@naminnesota.org
SUMMARY:Pancake Breakfast! First Saturday every month
DESCRIPTION:Pancakes\, bacon\, sausage breakfast\nFree event. Donations accepted.\nFun & Fellowship
URL:https://naminnesota.org/event/pancake-breakfast-first-saturday-every-month/2028-02-05/
LOCATION:MN
ATTACH;FMTTYPE=image/png:https://naminnesota.org/wp-content/uploads/2026/01/6204893025775230678.png
END:VEVENT
BEGIN:VEVENT
DTSTART;TZID=America/Chicago:20280219T170000
DTEND;TZID=America/Chicago:20280219T210000
DTSTAMP:20260423T003003
CREATED:20260313T145024Z
LAST-MODIFIED:20260313T145024Z
UID:10001161-1834592400-1834606800@naminnesota.org
SUMMARY:Recovery Game Night
DESCRIPTION:WAHA is hosting a monthly Recovery Game Night! \n3rd Saturday of every month\, 5PM-9PM\nLocation is at Common Ground Church in Cambridge. \nThis is a FREE event\, open to ALL!\nKids and families welcome! \nPotluck! Bring a dish to share.\nBring a game to play! \nBring a friend. Build community. In Recovery. \nContact Paul M 612-791-1288 for more info.
URL:https://naminnesota.org/event/recovery-game-night/2028-02-19/
LOCATION:Common Ground Church\, Cambridge 55008\, 404 Cypress St N\, Cambridge\, MN\, 55008\, United States
CATEGORIES:We Are Here
ATTACH;FMTTYPE=image/jpeg:https://naminnesota.org/wp-content/uploads/2026/03/1000005391.jpg
ORGANIZER;CN="Wee Are Here Area":MAILTO:ardnasknip@gmail.com
END:VEVENT
BEGIN:VEVENT
DTSTART;TZID=America/Chicago:20280304T090000
DTEND;TZID=America/Chicago:20280304T120000
DTSTAMP:20260423T003003
CREATED:20260122T003931Z
LAST-MODIFIED:20260122T004006Z
UID:10001083-1835773200-1835784000@naminnesota.org
SUMMARY:Pancake Breakfast! First Saturday every month
DESCRIPTION:Pancakes\, bacon\, sausage breakfast\nFree event. Donations accepted.\nFun & Fellowship
URL:https://naminnesota.org/event/pancake-breakfast-first-saturday-every-month/2028-03-04/
LOCATION:MN
ATTACH;FMTTYPE=image/png:https://naminnesota.org/wp-content/uploads/2026/01/6204893025775230678.png
END:VEVENT
BEGIN:VEVENT
DTSTART;TZID=America/Chicago:20280318T170000
DTEND;TZID=America/Chicago:20280318T210000
DTSTAMP:20260423T003003
CREATED:20260313T145024Z
LAST-MODIFIED:20260313T145024Z
UID:10001162-1837011600-1837026000@naminnesota.org
SUMMARY:Recovery Game Night
DESCRIPTION:WAHA is hosting a monthly Recovery Game Night! \n3rd Saturday of every month\, 5PM-9PM\nLocation is at Common Ground Church in Cambridge. \nThis is a FREE event\, open to ALL!\nKids and families welcome! \nPotluck! Bring a dish to share.\nBring a game to play! \nBring a friend. Build community. In Recovery. \nContact Paul M 612-791-1288 for more info.
URL:https://naminnesota.org/event/recovery-game-night/2028-03-18/
LOCATION:Common Ground Church\, Cambridge 55008\, 404 Cypress St N\, Cambridge\, MN\, 55008\, United States
CATEGORIES:We Are Here
ATTACH;FMTTYPE=image/jpeg:https://naminnesota.org/wp-content/uploads/2026/03/1000005391.jpg
ORGANIZER;CN="Wee Are Here Area":MAILTO:ardnasknip@gmail.com
END:VEVENT
BEGIN:VEVENT
DTSTART;TZID=America/Chicago:20280401T090000
DTEND;TZID=America/Chicago:20280401T120000
DTSTAMP:20260423T003003
CREATED:20260122T003931Z
LAST-MODIFIED:20260122T004006Z
UID:10001084-1838192400-1838203200@naminnesota.org
SUMMARY:Pancake Breakfast! First Saturday every month
DESCRIPTION:Pancakes\, bacon\, sausage breakfast\nFree event. Donations accepted.\nFun & Fellowship
URL:https://naminnesota.org/event/pancake-breakfast-first-saturday-every-month/2028-04-01/
LOCATION:MN
ATTACH;FMTTYPE=image/png:https://naminnesota.org/wp-content/uploads/2026/01/6204893025775230678.png
END:VEVENT
BEGIN:VEVENT
DTSTART;TZID=America/Chicago:20280415T170000
DTEND;TZID=America/Chicago:20280415T210000
DTSTAMP:20260423T003003
CREATED:20260313T145024Z
LAST-MODIFIED:20260313T145024Z
UID:10001163-1839430800-1839445200@naminnesota.org
SUMMARY:Recovery Game Night
DESCRIPTION:WAHA is hosting a monthly Recovery Game Night! \n3rd Saturday of every month\, 5PM-9PM\nLocation is at Common Ground Church in Cambridge. \nThis is a FREE event\, open to ALL!\nKids and families welcome! \nPotluck! Bring a dish to share.\nBring a game to play! \nBring a friend. Build community. In Recovery. \nContact Paul M 612-791-1288 for more info.
URL:https://naminnesota.org/event/recovery-game-night/2028-04-15/
LOCATION:Common Ground Church\, Cambridge 55008\, 404 Cypress St N\, Cambridge\, MN\, 55008\, United States
CATEGORIES:We Are Here
ATTACH;FMTTYPE=image/jpeg:https://naminnesota.org/wp-content/uploads/2026/03/1000005391.jpg
ORGANIZER;CN="Wee Are Here Area":MAILTO:ardnasknip@gmail.com
END:VEVENT
BEGIN:VEVENT
DTSTART;TZID=America/Chicago:20280506T090000
DTEND;TZID=America/Chicago:20280506T120000
DTSTAMP:20260423T003003
CREATED:20260122T003931Z
LAST-MODIFIED:20260122T004006Z
UID:10001085-1841216400-1841227200@naminnesota.org
SUMMARY:Pancake Breakfast! First Saturday every month
DESCRIPTION:Pancakes\, bacon\, sausage breakfast\nFree event. Donations accepted.\nFun & Fellowship
URL:https://naminnesota.org/event/pancake-breakfast-first-saturday-every-month/2028-05-06/
LOCATION:MN
ATTACH;FMTTYPE=image/png:https://naminnesota.org/wp-content/uploads/2026/01/6204893025775230678.png
END:VEVENT
BEGIN:VEVENT
DTSTART;TZID=America/Chicago:20280520T170000
DTEND;TZID=America/Chicago:20280520T210000
DTSTAMP:20260423T003003
CREATED:20260313T145024Z
LAST-MODIFIED:20260313T145024Z
UID:10001164-1842454800-1842469200@naminnesota.org
SUMMARY:Recovery Game Night
DESCRIPTION:WAHA is hosting a monthly Recovery Game Night! \n3rd Saturday of every month\, 5PM-9PM\nLocation is at Common Ground Church in Cambridge. \nThis is a FREE event\, open to ALL!\nKids and families welcome! \nPotluck! Bring a dish to share.\nBring a game to play! \nBring a friend. Build community. In Recovery. \nContact Paul M 612-791-1288 for more info.
URL:https://naminnesota.org/event/recovery-game-night/2028-05-20/
LOCATION:Common Ground Church\, Cambridge 55008\, 404 Cypress St N\, Cambridge\, MN\, 55008\, United States
CATEGORIES:We Are Here
ATTACH;FMTTYPE=image/jpeg:https://naminnesota.org/wp-content/uploads/2026/03/1000005391.jpg
ORGANIZER;CN="Wee Are Here Area":MAILTO:ardnasknip@gmail.com
END:VEVENT
BEGIN:VEVENT
DTSTART;TZID=America/Chicago:20280603T090000
DTEND;TZID=America/Chicago:20280603T120000
DTSTAMP:20260423T003003
CREATED:20260122T003931Z
LAST-MODIFIED:20260122T004006Z
UID:10001086-1843635600-1843646400@naminnesota.org
SUMMARY:Pancake Breakfast! First Saturday every month
DESCRIPTION:Pancakes\, bacon\, sausage breakfast\nFree event. Donations accepted.\nFun & Fellowship
URL:https://naminnesota.org/event/pancake-breakfast-first-saturday-every-month/2028-06-03/
LOCATION:MN
ATTACH;FMTTYPE=image/png:https://naminnesota.org/wp-content/uploads/2026/01/6204893025775230678.png
END:VEVENT
BEGIN:VEVENT
DTSTART;TZID=America/Chicago:20280617T170000
DTEND;TZID=America/Chicago:20280617T210000
DTSTAMP:20260423T003003
CREATED:20260313T145024Z
LAST-MODIFIED:20260313T145024Z
UID:10001165-1844874000-1844888400@naminnesota.org
SUMMARY:Recovery Game Night
DESCRIPTION:WAHA is hosting a monthly Recovery Game Night! \n3rd Saturday of every month\, 5PM-9PM\nLocation is at Common Ground Church in Cambridge. \nThis is a FREE event\, open to ALL!\nKids and families welcome! \nPotluck! Bring a dish to share.\nBring a game to play! \nBring a friend. Build community. In Recovery. \nContact Paul M 612-791-1288 for more info.
URL:https://naminnesota.org/event/recovery-game-night/2028-06-17/
LOCATION:Common Ground Church\, Cambridge 55008\, 404 Cypress St N\, Cambridge\, MN\, 55008\, United States
CATEGORIES:We Are Here
ATTACH;FMTTYPE=image/jpeg:https://naminnesota.org/wp-content/uploads/2026/03/1000005391.jpg
ORGANIZER;CN="Wee Are Here Area":MAILTO:ardnasknip@gmail.com
END:VEVENT
BEGIN:VEVENT
DTSTART;TZID=America/Chicago:20280701T090000
DTEND;TZID=America/Chicago:20280701T120000
DTSTAMP:20260423T003003
CREATED:20260122T003931Z
LAST-MODIFIED:20260122T004006Z
UID:10001087-1846054800-1846065600@naminnesota.org
SUMMARY:Pancake Breakfast! First Saturday every month
DESCRIPTION:Pancakes\, bacon\, sausage breakfast\nFree event. Donations accepted.\nFun & Fellowship
URL:https://naminnesota.org/event/pancake-breakfast-first-saturday-every-month/2028-07-01/
LOCATION:MN
ATTACH;FMTTYPE=image/png:https://naminnesota.org/wp-content/uploads/2026/01/6204893025775230678.png
END:VEVENT
BEGIN:VEVENT
DTSTART;TZID=America/Chicago:20280715T170000
DTEND;TZID=America/Chicago:20280715T210000
DTSTAMP:20260423T003003
CREATED:20260313T145024Z
LAST-MODIFIED:20260313T145024Z
UID:10001166-1847293200-1847307600@naminnesota.org
SUMMARY:Recovery Game Night
DESCRIPTION:WAHA is hosting a monthly Recovery Game Night! \n3rd Saturday of every month\, 5PM-9PM\nLocation is at Common Ground Church in Cambridge. \nThis is a FREE event\, open to ALL!\nKids and families welcome! \nPotluck! Bring a dish to share.\nBring a game to play! \nBring a friend. Build community. In Recovery. \nContact Paul M 612-791-1288 for more info.
URL:https://naminnesota.org/event/recovery-game-night/2028-07-15/
LOCATION:Common Ground Church\, Cambridge 55008\, 404 Cypress St N\, Cambridge\, MN\, 55008\, United States
CATEGORIES:We Are Here
ATTACH;FMTTYPE=image/jpeg:https://naminnesota.org/wp-content/uploads/2026/03/1000005391.jpg
ORGANIZER;CN="Wee Are Here Area":MAILTO:ardnasknip@gmail.com
END:VEVENT
BEGIN:VEVENT
DTSTART;TZID=America/Chicago:20280805T090000
DTEND;TZID=America/Chicago:20280805T120000
DTSTAMP:20260423T003003
CREATED:20260122T003931Z
LAST-MODIFIED:20260122T004006Z
UID:10001088-1849078800-1849089600@naminnesota.org
SUMMARY:Pancake Breakfast! First Saturday every month
DESCRIPTION:Pancakes\, bacon\, sausage breakfast\nFree event. Donations accepted.\nFun & Fellowship
URL:https://naminnesota.org/event/pancake-breakfast-first-saturday-every-month/2028-08-05/
LOCATION:MN
ATTACH;FMTTYPE=image/png:https://naminnesota.org/wp-content/uploads/2026/01/6204893025775230678.png
END:VEVENT
BEGIN:VEVENT
DTSTART;TZID=America/Chicago:20280819T170000
DTEND;TZID=America/Chicago:20280819T210000
DTSTAMP:20260423T003003
CREATED:20260313T145024Z
LAST-MODIFIED:20260313T145024Z
UID:10001167-1850317200-1850331600@naminnesota.org
SUMMARY:Recovery Game Night
DESCRIPTION:WAHA is hosting a monthly Recovery Game Night! \n3rd Saturday of every month\, 5PM-9PM\nLocation is at Common Ground Church in Cambridge. \nThis is a FREE event\, open to ALL!\nKids and families welcome! \nPotluck! Bring a dish to share.\nBring a game to play! \nBring a friend. Build community. In Recovery. \nContact Paul M 612-791-1288 for more info.
URL:https://naminnesota.org/event/recovery-game-night/2028-08-19/
LOCATION:Common Ground Church\, Cambridge 55008\, 404 Cypress St N\, Cambridge\, MN\, 55008\, United States
CATEGORIES:We Are Here
ATTACH;FMTTYPE=image/jpeg:https://naminnesota.org/wp-content/uploads/2026/03/1000005391.jpg
ORGANIZER;CN="Wee Are Here Area":MAILTO:ardnasknip@gmail.com
END:VEVENT
BEGIN:VEVENT
DTSTART;TZID=America/Chicago:20280902T090000
DTEND;TZID=America/Chicago:20280902T120000
DTSTAMP:20260423T003003
CREATED:20260122T003931Z
LAST-MODIFIED:20260122T004006Z
UID:10001089-1851498000-1851508800@naminnesota.org
SUMMARY:Pancake Breakfast! First Saturday every month
DESCRIPTION:Pancakes\, bacon\, sausage breakfast\nFree event. Donations accepted.\nFun & Fellowship
URL:https://naminnesota.org/event/pancake-breakfast-first-saturday-every-month/2028-09-02/
LOCATION:MN
ATTACH;FMTTYPE=image/png:https://naminnesota.org/wp-content/uploads/2026/01/6204893025775230678.png
END:VEVENT
BEGIN:VEVENT
DTSTART;TZID=America/Chicago:20280916T170000
DTEND;TZID=America/Chicago:20280916T210000
DTSTAMP:20260423T003003
CREATED:20260313T145024Z
LAST-MODIFIED:20260313T145024Z
UID:10001168-1852736400-1852750800@naminnesota.org
SUMMARY:Recovery Game Night
DESCRIPTION:WAHA is hosting a monthly Recovery Game Night! \n3rd Saturday of every month\, 5PM-9PM\nLocation is at Common Ground Church in Cambridge. \nThis is a FREE event\, open to ALL!\nKids and families welcome! \nPotluck! Bring a dish to share.\nBring a game to play! \nBring a friend. Build community. In Recovery. \nContact Paul M 612-791-1288 for more info.
URL:https://naminnesota.org/event/recovery-game-night/2028-09-16/
LOCATION:Common Ground Church\, Cambridge 55008\, 404 Cypress St N\, Cambridge\, MN\, 55008\, United States
CATEGORIES:We Are Here
ATTACH;FMTTYPE=image/jpeg:https://naminnesota.org/wp-content/uploads/2026/03/1000005391.jpg
ORGANIZER;CN="Wee Are Here Area":MAILTO:ardnasknip@gmail.com
END:VEVENT
BEGIN:VEVENT
DTSTART;TZID=America/Chicago:20281007T090000
DTEND;TZID=America/Chicago:20281007T120000
DTSTAMP:20260423T003003
CREATED:20260122T003931Z
LAST-MODIFIED:20260122T004006Z
UID:10001090-1854522000-1854532800@naminnesota.org
SUMMARY:Pancake Breakfast! First Saturday every month
DESCRIPTION:Pancakes\, bacon\, sausage breakfast\nFree event. Donations accepted.\nFun & Fellowship
URL:https://naminnesota.org/event/pancake-breakfast-first-saturday-every-month/2028-10-07/
LOCATION:MN
ATTACH;FMTTYPE=image/png:https://naminnesota.org/wp-content/uploads/2026/01/6204893025775230678.png
END:VEVENT
BEGIN:VEVENT
DTSTART;TZID=America/Chicago:20281021T170000
DTEND;TZID=America/Chicago:20281021T210000
DTSTAMP:20260423T003003
CREATED:20260313T145024Z
LAST-MODIFIED:20260313T145024Z
UID:10001169-1855760400-1855774800@naminnesota.org
SUMMARY:Recovery Game Night
DESCRIPTION:WAHA is hosting a monthly Recovery Game Night! \n3rd Saturday of every month\, 5PM-9PM\nLocation is at Common Ground Church in Cambridge. \nThis is a FREE event\, open to ALL!\nKids and families welcome! \nPotluck! Bring a dish to share.\nBring a game to play! \nBring a friend. Build community. In Recovery. \nContact Paul M 612-791-1288 for more info.
URL:https://naminnesota.org/event/recovery-game-night/2028-10-21/
LOCATION:Common Ground Church\, Cambridge 55008\, 404 Cypress St N\, Cambridge\, MN\, 55008\, United States
CATEGORIES:We Are Here
ATTACH;FMTTYPE=image/jpeg:https://naminnesota.org/wp-content/uploads/2026/03/1000005391.jpg
ORGANIZER;CN="Wee Are Here Area":MAILTO:ardnasknip@gmail.com
END:VEVENT
BEGIN:VEVENT
DTSTART;TZID=America/Chicago:20281104T090000
DTEND;TZID=America/Chicago:20281104T120000
DTSTAMP:20260423T003003
CREATED:20260122T003931Z
LAST-MODIFIED:20260122T004006Z
UID:10001091-1856941200-1856952000@naminnesota.org
SUMMARY:Pancake Breakfast! First Saturday every month
DESCRIPTION:Pancakes\, bacon\, sausage breakfast\nFree event. Donations accepted.\nFun & Fellowship
URL:https://naminnesota.org/event/pancake-breakfast-first-saturday-every-month/2028-11-04/
LOCATION:MN
ATTACH;FMTTYPE=image/png:https://naminnesota.org/wp-content/uploads/2026/01/6204893025775230678.png
END:VEVENT
BEGIN:VEVENT
DTSTART;TZID=America/Chicago:20281118T170000
DTEND;TZID=America/Chicago:20281118T210000
DTSTAMP:20260423T003003
CREATED:20260313T145024Z
LAST-MODIFIED:20260313T145024Z
UID:10001170-1858179600-1858194000@naminnesota.org
SUMMARY:Recovery Game Night
DESCRIPTION:WAHA is hosting a monthly Recovery Game Night! \n3rd Saturday of every month\, 5PM-9PM\nLocation is at Common Ground Church in Cambridge. \nThis is a FREE event\, open to ALL!\nKids and families welcome! \nPotluck! Bring a dish to share.\nBring a game to play! \nBring a friend. Build community. In Recovery. \nContact Paul M 612-791-1288 for more info.
URL:https://naminnesota.org/event/recovery-game-night/2028-11-18/
LOCATION:Common Ground Church\, Cambridge 55008\, 404 Cypress St N\, Cambridge\, MN\, 55008\, United States
CATEGORIES:We Are Here
ATTACH;FMTTYPE=image/jpeg:https://naminnesota.org/wp-content/uploads/2026/03/1000005391.jpg
ORGANIZER;CN="Wee Are Here Area":MAILTO:ardnasknip@gmail.com
END:VEVENT
BEGIN:VEVENT
DTSTART;TZID=America/Chicago:20281202T090000
DTEND;TZID=America/Chicago:20281202T120000
DTSTAMP:20260423T003003
CREATED:20260122T003931Z
LAST-MODIFIED:20260122T004006Z
UID:10001092-1859360400-1859371200@naminnesota.org
SUMMARY:Pancake Breakfast! First Saturday every month
DESCRIPTION:Pancakes\, bacon\, sausage breakfast\nFree event. Donations accepted.\nFun & Fellowship
URL:https://naminnesota.org/event/pancake-breakfast-first-saturday-every-month/2028-12-02/
LOCATION:MN
ATTACH;FMTTYPE=image/png:https://naminnesota.org/wp-content/uploads/2026/01/6204893025775230678.png
END:VEVENT
BEGIN:VEVENT
DTSTART;TZID=America/Chicago:20281216T170000
DTEND;TZID=America/Chicago:20281216T210000
DTSTAMP:20260423T003003
CREATED:20260313T145024Z
LAST-MODIFIED:20260313T145024Z
UID:10001171-1860598800-1860613200@naminnesota.org
SUMMARY:Recovery Game Night
DESCRIPTION:WAHA is hosting a monthly Recovery Game Night! \n3rd Saturday of every month\, 5PM-9PM\nLocation is at Common Ground Church in Cambridge. \nThis is a FREE event\, open to ALL!\nKids and families welcome! \nPotluck! Bring a dish to share.\nBring a game to play! \nBring a friend. Build community. In Recovery. \nContact Paul M 612-791-1288 for more info.
URL:https://naminnesota.org/event/recovery-game-night/2028-12-16/
LOCATION:Common Ground Church\, Cambridge 55008\, 404 Cypress St N\, Cambridge\, MN\, 55008\, United States
CATEGORIES:We Are Here
ATTACH;FMTTYPE=image/jpeg:https://naminnesota.org/wp-content/uploads/2026/03/1000005391.jpg
ORGANIZER;CN="Wee Are Here Area":MAILTO:ardnasknip@gmail.com
END:VEVENT
BEGIN:VEVENT
DTSTART;TZID=America/Chicago:20290106T090000
DTEND;TZID=America/Chicago:20290106T120000
DTSTAMP:20260423T003003
CREATED:20260122T003931Z
LAST-MODIFIED:20260122T004006Z
UID:10001093-1862384400-1862395200@naminnesota.org
SUMMARY:Pancake Breakfast! First Saturday every month
DESCRIPTION:Pancakes\, bacon\, sausage breakfast\nFree event. Donations accepted.\nFun & Fellowship
URL:https://naminnesota.org/event/pancake-breakfast-first-saturday-every-month/2029-01-06/
LOCATION:MN
ATTACH;FMTTYPE=image/png:https://naminnesota.org/wp-content/uploads/2026/01/6204893025775230678.png
END:VEVENT
BEGIN:VEVENT
DTSTART;TZID=America/Chicago:20290120T170000
DTEND;TZID=America/Chicago:20290120T210000
DTSTAMP:20260423T003003
CREATED:20260313T145024Z
LAST-MODIFIED:20260313T145024Z
UID:10001172-1863622800-1863637200@naminnesota.org
SUMMARY:Recovery Game Night
DESCRIPTION:WAHA is hosting a monthly Recovery Game Night! \n3rd Saturday of every month\, 5PM-9PM\nLocation is at Common Ground Church in Cambridge. \nThis is a FREE event\, open to ALL!\nKids and families welcome! \nPotluck! Bring a dish to share.\nBring a game to play! \nBring a friend. Build community. In Recovery. \nContact Paul M 612-791-1288 for more info.
URL:https://naminnesota.org/event/recovery-game-night/2029-01-20/
LOCATION:Common Ground Church\, Cambridge 55008\, 404 Cypress St N\, Cambridge\, MN\, 55008\, United States
CATEGORIES:We Are Here
ATTACH;FMTTYPE=image/jpeg:https://naminnesota.org/wp-content/uploads/2026/03/1000005391.jpg
ORGANIZER;CN="Wee Are Here Area":MAILTO:ardnasknip@gmail.com
END:VEVENT
BEGIN:VEVENT
DTSTART;TZID=America/Chicago:20290203T090000
DTEND;TZID=America/Chicago:20290203T120000
DTSTAMP:20260423T003003
CREATED:20260122T003931Z
LAST-MODIFIED:20260122T004006Z
UID:10001094-1864803600-1864814400@naminnesota.org
SUMMARY:Pancake Breakfast! First Saturday every month
DESCRIPTION:Pancakes\, bacon\, sausage breakfast\nFree event. Donations accepted.\nFun & Fellowship
URL:https://naminnesota.org/event/pancake-breakfast-first-saturday-every-month/2029-02-03/
LOCATION:MN
ATTACH;FMTTYPE=image/png:https://naminnesota.org/wp-content/uploads/2026/01/6204893025775230678.png
END:VEVENT
BEGIN:VEVENT
DTSTART;TZID=America/Chicago:20290217T170000
DTEND;TZID=America/Chicago:20290217T210000
DTSTAMP:20260423T003003
CREATED:20260313T145024Z
LAST-MODIFIED:20260313T145024Z
UID:10001173-1866042000-1866056400@naminnesota.org
SUMMARY:Recovery Game Night
DESCRIPTION:WAHA is hosting a monthly Recovery Game Night! \n3rd Saturday of every month\, 5PM-9PM\nLocation is at Common Ground Church in Cambridge. \nThis is a FREE event\, open to ALL!\nKids and families welcome! \nPotluck! Bring a dish to share.\nBring a game to play! \nBring a friend. Build community. In Recovery. \nContact Paul M 612-791-1288 for more info.
URL:https://naminnesota.org/event/recovery-game-night/2029-02-17/
LOCATION:Common Ground Church\, Cambridge 55008\, 404 Cypress St N\, Cambridge\, MN\, 55008\, United States
CATEGORIES:We Are Here
ATTACH;FMTTYPE=image/jpeg:https://naminnesota.org/wp-content/uploads/2026/03/1000005391.jpg
ORGANIZER;CN="Wee Are Here Area":MAILTO:ardnasknip@gmail.com
END:VEVENT
BEGIN:VEVENT
DTSTART;TZID=America/Chicago:20290303T090000
DTEND;TZID=America/Chicago:20290303T120000
DTSTAMP:20260423T003003
CREATED:20260122T003931Z
LAST-MODIFIED:20260122T004006Z
UID:10001095-1867222800-1867233600@naminnesota.org
SUMMARY:Pancake Breakfast! First Saturday every month
DESCRIPTION:Pancakes\, bacon\, sausage breakfast\nFree event. Donations accepted.\nFun & Fellowship
URL:https://naminnesota.org/event/pancake-breakfast-first-saturday-every-month/2029-03-03/
LOCATION:MN
ATTACH;FMTTYPE=image/png:https://naminnesota.org/wp-content/uploads/2026/01/6204893025775230678.png
END:VEVENT
END:VCALENDAR