BEGIN:VCALENDAR
VERSION:2.0
PRODID:-//Minnesota Region of Narcotics Anonymous - ECPv6.15.20//NONSGML v1.0//EN
CALSCALE:GREGORIAN
METHOD:PUBLISH
X-WR-CALNAME:Minnesota Region of Narcotics Anonymous
X-ORIGINAL-URL:https://naminnesota.org
X-WR-CALDESC:Events for Minnesota Region of Narcotics Anonymous
REFRESH-INTERVAL;VALUE=DURATION:PT1H
X-Robots-Tag:noindex
X-PUBLISHED-TTL:PT1H
BEGIN:VTIMEZONE
TZID:America/Chicago
BEGIN:DAYLIGHT
TZOFFSETFROM:-0600
TZOFFSETTO:-0500
TZNAME:CDT
DTSTART:20250309T080000
END:DAYLIGHT
BEGIN:STANDARD
TZOFFSETFROM:-0500
TZOFFSETTO:-0600
TZNAME:CST
DTSTART:20251102T070000
END:STANDARD
BEGIN:DAYLIGHT
TZOFFSETFROM:-0600
TZOFFSETTO:-0500
TZNAME:CDT
DTSTART:20260308T080000
END:DAYLIGHT
BEGIN:STANDARD
TZOFFSETFROM:-0500
TZOFFSETTO:-0600
TZNAME:CST
DTSTART:20261101T070000
END:STANDARD
BEGIN:DAYLIGHT
TZOFFSETFROM:-0600
TZOFFSETTO:-0500
TZNAME:CDT
DTSTART:20270314T080000
END:DAYLIGHT
BEGIN:STANDARD
TZOFFSETFROM:-0500
TZOFFSETTO:-0600
TZNAME:CST
DTSTART:20271107T070000
END:STANDARD
BEGIN:DAYLIGHT
TZOFFSETFROM:-0600
TZOFFSETTO:-0500
TZNAME:CDT
DTSTART:20280312T080000
END:DAYLIGHT
BEGIN:STANDARD
TZOFFSETFROM:-0500
TZOFFSETTO:-0600
TZNAME:CST
DTSTART:20281105T070000
END:STANDARD
END:VTIMEZONE
BEGIN:VEVENT
DTSTART;TZID=America/Chicago:20260808T120000
DTEND;TZID=America/Chicago:20260808T233000
DTSTAMP:20260422T174846
CREATED:20260315T134321Z
LAST-MODIFIED:20260315T134321Z
UID:10001199-1786190400-1786231800@naminnesota.org
SUMMARY:Annual Area Of Hope Picnic
DESCRIPTION:The annual picnic is right around the corner! It will be lots of fun and include fellowship\, food\, open mic\, 50/50 raffle and a large bonfire. We hope you can make it out!
URL:https://naminnesota.org/event/annual-area-of-hope-picnic/
LOCATION:Como Park\, 1177 Midway\, Saint Paul\, MN\, United States
CATEGORIES:Area of Hope
ATTACH;FMTTYPE=image/png:https://naminnesota.org/wp-content/uploads/2026/03/area-of-hope-picnic-1.png
END:VEVENT
BEGIN:VEVENT
DTSTART;TZID=America/Chicago:20260812T190000
DTEND;TZID=America/Chicago:20260812T210000
DTSTAMP:20260422T174846
CREATED:20251126T002218Z
LAST-MODIFIED:20251126T002218Z
UID:10001000-1786561200-1786568400@naminnesota.org
SUMMARY:MNNAC 34 Convention Committee Meeting
DESCRIPTION:This is a monthly meeting for the MNNAC 34 Convention Committee to meet and discuss plans for the 2027 Annual Convention.
URL:https://naminnesota.org/event/mnnac-34-convention-committee-meeting/2026-08-12/
LOCATION:535 20th Ave N\, South Saint Paul\, 535 20th Ave N\, South Saint Paul\, MN\, 55075\, United States
CATEGORIES:MNNAC
END:VEVENT
BEGIN:VEVENT
DTSTART;TZID=America/Chicago:20260814T150000
DTEND;TZID=America/Chicago:20260816T120000
DTSTAMP:20260422T174846
CREATED:20260120T032744Z
LAST-MODIFIED:20260120T034348Z
UID:10001054-1786719600-1786881600@naminnesota.org
SUMMARY:Hopefest 2026 Back 2 Basics Area Campout
DESCRIPTION:Registration: jksallstrom@yahoo.com (payment can be made by Venmo\, Cash App\, Zelle\, PayPal\, or invoiced on square to pay with credit/debit card) \n$25 Adult Weekend pass (16yrs old and up)\n$5 Kid Weekend pass (under 16yrs old)\n$20 Saturday Only day pass (8am-11pm no camping) \nCampsite: $30 per site (first come first serve\, payment required)\n30 sites available\n1 camper w/1 tent or 2 tents \nWeekend pass/day pass are No Addict Turned Away\, but all campsites need to be paid for this year. Sorry for any inconvenience but times have changed and we need to be able to pay our expenses for the event to happen. Thanks for understanding! \nIf you choose to come to the campground earlier than Aug 14\, you will need to register and pay for your campsite with the campground. If the office is not open call the number to confirm your stay. \nLocation:\nShady Oaks Campground\n340 Fairgrounds St.\nGarden City\, MN 56034
URL:https://naminnesota.org/event/hopefest-2026-back-2-basics-area-campout/
LOCATION:Shady Oaks Campground\, 340 Fairgrounds St.\, Garden City\, MN\, 56034\, United States
CATEGORIES:Back 2 Basics
ATTACH;FMTTYPE=image/png:https://naminnesota.org/wp-content/uploads/2026/01/2555029069898888523.png
ORGANIZER;CN="Back To Basics":MAILTO:info.b2b@naminnesota.org
END:VEVENT
BEGIN:VEVENT
DTSTART;TZID=America/Chicago:20260815T170000
DTEND;TZID=America/Chicago:20260815T210000
DTSTAMP:20260422T174846
CREATED:20260313T145024Z
LAST-MODIFIED:20260313T145024Z
UID:10001143-1786813200-1786827600@naminnesota.org
SUMMARY:Recovery Game Night
DESCRIPTION:WAHA is hosting a monthly Recovery Game Night! \n3rd Saturday of every month\, 5PM-9PM\nLocation is at Common Ground Church in Cambridge. \nThis is a FREE event\, open to ALL!\nKids and families welcome! \nPotluck! Bring a dish to share.\nBring a game to play! \nBring a friend. Build community. In Recovery. \nContact Paul M 612-791-1288 for more info.
URL:https://naminnesota.org/event/recovery-game-night/2026-08-15/
LOCATION:Common Ground Church\, Cambridge 55008\, 404 Cypress St N\, Cambridge\, MN\, 55008\, United States
CATEGORIES:We Are Here
ATTACH;FMTTYPE=image/jpeg:https://naminnesota.org/wp-content/uploads/2026/03/1000005391.jpg
ORGANIZER;CN="Wee Are Here Area":MAILTO:ardnasknip@gmail.com
END:VEVENT
BEGIN:VEVENT
DTSTART;TZID=America/Chicago:20260821T150000
DTEND;TZID=America/Chicago:20260823T130000
DTSTAMP:20260422T174846
CREATED:20260414T162948Z
LAST-MODIFIED:20260414T163030Z
UID:10001273-1787324400-1787490000@naminnesota.org
SUMMARY:RITH Inland Gig Campout
DESCRIPTION:Join us for a weekend of camping. recovery. fellowship\, and fun! \nfood\, speaker meetings\, workshops\, kids activities\, corn hole\, campfires\, and more. \nSAVE THE DATE!\nMore details coming soon!
URL:https://naminnesota.org/event/rith-inland-gig-campour/
LOCATION:lake zumbra group camp\, 7000 park drive\, Victoria\, MN\, 55318\, United States
CATEGORIES:Recovery in the Heartland
ATTACH;FMTTYPE=image/png:https://naminnesota.org/wp-content/uploads/2026/04/Green-and-Beige-Modern-Abstract-Geometric-Summer-Camp-Flyer.png
ORGANIZER;CN="RITH area":MAILTO:Robwilkens75@gmail.com
END:VEVENT
BEGIN:VEVENT
DTSTART;TZID=America/Chicago:20260905T090000
DTEND;TZID=America/Chicago:20260905T120000
DTSTAMP:20260422T174846
CREATED:20260122T003931Z
LAST-MODIFIED:20260122T004006Z
UID:10001065-1788598800-1788609600@naminnesota.org
SUMMARY:Pancake Breakfast! First Saturday every month
DESCRIPTION:Pancakes\, bacon\, sausage breakfast\nFree event. Donations accepted.\nFun & Fellowship
URL:https://naminnesota.org/event/pancake-breakfast-first-saturday-every-month/2026-09-05/
LOCATION:MN
ATTACH;FMTTYPE=image/png:https://naminnesota.org/wp-content/uploads/2026/01/6204893025775230678.png
END:VEVENT
BEGIN:VEVENT
DTSTART;TZID=America/Chicago:20260909T190000
DTEND;TZID=America/Chicago:20260909T210000
DTSTAMP:20260422T174846
CREATED:20251126T002218Z
LAST-MODIFIED:20251126T002218Z
UID:10001001-1788980400-1788987600@naminnesota.org
SUMMARY:MNNAC 34 Convention Committee Meeting
DESCRIPTION:This is a monthly meeting for the MNNAC 34 Convention Committee to meet and discuss plans for the 2027 Annual Convention.
URL:https://naminnesota.org/event/mnnac-34-convention-committee-meeting/2026-09-09/
LOCATION:535 20th Ave N\, South Saint Paul\, 535 20th Ave N\, South Saint Paul\, MN\, 55075\, United States
CATEGORIES:MNNAC
END:VEVENT
BEGIN:VEVENT
DTSTART;TZID=America/Chicago:20260911T120000
DTEND;TZID=America/Chicago:20260913T123000
DTSTAMP:20260422T174846
CREATED:20260417T224754Z
LAST-MODIFIED:20260417T224754Z
UID:10001277-1789128000-1789302600@naminnesota.org
SUMMARY:Vermilion Campout
DESCRIPTION:Campout up on Lake Vermilion just outside of Cook\, MN. We rent a summer camp that is used for kids. There are a lot of different accommodations to chose from. Prices for the weekend include the accommodation you pick\, food\, snacks and all activities for the weekend. Family and children are welcome\, sorry no pets.
URL:https://naminnesota.org/event/vermilion-campout/
LOCATION:Camp Vermilion\, 2555 Vermilion Camp Road\, Cook\, MN\, 55723\, United States
CATEGORIES:Northern Lights
ATTACH;FMTTYPE=image/jpeg:https://naminnesota.org/wp-content/uploads/2026/04/b5c697a4-565a-4b0d-bc34-fd684e5a9437.jpg
END:VEVENT
BEGIN:VEVENT
DTSTART;TZID=America/Chicago:20260919T170000
DTEND;TZID=America/Chicago:20260919T210000
DTSTAMP:20260422T174846
CREATED:20260313T145024Z
LAST-MODIFIED:20260313T145024Z
UID:10001144-1789837200-1789851600@naminnesota.org
SUMMARY:Recovery Game Night
DESCRIPTION:WAHA is hosting a monthly Recovery Game Night! \n3rd Saturday of every month\, 5PM-9PM\nLocation is at Common Ground Church in Cambridge. \nThis is a FREE event\, open to ALL!\nKids and families welcome! \nPotluck! Bring a dish to share.\nBring a game to play! \nBring a friend. Build community. In Recovery. \nContact Paul M 612-791-1288 for more info.
URL:https://naminnesota.org/event/recovery-game-night/2026-09-19/
LOCATION:Common Ground Church\, Cambridge 55008\, 404 Cypress St N\, Cambridge\, MN\, 55008\, United States
CATEGORIES:We Are Here
ATTACH;FMTTYPE=image/jpeg:https://naminnesota.org/wp-content/uploads/2026/03/1000005391.jpg
ORGANIZER;CN="Wee Are Here Area":MAILTO:ardnasknip@gmail.com
END:VEVENT
BEGIN:VEVENT
DTSTART;TZID=America/Chicago:20260925T080000
DTEND;TZID=America/Chicago:20260925T170000
DTSTAMP:20260422T174846
CREATED:20260308T045610Z
LAST-MODIFIED:20260417T224849Z
UID:10001134-1790323200-1790355600@naminnesota.org
SUMMARY:NA Women's Connection Retreat
DESCRIPTION:A weekend of crafts\, workshops\, and fellowship made possible by She Do Recover NA women’s meeting in Eden Prairie\, Tuesdays 7pm. Limited space available\, all attendees much register online ahead of the event. Held at the Holiday Inn Express in Bloomington MN. \nWe hope to see you!
URL:https://naminnesota.org/event/womens-connection-retreat/2026-09-25/1/
LOCATION:Holiday Inn Express MOA\, 7801 12th Ave S\, Bloomington\, MN\, 55425\, United States
CATEGORIES:Central Minnesota
ATTACH;FMTTYPE=image/png:https://naminnesota.org/wp-content/uploads/2026/03/1000012980.png
END:VEVENT
BEGIN:VEVENT
DTSTART;TZID=America/Chicago:20260925T150000
DTEND;TZID=America/Chicago:20260927T110000
DTSTAMP:20260422T174846
CREATED:20260308T045610Z
LAST-MODIFIED:20260417T224849Z
UID:10001135-1790348400-1790506800@naminnesota.org
SUMMARY:NA Women's Connection Retreat
DESCRIPTION:A weekend of crafts\, workshops\, and fellowship made possible by She Do Recover NA women’s meeting in Eden Prairie\, Tuesdays 7pm. Limited space available\, all attendees much register online ahead of the event. Held at the Holiday Inn Express in Bloomington MN. \nWe hope to see you!
URL:https://naminnesota.org/event/womens-connection-retreat/2026-09-25/2/
LOCATION:Holiday Inn Express MOA\, 7801 12th Ave S\, Bloomington\, MN\, 55425\, United States
CATEGORIES:Central Minnesota
ATTACH;FMTTYPE=image/png:https://naminnesota.org/wp-content/uploads/2026/03/1000012980.png
END:VEVENT
BEGIN:VEVENT
DTSTART;TZID=America/Chicago:20261003T090000
DTEND;TZID=America/Chicago:20261003T120000
DTSTAMP:20260422T174846
CREATED:20260122T003931Z
LAST-MODIFIED:20260122T004006Z
UID:10001066-1791018000-1791028800@naminnesota.org
SUMMARY:Pancake Breakfast! First Saturday every month
DESCRIPTION:Pancakes\, bacon\, sausage breakfast\nFree event. Donations accepted.\nFun & Fellowship
URL:https://naminnesota.org/event/pancake-breakfast-first-saturday-every-month/2026-10-03/
LOCATION:MN
ATTACH;FMTTYPE=image/png:https://naminnesota.org/wp-content/uploads/2026/01/6204893025775230678.png
END:VEVENT
BEGIN:VEVENT
DTSTART;TZID=America/Chicago:20261014T190000
DTEND;TZID=America/Chicago:20261014T210000
DTSTAMP:20260422T174846
CREATED:20251126T002218Z
LAST-MODIFIED:20251126T002218Z
UID:10001002-1792004400-1792011600@naminnesota.org
SUMMARY:MNNAC 34 Convention Committee Meeting
DESCRIPTION:This is a monthly meeting for the MNNAC 34 Convention Committee to meet and discuss plans for the 2027 Annual Convention.
URL:https://naminnesota.org/event/mnnac-34-convention-committee-meeting/2026-10-14/
LOCATION:535 20th Ave N\, South Saint Paul\, 535 20th Ave N\, South Saint Paul\, MN\, 55075\, United States
CATEGORIES:MNNAC
END:VEVENT
BEGIN:VEVENT
DTSTART;TZID=America/Chicago:20261017T170000
DTEND;TZID=America/Chicago:20261017T210000
DTSTAMP:20260422T174846
CREATED:20260313T145024Z
LAST-MODIFIED:20260313T145024Z
UID:10001145-1792256400-1792270800@naminnesota.org
SUMMARY:Recovery Game Night
DESCRIPTION:WAHA is hosting a monthly Recovery Game Night! \n3rd Saturday of every month\, 5PM-9PM\nLocation is at Common Ground Church in Cambridge. \nThis is a FREE event\, open to ALL!\nKids and families welcome! \nPotluck! Bring a dish to share.\nBring a game to play! \nBring a friend. Build community. In Recovery. \nContact Paul M 612-791-1288 for more info.
URL:https://naminnesota.org/event/recovery-game-night/2026-10-17/
LOCATION:Common Ground Church\, Cambridge 55008\, 404 Cypress St N\, Cambridge\, MN\, 55008\, United States
CATEGORIES:We Are Here
ATTACH;FMTTYPE=image/jpeg:https://naminnesota.org/wp-content/uploads/2026/03/1000005391.jpg
ORGANIZER;CN="Wee Are Here Area":MAILTO:ardnasknip@gmail.com
END:VEVENT
BEGIN:VEVENT
DTSTART;TZID=America/Chicago:20261107T090000
DTEND;TZID=America/Chicago:20261107T120000
DTSTAMP:20260422T174846
CREATED:20260122T003931Z
LAST-MODIFIED:20260122T004006Z
UID:10001067-1794042000-1794052800@naminnesota.org
SUMMARY:Pancake Breakfast! First Saturday every month
DESCRIPTION:Pancakes\, bacon\, sausage breakfast\nFree event. Donations accepted.\nFun & Fellowship
URL:https://naminnesota.org/event/pancake-breakfast-first-saturday-every-month/2026-11-07/
LOCATION:MN
ATTACH;FMTTYPE=image/png:https://naminnesota.org/wp-content/uploads/2026/01/6204893025775230678.png
END:VEVENT
BEGIN:VEVENT
DTSTART;TZID=America/Chicago:20261111T190000
DTEND;TZID=America/Chicago:20261111T210000
DTSTAMP:20260422T174846
CREATED:20251126T002218Z
LAST-MODIFIED:20251126T002218Z
UID:10001003-1794423600-1794430800@naminnesota.org
SUMMARY:MNNAC 34 Convention Committee Meeting
DESCRIPTION:This is a monthly meeting for the MNNAC 34 Convention Committee to meet and discuss plans for the 2027 Annual Convention.
URL:https://naminnesota.org/event/mnnac-34-convention-committee-meeting/2026-11-11/
LOCATION:535 20th Ave N\, South Saint Paul\, 535 20th Ave N\, South Saint Paul\, MN\, 55075\, United States
CATEGORIES:MNNAC
END:VEVENT
BEGIN:VEVENT
DTSTART;TZID=America/Chicago:20261121T170000
DTEND;TZID=America/Chicago:20261121T210000
DTSTAMP:20260422T174846
CREATED:20260313T145024Z
LAST-MODIFIED:20260313T145024Z
UID:10001146-1795280400-1795294800@naminnesota.org
SUMMARY:Recovery Game Night
DESCRIPTION:WAHA is hosting a monthly Recovery Game Night! \n3rd Saturday of every month\, 5PM-9PM\nLocation is at Common Ground Church in Cambridge. \nThis is a FREE event\, open to ALL!\nKids and families welcome! \nPotluck! Bring a dish to share.\nBring a game to play! \nBring a friend. Build community. In Recovery. \nContact Paul M 612-791-1288 for more info.
URL:https://naminnesota.org/event/recovery-game-night/2026-11-21/
LOCATION:Common Ground Church\, Cambridge 55008\, 404 Cypress St N\, Cambridge\, MN\, 55008\, United States
CATEGORIES:We Are Here
ATTACH;FMTTYPE=image/jpeg:https://naminnesota.org/wp-content/uploads/2026/03/1000005391.jpg
ORGANIZER;CN="Wee Are Here Area":MAILTO:ardnasknip@gmail.com
END:VEVENT
BEGIN:VEVENT
DTSTART;TZID=America/Chicago:20261205T090000
DTEND;TZID=America/Chicago:20261205T120000
DTSTAMP:20260422T174846
CREATED:20260122T003931Z
LAST-MODIFIED:20260122T004006Z
UID:10001068-1796461200-1796472000@naminnesota.org
SUMMARY:Pancake Breakfast! First Saturday every month
DESCRIPTION:Pancakes\, bacon\, sausage breakfast\nFree event. Donations accepted.\nFun & Fellowship
URL:https://naminnesota.org/event/pancake-breakfast-first-saturday-every-month/2026-12-05/
LOCATION:MN
ATTACH;FMTTYPE=image/png:https://naminnesota.org/wp-content/uploads/2026/01/6204893025775230678.png
END:VEVENT
BEGIN:VEVENT
DTSTART;TZID=America/Chicago:20261209T190000
DTEND;TZID=America/Chicago:20261209T210000
DTSTAMP:20260422T174846
CREATED:20251126T002218Z
LAST-MODIFIED:20251126T002218Z
UID:10001004-1796842800-1796850000@naminnesota.org
SUMMARY:MNNAC 34 Convention Committee Meeting
DESCRIPTION:This is a monthly meeting for the MNNAC 34 Convention Committee to meet and discuss plans for the 2027 Annual Convention.
URL:https://naminnesota.org/event/mnnac-34-convention-committee-meeting/2026-12-09/
LOCATION:535 20th Ave N\, South Saint Paul\, 535 20th Ave N\, South Saint Paul\, MN\, 55075\, United States
CATEGORIES:MNNAC
END:VEVENT
BEGIN:VEVENT
DTSTART;TZID=America/Chicago:20261219T170000
DTEND;TZID=America/Chicago:20261219T210000
DTSTAMP:20260422T174846
CREATED:20260313T145024Z
LAST-MODIFIED:20260313T145024Z
UID:10001147-1797699600-1797714000@naminnesota.org
SUMMARY:Recovery Game Night
DESCRIPTION:WAHA is hosting a monthly Recovery Game Night! \n3rd Saturday of every month\, 5PM-9PM\nLocation is at Common Ground Church in Cambridge. \nThis is a FREE event\, open to ALL!\nKids and families welcome! \nPotluck! Bring a dish to share.\nBring a game to play! \nBring a friend. Build community. In Recovery. \nContact Paul M 612-791-1288 for more info.
URL:https://naminnesota.org/event/recovery-game-night/2026-12-19/
LOCATION:Common Ground Church\, Cambridge 55008\, 404 Cypress St N\, Cambridge\, MN\, 55008\, United States
CATEGORIES:We Are Here
ATTACH;FMTTYPE=image/jpeg:https://naminnesota.org/wp-content/uploads/2026/03/1000005391.jpg
ORGANIZER;CN="Wee Are Here Area":MAILTO:ardnasknip@gmail.com
END:VEVENT
BEGIN:VEVENT
DTSTART;TZID=America/Chicago:20270102T090000
DTEND;TZID=America/Chicago:20270102T120000
DTSTAMP:20260422T174846
CREATED:20260122T003931Z
LAST-MODIFIED:20260122T004006Z
UID:10001069-1798880400-1798891200@naminnesota.org
SUMMARY:Pancake Breakfast! First Saturday every month
DESCRIPTION:Pancakes\, bacon\, sausage breakfast\nFree event. Donations accepted.\nFun & Fellowship
URL:https://naminnesota.org/event/pancake-breakfast-first-saturday-every-month/2027-01-02/
LOCATION:MN
ATTACH;FMTTYPE=image/png:https://naminnesota.org/wp-content/uploads/2026/01/6204893025775230678.png
END:VEVENT
BEGIN:VEVENT
DTSTART;TZID=America/Chicago:20270113T190000
DTEND;TZID=America/Chicago:20270113T210000
DTSTAMP:20260422T174846
CREATED:20251126T002218Z
LAST-MODIFIED:20251126T002218Z
UID:10001005-1799866800-1799874000@naminnesota.org
SUMMARY:MNNAC 34 Convention Committee Meeting
DESCRIPTION:This is a monthly meeting for the MNNAC 34 Convention Committee to meet and discuss plans for the 2027 Annual Convention.
URL:https://naminnesota.org/event/mnnac-34-convention-committee-meeting/2027-01-13/
LOCATION:535 20th Ave N\, South Saint Paul\, 535 20th Ave N\, South Saint Paul\, MN\, 55075\, United States
CATEGORIES:MNNAC
END:VEVENT
BEGIN:VEVENT
DTSTART;TZID=America/Chicago:20270116T170000
DTEND;TZID=America/Chicago:20270116T210000
DTSTAMP:20260422T174846
CREATED:20260313T145024Z
LAST-MODIFIED:20260313T145024Z
UID:10001148-1800118800-1800133200@naminnesota.org
SUMMARY:Recovery Game Night
DESCRIPTION:WAHA is hosting a monthly Recovery Game Night! \n3rd Saturday of every month\, 5PM-9PM\nLocation is at Common Ground Church in Cambridge. \nThis is a FREE event\, open to ALL!\nKids and families welcome! \nPotluck! Bring a dish to share.\nBring a game to play! \nBring a friend. Build community. In Recovery. \nContact Paul M 612-791-1288 for more info.
URL:https://naminnesota.org/event/recovery-game-night/2027-01-16/
LOCATION:Common Ground Church\, Cambridge 55008\, 404 Cypress St N\, Cambridge\, MN\, 55008\, United States
CATEGORIES:We Are Here
ATTACH;FMTTYPE=image/jpeg:https://naminnesota.org/wp-content/uploads/2026/03/1000005391.jpg
ORGANIZER;CN="Wee Are Here Area":MAILTO:ardnasknip@gmail.com
END:VEVENT
BEGIN:VEVENT
DTSTART;TZID=America/Chicago:20270206T090000
DTEND;TZID=America/Chicago:20270206T120000
DTSTAMP:20260422T174846
CREATED:20260122T003931Z
LAST-MODIFIED:20260122T004006Z
UID:10001070-1801904400-1801915200@naminnesota.org
SUMMARY:Pancake Breakfast! First Saturday every month
DESCRIPTION:Pancakes\, bacon\, sausage breakfast\nFree event. Donations accepted.\nFun & Fellowship
URL:https://naminnesota.org/event/pancake-breakfast-first-saturday-every-month/2027-02-06/
LOCATION:MN
ATTACH;FMTTYPE=image/png:https://naminnesota.org/wp-content/uploads/2026/01/6204893025775230678.png
END:VEVENT
BEGIN:VEVENT
DTSTART;TZID=America/Chicago:20270210T190000
DTEND;TZID=America/Chicago:20270210T210000
DTSTAMP:20260422T174846
CREATED:20251126T002218Z
LAST-MODIFIED:20251126T002218Z
UID:10001006-1802286000-1802293200@naminnesota.org
SUMMARY:MNNAC 34 Convention Committee Meeting
DESCRIPTION:This is a monthly meeting for the MNNAC 34 Convention Committee to meet and discuss plans for the 2027 Annual Convention.
URL:https://naminnesota.org/event/mnnac-34-convention-committee-meeting/2027-02-10/
LOCATION:535 20th Ave N\, South Saint Paul\, 535 20th Ave N\, South Saint Paul\, MN\, 55075\, United States
CATEGORIES:MNNAC
END:VEVENT
BEGIN:VEVENT
DTSTART;TZID=America/Chicago:20270220T170000
DTEND;TZID=America/Chicago:20270220T210000
DTSTAMP:20260422T174846
CREATED:20260313T145024Z
LAST-MODIFIED:20260313T145024Z
UID:10001149-1803142800-1803157200@naminnesota.org
SUMMARY:Recovery Game Night
DESCRIPTION:WAHA is hosting a monthly Recovery Game Night! \n3rd Saturday of every month\, 5PM-9PM\nLocation is at Common Ground Church in Cambridge. \nThis is a FREE event\, open to ALL!\nKids and families welcome! \nPotluck! Bring a dish to share.\nBring a game to play! \nBring a friend. Build community. In Recovery. \nContact Paul M 612-791-1288 for more info.
URL:https://naminnesota.org/event/recovery-game-night/2027-02-20/
LOCATION:Common Ground Church\, Cambridge 55008\, 404 Cypress St N\, Cambridge\, MN\, 55008\, United States
CATEGORIES:We Are Here
ATTACH;FMTTYPE=image/jpeg:https://naminnesota.org/wp-content/uploads/2026/03/1000005391.jpg
ORGANIZER;CN="Wee Are Here Area":MAILTO:ardnasknip@gmail.com
END:VEVENT
BEGIN:VEVENT
DTSTART;TZID=America/Chicago:20270306T090000
DTEND;TZID=America/Chicago:20270306T120000
DTSTAMP:20260422T174846
CREATED:20260122T003931Z
LAST-MODIFIED:20260122T004006Z
UID:10001071-1804323600-1804334400@naminnesota.org
SUMMARY:Pancake Breakfast! First Saturday every month
DESCRIPTION:Pancakes\, bacon\, sausage breakfast\nFree event. Donations accepted.\nFun & Fellowship
URL:https://naminnesota.org/event/pancake-breakfast-first-saturday-every-month/2027-03-06/
LOCATION:MN
ATTACH;FMTTYPE=image/png:https://naminnesota.org/wp-content/uploads/2026/01/6204893025775230678.png
END:VEVENT
BEGIN:VEVENT
DTSTART;TZID=America/Chicago:20270310T190000
DTEND;TZID=America/Chicago:20270310T210000
DTSTAMP:20260422T174846
CREATED:20251126T002218Z
LAST-MODIFIED:20251126T002218Z
UID:10001007-1804705200-1804712400@naminnesota.org
SUMMARY:MNNAC 34 Convention Committee Meeting
DESCRIPTION:This is a monthly meeting for the MNNAC 34 Convention Committee to meet and discuss plans for the 2027 Annual Convention.
URL:https://naminnesota.org/event/mnnac-34-convention-committee-meeting/2027-03-10/
LOCATION:535 20th Ave N\, South Saint Paul\, 535 20th Ave N\, South Saint Paul\, MN\, 55075\, United States
CATEGORIES:MNNAC
END:VEVENT
BEGIN:VEVENT
DTSTART;TZID=America/Chicago:20270320T170000
DTEND;TZID=America/Chicago:20270320T210000
DTSTAMP:20260422T174846
CREATED:20260313T145024Z
LAST-MODIFIED:20260313T145024Z
UID:10001150-1805562000-1805576400@naminnesota.org
SUMMARY:Recovery Game Night
DESCRIPTION:WAHA is hosting a monthly Recovery Game Night! \n3rd Saturday of every month\, 5PM-9PM\nLocation is at Common Ground Church in Cambridge. \nThis is a FREE event\, open to ALL!\nKids and families welcome! \nPotluck! Bring a dish to share.\nBring a game to play! \nBring a friend. Build community. In Recovery. \nContact Paul M 612-791-1288 for more info.
URL:https://naminnesota.org/event/recovery-game-night/2027-03-20/
LOCATION:Common Ground Church\, Cambridge 55008\, 404 Cypress St N\, Cambridge\, MN\, 55008\, United States
CATEGORIES:We Are Here
ATTACH;FMTTYPE=image/jpeg:https://naminnesota.org/wp-content/uploads/2026/03/1000005391.jpg
ORGANIZER;CN="Wee Are Here Area":MAILTO:ardnasknip@gmail.com
END:VEVENT
BEGIN:VEVENT
DTSTART;TZID=America/Chicago:20270403T090000
DTEND;TZID=America/Chicago:20270403T120000
DTSTAMP:20260422T174846
CREATED:20260122T003931Z
LAST-MODIFIED:20260122T004006Z
UID:10001072-1806742800-1806753600@naminnesota.org
SUMMARY:Pancake Breakfast! First Saturday every month
DESCRIPTION:Pancakes\, bacon\, sausage breakfast\nFree event. Donations accepted.\nFun & Fellowship
URL:https://naminnesota.org/event/pancake-breakfast-first-saturday-every-month/2027-04-03/
LOCATION:MN
ATTACH;FMTTYPE=image/png:https://naminnesota.org/wp-content/uploads/2026/01/6204893025775230678.png
END:VEVENT
END:VCALENDAR