BEGIN:VCALENDAR
VERSION:2.0
PRODID:-//Minnesota Region of Narcotics Anonymous - ECPv6.15.20//NONSGML v1.0//EN
CALSCALE:GREGORIAN
METHOD:PUBLISH
X-ORIGINAL-URL:https://naminnesota.org
X-WR-CALDESC:Events for Minnesota Region of Narcotics Anonymous
REFRESH-INTERVAL;VALUE=DURATION:PT1H
X-Robots-Tag:noindex
X-PUBLISHED-TTL:PT1H
BEGIN:VTIMEZONE
TZID:America/Chicago
BEGIN:DAYLIGHT
TZOFFSETFROM:-0600
TZOFFSETTO:-0500
TZNAME:CDT
DTSTART:20250309T080000
END:DAYLIGHT
BEGIN:STANDARD
TZOFFSETFROM:-0500
TZOFFSETTO:-0600
TZNAME:CST
DTSTART:20251102T070000
END:STANDARD
BEGIN:DAYLIGHT
TZOFFSETFROM:-0600
TZOFFSETTO:-0500
TZNAME:CDT
DTSTART:20260308T080000
END:DAYLIGHT
BEGIN:STANDARD
TZOFFSETFROM:-0500
TZOFFSETTO:-0600
TZNAME:CST
DTSTART:20261101T070000
END:STANDARD
BEGIN:DAYLIGHT
TZOFFSETFROM:-0600
TZOFFSETTO:-0500
TZNAME:CDT
DTSTART:20270314T080000
END:DAYLIGHT
BEGIN:STANDARD
TZOFFSETFROM:-0500
TZOFFSETTO:-0600
TZNAME:CST
DTSTART:20271107T070000
END:STANDARD
END:VTIMEZONE
BEGIN:VEVENT
DTSTART;TZID=America/Chicago:20260425T110000
DTEND;TZID=America/Chicago:20260425T170000
DTSTAMP:20260422T124529
CREATED:20260405T030149Z
LAST-MODIFIED:20260405T030149Z
UID:10001264-1777114800-1777136400@naminnesota.org
SUMMARY:MINNESOTA REGION SERVICE CONFERENCE
DESCRIPTION:The quarterly April meeting of the MNRSC
URL:https://naminnesota.org/event/minnesota-region-service-conference/
LOCATION:Second Chance Recycling Building\, 1179 SE 15th Avenue\, minneapolis\, 55414\, United States
CATEGORIES:Minnesota Region
ORGANIZER;CN="NA Minnesota":MAILTO:digitalprojectteam@naminnesota.org
END:VEVENT
BEGIN:VEVENT
DTSTART;TZID=America/Chicago:20260425T110000
DTEND;TZID=America/Chicago:20260425T170000
DTSTAMP:20260422T124529
CREATED:20260414T162912Z
LAST-MODIFIED:20260414T162912Z
UID:10001269-1777114800-1777136400@naminnesota.org
SUMMARY:MINNESOTA REGION SERVICE CONFERENCE-REVISED
DESCRIPTION:Quarterly meeting of the Minnesota Region Service Conference (MNRSC)
URL:https://naminnesota.org/event/minnesota-region-service-conference-revised/
LOCATION:Second Chance Recycling Building\, 1179 SE 15th Avenue\, minneapolis\, 55414\, United States
CATEGORIES:Minnesota Region
ATTACH;FMTTYPE=image/jpeg:https://naminnesota.org/wp-content/uploads/2026/04/Minnesota-Region-Conference-2026-03-30-scaled.jpg
ORGANIZER;CN="NA Minnesota":MAILTO:digitalprojectteam@naminnesota.org
END:VEVENT
BEGIN:VEVENT
DTSTART;TZID=America/Chicago:20260425T113000
DTEND;TZID=America/Chicago:20260425T163000
DTSTAMP:20260422T124529
CREATED:20260320T000335Z
LAST-MODIFIED:20260320T000455Z
UID:10001262-1777116600-1777134600@naminnesota.org
SUMMARY:Minnesota Regional Service Conference (MNRSC)
DESCRIPTION:Attend the Minnesota Regional Service Conference! \nAll members welcome! Every member has a voice and a vote! \nWe meet hybrid; however\, the in-person site is still TBD. If your Area would like to host the Region meeting\, please email info@naminnesota.org. We don’t require much- a space for up to 40 people and WiFi. Region budgets payment for room rent and a small lunch. \nOn-line log-in at Zoom ID#625-642-7131 \nNewcomer orientation 11:30 \nBusiness begins at 12:30
URL:https://naminnesota.org/event/minnesota-regional-service-conference-mnrsc/
LOCATION:MN
CATEGORIES:Minnesota Region
ORGANIZER;CN="NA Minnesota":MAILTO:digitalprojectteam@naminnesota.org
END:VEVENT
BEGIN:VEVENT
DTSTART;TZID=America/Chicago:20260502T090000
DTEND;TZID=America/Chicago:20260502T120000
DTSTAMP:20260422T124529
CREATED:20260122T003931Z
LAST-MODIFIED:20260122T004006Z
UID:10001061-1777712400-1777723200@naminnesota.org
SUMMARY:Pancake Breakfast! First Saturday every month
DESCRIPTION:Pancakes\, bacon\, sausage breakfast\nFree event. Donations accepted.\nFun & Fellowship
URL:https://naminnesota.org/event/pancake-breakfast-first-saturday-every-month/2026-05-02/
LOCATION:MN
ATTACH;FMTTYPE=image/png:https://naminnesota.org/wp-content/uploads/2026/01/6204893025775230678.png
END:VEVENT
BEGIN:VEVENT
DTSTART;TZID=America/Chicago:20260502T120000
DTEND;TZID=America/Chicago:20260502T170000
DTSTAMP:20260422T124529
CREATED:20260417T170755Z
LAST-MODIFIED:20260417T170755Z
UID:10001275-1777723200-1777741200@naminnesota.org
SUMMARY:Sauces of Serenity - MNNAC 34 Fundraiser Event
DESCRIPTION:Enjoy a pasta bar with multiple sauces and pasta styles\, beverages\, 50/50 raffle\, and speakers. MNNAC 34 Merchandise & Registrations Sold \nWhen: May 2nd at Noon\nWhere: First Presbyterian Church\, 535 20th Ave\, South St. Paul\, MN\n$10 Entry Fee with no addict turned away \nContact: Talen S. (612) 274-3256 or Brett L. (779) 400-6180
URL:https://naminnesota.org/event/sauces-of-serenity-mnnac-34-fundraiser-event-2/
LOCATION:First Presbyterian Church\, 535 20th Ave N\, St Paul\, MN\, 55075\, United States
CATEGORIES:MNNAC,South Suburban Fireside
ATTACH;FMTTYPE=image/jpeg:https://naminnesota.org/wp-content/uploads/2026/04/Sauces-of-Serenity-JPG-1.jpg
END:VEVENT
BEGIN:VEVENT
DTSTART;TZID=America/Chicago:20260513T190000
DTEND;TZID=America/Chicago:20260513T210000
DTSTAMP:20260422T124529
CREATED:20251126T002218Z
LAST-MODIFIED:20251126T002218Z
UID:10000997-1778698800-1778706000@naminnesota.org
SUMMARY:MNNAC 34 Convention Committee Meeting
DESCRIPTION:This is a monthly meeting for the MNNAC 34 Convention Committee to meet and discuss plans for the 2027 Annual Convention.
URL:https://naminnesota.org/event/mnnac-34-convention-committee-meeting/2026-05-13/
LOCATION:535 20th Ave N\, South Saint Paul\, 535 20th Ave N\, South Saint Paul\, MN\, 55075\, United States
CATEGORIES:MNNAC
END:VEVENT
BEGIN:VEVENT
DTSTART;TZID=America/Chicago:20260516T150000
DTEND;TZID=America/Chicago:20260516T210000
DTSTAMP:20260422T124529
CREATED:20260308T045752Z
LAST-MODIFIED:20260308T045752Z
UID:10001136-1778943600-1778965200@naminnesota.org
SUMMARY:Spring Thing
DESCRIPTION:Come on out and have some good clean fun with Central Minnesota Area of Narcotics Anonymous. \nWe’ll have walking tacos\, a great message of recovery\, and afterward we’ll play some family friendly bingo (prizes for kids and adults)
URL:https://naminnesota.org/event/spring-thing/
LOCATION:Trinity Lutheran Church Brainerd\, 1420 South 6th St\, Brainerd\, MN\, 56401\, United States
CATEGORIES:Central Minnesota
ATTACH;FMTTYPE=image/jpeg:https://naminnesota.org/wp-content/uploads/2026/03/1000028287.jpg
END:VEVENT
BEGIN:VEVENT
DTSTART;TZID=America/Chicago:20260516T170000
DTEND;TZID=America/Chicago:20260516T210000
DTSTAMP:20260422T124529
CREATED:20260313T145024Z
LAST-MODIFIED:20260313T145024Z
UID:10001140-1778950800-1778965200@naminnesota.org
SUMMARY:Recovery Game Night
DESCRIPTION:WAHA is hosting a monthly Recovery Game Night! \n3rd Saturday of every month\, 5PM-9PM\nLocation is at Common Ground Church in Cambridge. \nThis is a FREE event\, open to ALL!\nKids and families welcome! \nPotluck! Bring a dish to share.\nBring a game to play! \nBring a friend. Build community. In Recovery. \nContact Paul M 612-791-1288 for more info.
URL:https://naminnesota.org/event/recovery-game-night/2026-05-16/
LOCATION:Common Ground Church\, Cambridge 55008\, 404 Cypress St N\, Cambridge\, MN\, 55008\, United States
CATEGORIES:We Are Here
ATTACH;FMTTYPE=image/jpeg:https://naminnesota.org/wp-content/uploads/2026/03/1000005391.jpg
ORGANIZER;CN="Wee Are Here Area":MAILTO:ardnasknip@gmail.com
END:VEVENT
BEGIN:VEVENT
DTSTART;TZID=America/Chicago:20260529T180000
DTEND;TZID=America/Chicago:20260529T230000
DTSTAMP:20260422T124529
CREATED:20260420T122624Z
LAST-MODIFIED:20260421T201210Z
UID:10001278-1780077600-1780095600@naminnesota.org
SUMMARY:NA Keeping It Clean Karaoke
DESCRIPTION:Come enjoy a fun time singing karaoke and enjoying NA fellowship. With your ten dollar entry fee food is included.
URL:https://naminnesota.org/event/na-keeping-it-clean-karaoke/
LOCATION:520 Robert Street St. Paul\, 520 Robert Street\, St.Paul\, MN\, United States
CATEGORIES:Area of Hope
ATTACH;FMTTYPE=image/png:https://naminnesota.org/wp-content/uploads/2026/04/image-1.png
END:VEVENT
BEGIN:VEVENT
DTSTART;TZID=America/Chicago:20260606T090000
DTEND;TZID=America/Chicago:20260606T120000
DTSTAMP:20260422T124529
CREATED:20260122T003931Z
LAST-MODIFIED:20260122T004006Z
UID:10001062-1780736400-1780747200@naminnesota.org
SUMMARY:Pancake Breakfast! First Saturday every month
DESCRIPTION:Pancakes\, bacon\, sausage breakfast\nFree event. Donations accepted.\nFun & Fellowship
URL:https://naminnesota.org/event/pancake-breakfast-first-saturday-every-month/2026-06-06/
LOCATION:MN
ATTACH;FMTTYPE=image/png:https://naminnesota.org/wp-content/uploads/2026/01/6204893025775230678.png
END:VEVENT
BEGIN:VEVENT
DTSTART;TZID=America/Chicago:20260610T190000
DTEND;TZID=America/Chicago:20260610T210000
DTSTAMP:20260422T124529
CREATED:20251126T002218Z
LAST-MODIFIED:20251126T002218Z
UID:10000998-1781118000-1781125200@naminnesota.org
SUMMARY:MNNAC 34 Convention Committee Meeting
DESCRIPTION:This is a monthly meeting for the MNNAC 34 Convention Committee to meet and discuss plans for the 2027 Annual Convention.
URL:https://naminnesota.org/event/mnnac-34-convention-committee-meeting/2026-06-10/
LOCATION:535 20th Ave N\, South Saint Paul\, 535 20th Ave N\, South Saint Paul\, MN\, 55075\, United States
CATEGORIES:MNNAC
END:VEVENT
BEGIN:VEVENT
DTSTART;TZID=America/Chicago:20260614T130000
DTEND;TZID=America/Chicago:20260614T180000
DTSTAMP:20260422T124529
CREATED:20260301T233052Z
LAST-MODIFIED:20260301T233052Z
UID:10001131-1781442000-1781460000@naminnesota.org
SUMMARY:Northeast NA's 4th Annual We Recover Out Loud picnic
DESCRIPTION:4th Annual We Recover Out Loud picnic- No addict Turned Away!\nWhy: BECAUSE WE RECOVER OUT LOUD!\nWhat: N.A. meeting with speakers and picnic. Includes Sloppy Joes\, Pop\, and Water provided. Please bring dish/dessert to share.\nWhere: Moore Lake Park Community Building.\n5890 Central Ave. NE\, Fridley\nWhen: Sunday June 14th\, 2026\, 1:00 p.m. – 6p.m. fellowship and games.\n2:00 p.m. – 2 speakers\n3:20 p.m. – Prizes and Raffle\n4:00 p.m. – Dinner\n5:15 p.m. – third speaker\n5:45 p.m. – 50/50 raffle drawing\nCost: Free (7th Tradition accepted)\nHosted by: Northeast Narcotics Anonymous.
URL:https://naminnesota.org/event/northeast-nas-4th-annual-we-recover-out-loud-picnic/
LOCATION:Moore lake park community building\, 5890 Central Ave NE\, Fridley\, 55432\, United States
CATEGORIES:Twin Cities
ATTACH;FMTTYPE=image/jpeg:https://naminnesota.org/wp-content/uploads/2026/02/NENA-Recovery-Outloud-Flyer-06-14-2026.jpg
END:VEVENT
BEGIN:VEVENT
DTSTART;TZID=America/Chicago:20260619T150000
DTEND;TZID=America/Chicago:20260621T120000
DTSTAMP:20260422T124529
CREATED:20260407T030658Z
LAST-MODIFIED:20260407T031038Z
UID:10001268-1781881200-1782043200@naminnesota.org
SUMMARY:Living Clean Campout 2026 – A Weekend of Recovery\, Connection\, and Community
DESCRIPTION:Join us for an unforgettable weekend at the Living Clean Campout\, hosted by the Wee Are Here Area of Narcotics Anonymous. Set against the beautiful backdrop of northern Minnesota\, this three-day event is all about fellowship\, fun\, and strengthening recovery in a supportive outdoor environment. \n📅 June 19–21\, 2026\n📍 Banning RV Park & Campground – Finlayson\, MN \nWhether you’re new to recovery or have years of clean time\, this campout offers a welcoming space to connect\, recharge\, and grow alongside others who share the journey. \n🔥 What to Expect: \nInspiring main speakers Friday & Saturday nights + Sunday morning\nA community potluck to kick off the weekend\nBonfire meetings\, workshops\, and men’s & women’s groups\nFun activities like a cornhole tournament\, game night\, DJ music\, and more\nKids’ activities so the whole family can join\nA powerful clean time countdown celebration \n🏕️ Camping Options Available: Tent & RV sites\n🎟️ Affordable Registration: \n$50 weekend pass\n$25 day pass\nNo addict turned away \nThis is more than just a campout — it’s a chance to build meaningful connections\, celebrate recovery\, and enjoy the outdoors with a like-minded community. \nCome for the food\, fun\, and fellowship — leave feeling inspired and reconnected.
URL:https://naminnesota.org/event/living-clean-campout-2026/
LOCATION:Banning RV Park & Campground\, 60545 MN-23\, Finlayson\, MN\, 55735\, United States
CATEGORIES:We Are Here
ATTACH;FMTTYPE=image/jpeg:https://naminnesota.org/wp-content/uploads/2026/04/662534711_1721228192370432_1626247633786468288_n.jpg
ORGANIZER;CN="Wee Are Here Area":MAILTO:ardnasknip@gmail.com
END:VEVENT
BEGIN:VEVENT
DTSTART;TZID=America/Chicago:20260619T150000
DTEND;TZID=America/Chicago:20260621T120000
DTSTAMP:20260422T124529
CREATED:20260414T162504Z
LAST-MODIFIED:20260414T162504Z
UID:10001267-1781881200-1782043200@naminnesota.org
SUMMARY:WAHA Living Clean Campout 2026
DESCRIPTION:Wee Are Here Area is hosting our annual Living Clean Campout!\nJoin us for a weekend of food\, fun\, and fellowship! \nJune 19-21\, 2026 \nLocation:\nBanning RV Park & Campground\n60545 MN-23\, Finlayson MN 55735 \nGates open @ 3PM on June 19\nEvent ends @ 12PM on June 21 \nREGISTRATION:\n$50/weekend pass\n$25/day pass \nTent & RV sites available\n**NO ADDICT TURNED AWAY** \nCornhole Tournament – Game Night -DJ with music – Clean Time Countdown -Bonfire JFT Meeting -Kids Activities -Men’s & Women’s Meetings -Workshops -Drawings – AND MORE!! \nPOTLUCK – Friday evening – Bring a dish to share!\nMAIN SPEAKERS – Friday & Saturday nights + Sunday morning \n–Donations accepted — \nContact For More information\nCHAIR – Leah G 320-209-0085\nCO-CHAIR – Paul M 612-791-1288
URL:https://naminnesota.org/event/waha-living-clean-campout-2026/
LOCATION:Banning RV Park & Campground\, 60545 MN-23\, Finlayson\, MN\, 55735\, United States
CATEGORIES:We Are Here
ATTACH;FMTTYPE=image/png:https://naminnesota.org/wp-content/uploads/2026/04/WAHA-LLC-2026-flyer-1.png
ORGANIZER;CN="Wee Are Here Area":MAILTO:ardnasknip@gmail.com
END:VEVENT
BEGIN:VEVENT
DTSTART;TZID=America/Chicago:20260620T110000
DTEND;TZID=America/Chicago:20260620T150000
DTSTAMP:20260422T124529
CREATED:20260216T182937Z
LAST-MODIFIED:20260216T182949Z
UID:10001123-1781953200-1781967600@naminnesota.org
SUMMARY:RITH Area Beach Party
DESCRIPTION:FREE EVENT. June 20\,2026.  Hotdogs\, hamburgers\, and water provided. Bring a side dish to share! Food will be at 12pm\, speaker at 1pm. \nSand volleyball\, playground\, swimming\, food\, fellowship! Bring a beach blanket or camp chairs.
URL:https://naminnesota.org/event/rith-area-beach-party/
LOCATION:lake Ann channhassen MN\, 1456 W 78th St.\, Channhassen\, MN\, 55317\, United States
CATEGORIES:Recovery in the Heartland
ATTACH;FMTTYPE=image/png:https://naminnesota.org/wp-content/uploads/2026/02/1000012914.png
END:VEVENT
BEGIN:VEVENT
DTSTART;TZID=America/Chicago:20260620T170000
DTEND;TZID=America/Chicago:20260620T210000
DTSTAMP:20260422T124529
CREATED:20260313T145024Z
LAST-MODIFIED:20260313T145024Z
UID:10001141-1781974800-1781989200@naminnesota.org
SUMMARY:Recovery Game Night
DESCRIPTION:WAHA is hosting a monthly Recovery Game Night! \n3rd Saturday of every month\, 5PM-9PM\nLocation is at Common Ground Church in Cambridge. \nThis is a FREE event\, open to ALL!\nKids and families welcome! \nPotluck! Bring a dish to share.\nBring a game to play! \nBring a friend. Build community. In Recovery. \nContact Paul M 612-791-1288 for more info.
URL:https://naminnesota.org/event/recovery-game-night/2026-06-20/
LOCATION:Common Ground Church\, Cambridge 55008\, 404 Cypress St N\, Cambridge\, MN\, 55008\, United States
CATEGORIES:We Are Here
ATTACH;FMTTYPE=image/jpeg:https://naminnesota.org/wp-content/uploads/2026/03/1000005391.jpg
ORGANIZER;CN="Wee Are Here Area":MAILTO:ardnasknip@gmail.com
END:VEVENT
BEGIN:VEVENT
DTSTART;TZID=America/Chicago:20260703T120000
DTEND;TZID=America/Chicago:20260705T120000
DTSTAMP:20260422T124529
CREATED:20260417T224626Z
LAST-MODIFIED:20260417T224711Z
UID:10001276-1783080000-1783252800@naminnesota.org
SUMMARY:NA Freedom to Recover Campout
DESCRIPTION:NA Freedom to Recover Campout 2026 🎆🔷️ \nJuly 3rd–5th\, 2026 will be a weekend full of recovery\, fellowship\, and connection! \nThe campout will include speakers\, meetings\, volleyball\, bean bags\, and plenty of time to connect and grow with other addicts!
URL:https://naminnesota.org/event/freedom-to-recover-campout/
LOCATION:29371 MN-78\, Battle Lake\, MN 56515-9687\, United States\, 29371 MN-78\, Battle Lake\, MN\, 56515\, United States
ATTACH;FMTTYPE=image/jpeg:https://naminnesota.org/wp-content/uploads/2026/04/165979aa-cfe6-4ad6-a6a1-770ba0fdb330-1_all_28362.jpg
ORGANIZER;CN="West Central Lakes Area":MAILTO:wclanaactivities@gmail.com
END:VEVENT
BEGIN:VEVENT
DTSTART;TZID=America/Chicago:20260704T090000
DTEND;TZID=America/Chicago:20260704T120000
DTSTAMP:20260422T124529
CREATED:20260122T003931Z
LAST-MODIFIED:20260122T004006Z
UID:10001063-1783155600-1783166400@naminnesota.org
SUMMARY:Pancake Breakfast! First Saturday every month
DESCRIPTION:Pancakes\, bacon\, sausage breakfast\nFree event. Donations accepted.\nFun & Fellowship
URL:https://naminnesota.org/event/pancake-breakfast-first-saturday-every-month/2026-07-04/
LOCATION:MN
ATTACH;FMTTYPE=image/png:https://naminnesota.org/wp-content/uploads/2026/01/6204893025775230678.png
END:VEVENT
BEGIN:VEVENT
DTSTART;TZID=America/Chicago:20260708T190000
DTEND;TZID=America/Chicago:20260708T210000
DTSTAMP:20260422T124529
CREATED:20251126T002218Z
LAST-MODIFIED:20251126T002218Z
UID:10000999-1783537200-1783544400@naminnesota.org
SUMMARY:MNNAC 34 Convention Committee Meeting
DESCRIPTION:This is a monthly meeting for the MNNAC 34 Convention Committee to meet and discuss plans for the 2027 Annual Convention.
URL:https://naminnesota.org/event/mnnac-34-convention-committee-meeting/2026-07-08/
LOCATION:535 20th Ave N\, South Saint Paul\, 535 20th Ave N\, South Saint Paul\, MN\, 55075\, United States
CATEGORIES:MNNAC
END:VEVENT
BEGIN:VEVENT
DTSTART;TZID=America/Chicago:20260710T150000
DTEND;TZID=America/Chicago:20260712T130000
DTSTAMP:20260422T124529
CREATED:20260405T031415Z
LAST-MODIFIED:20260405T031906Z
UID:10001266-1783695600-1783861200@naminnesota.org
SUMMARY:A New Found Freedom Campout (Save the Date)
DESCRIPTION:July 10 @ 3:00 pm – July 12 @ 1:00 pm\n\nNA CAMPOUT HOSTED BY CENTRAL MINNESOTA AREA!\nCamping\, bonfire meetings\, speakers\, SMORES……..all the things you NEED in your life.
URL:https://naminnesota.org/event/a-new-found-freedom-campout-save-the-date/
LOCATION:Genola Campground\, 13436 Mn-25\, Pierz\, 56364\, United States
CATEGORIES:Central Minnesota
ATTACH;FMTTYPE=image/png:https://naminnesota.org/wp-content/uploads/2026/04/IMG_20260303_181656.png
END:VEVENT
BEGIN:VEVENT
DTSTART;TZID=America/Chicago:20260717T120000
DTEND;TZID=America/Chicago:20260719T120000
DTSTAMP:20260422T124529
CREATED:20260102T053212Z
LAST-MODIFIED:20260102T053212Z
UID:10001026-1784289600-1784462400@naminnesota.org
SUMMARY:PIG 42
DESCRIPTION:The 42nd Annual PIG Campout hosted by the South Suburban Fireside Area! \nSee flyer for more information and rules. \nPre-Register with provided link before June 1st for discounted rate.\nlinktr.ee/pigcampout
URL:https://naminnesota.org/event/pig-42/
LOCATION:River’s Edge Apple River Campground\, 1820 Raleigh Rd.\, New Richmond\, WI\, 54017\, United States
CATEGORIES:South Suburban Fireside
ATTACH;FMTTYPE=image/jpeg:https://naminnesota.org/wp-content/uploads/2025/12/2026-Reg-form-copy-4-scaled.jpg
END:VEVENT
BEGIN:VEVENT
DTSTART;TZID=America/Chicago:20260718T170000
DTEND;TZID=America/Chicago:20260718T210000
DTSTAMP:20260422T124529
CREATED:20260313T145024Z
LAST-MODIFIED:20260313T145024Z
UID:10001142-1784394000-1784408400@naminnesota.org
SUMMARY:Recovery Game Night
DESCRIPTION:WAHA is hosting a monthly Recovery Game Night! \n3rd Saturday of every month\, 5PM-9PM\nLocation is at Common Ground Church in Cambridge. \nThis is a FREE event\, open to ALL!\nKids and families welcome! \nPotluck! Bring a dish to share.\nBring a game to play! \nBring a friend. Build community. In Recovery. \nContact Paul M 612-791-1288 for more info.
URL:https://naminnesota.org/event/recovery-game-night/2026-07-18/
LOCATION:Common Ground Church\, Cambridge 55008\, 404 Cypress St N\, Cambridge\, MN\, 55008\, United States
CATEGORIES:We Are Here
ATTACH;FMTTYPE=image/jpeg:https://naminnesota.org/wp-content/uploads/2026/03/1000005391.jpg
ORGANIZER;CN="Wee Are Here Area":MAILTO:ardnasknip@gmail.com
END:VEVENT
BEGIN:VEVENT
DTSTART;TZID=America/Chicago:20260731T150000
DTEND;TZID=America/Chicago:20260802T120000
DTSTAMP:20260422T124529
CREATED:20260408T152919Z
LAST-MODIFIED:20260408T161650Z
UID:10001272-1785510000-1785672000@naminnesota.org
SUMMARY:JFTW XXXI July 31-Aug 2\, 2026
DESCRIPTION:
URL:https://naminnesota.org/event/jftw-xxxi-july-31-aug-2-2026/
LOCATION:Gamehaven Scout Camp\, 5150 Simpson Rd SE\, Rochester\, MN\, 55904\, United States
CATEGORIES:Open Door
ATTACH;FMTTYPE=image/jpeg:https://naminnesota.org/wp-content/uploads/2026/04/IMG_3990.jpg
ORGANIZER;CN="OpenDoor":MAILTO:info.od@naminnesota.org
END:VEVENT
BEGIN:VEVENT
DTSTART;TZID=America/Chicago:20260801T090000
DTEND;TZID=America/Chicago:20260801T120000
DTSTAMP:20260422T124529
CREATED:20260122T003931Z
LAST-MODIFIED:20260122T004006Z
UID:10001064-1785574800-1785585600@naminnesota.org
SUMMARY:Pancake Breakfast! First Saturday every month
DESCRIPTION:Pancakes\, bacon\, sausage breakfast\nFree event. Donations accepted.\nFun & Fellowship
URL:https://naminnesota.org/event/pancake-breakfast-first-saturday-every-month/2026-08-01/
LOCATION:MN
ATTACH;FMTTYPE=image/png:https://naminnesota.org/wp-content/uploads/2026/01/6204893025775230678.png
END:VEVENT
BEGIN:VEVENT
DTSTART;TZID=America/Chicago:20260808T120000
DTEND;TZID=America/Chicago:20260808T233000
DTSTAMP:20260422T124529
CREATED:20260315T134321Z
LAST-MODIFIED:20260315T134321Z
UID:10001199-1786190400-1786231800@naminnesota.org
SUMMARY:Annual Area Of Hope Picnic
DESCRIPTION:The annual picnic is right around the corner! It will be lots of fun and include fellowship\, food\, open mic\, 50/50 raffle and a large bonfire. We hope you can make it out!
URL:https://naminnesota.org/event/annual-area-of-hope-picnic/
LOCATION:Como Park\, 1177 Midway\, Saint Paul\, MN\, United States
CATEGORIES:Area of Hope
ATTACH;FMTTYPE=image/png:https://naminnesota.org/wp-content/uploads/2026/03/area-of-hope-picnic-1.png
END:VEVENT
BEGIN:VEVENT
DTSTART;TZID=America/Chicago:20260812T190000
DTEND;TZID=America/Chicago:20260812T210000
DTSTAMP:20260422T124529
CREATED:20251126T002218Z
LAST-MODIFIED:20251126T002218Z
UID:10001000-1786561200-1786568400@naminnesota.org
SUMMARY:MNNAC 34 Convention Committee Meeting
DESCRIPTION:This is a monthly meeting for the MNNAC 34 Convention Committee to meet and discuss plans for the 2027 Annual Convention.
URL:https://naminnesota.org/event/mnnac-34-convention-committee-meeting/2026-08-12/
LOCATION:535 20th Ave N\, South Saint Paul\, 535 20th Ave N\, South Saint Paul\, MN\, 55075\, United States
CATEGORIES:MNNAC
END:VEVENT
BEGIN:VEVENT
DTSTART;TZID=America/Chicago:20260814T150000
DTEND;TZID=America/Chicago:20260816T120000
DTSTAMP:20260422T124529
CREATED:20260120T032744Z
LAST-MODIFIED:20260120T034348Z
UID:10001054-1786719600-1786881600@naminnesota.org
SUMMARY:Hopefest 2026 Back 2 Basics Area Campout
DESCRIPTION:Registration: jksallstrom@yahoo.com (payment can be made by Venmo\, Cash App\, Zelle\, PayPal\, or invoiced on square to pay with credit/debit card) \n$25 Adult Weekend pass (16yrs old and up)\n$5 Kid Weekend pass (under 16yrs old)\n$20 Saturday Only day pass (8am-11pm no camping) \nCampsite: $30 per site (first come first serve\, payment required)\n30 sites available\n1 camper w/1 tent or 2 tents \nWeekend pass/day pass are No Addict Turned Away\, but all campsites need to be paid for this year. Sorry for any inconvenience but times have changed and we need to be able to pay our expenses for the event to happen. Thanks for understanding! \nIf you choose to come to the campground earlier than Aug 14\, you will need to register and pay for your campsite with the campground. If the office is not open call the number to confirm your stay. \nLocation:\nShady Oaks Campground\n340 Fairgrounds St.\nGarden City\, MN 56034
URL:https://naminnesota.org/event/hopefest-2026-back-2-basics-area-campout/
LOCATION:Shady Oaks Campground\, 340 Fairgrounds St.\, Garden City\, MN\, 56034\, United States
CATEGORIES:Back 2 Basics
ATTACH;FMTTYPE=image/png:https://naminnesota.org/wp-content/uploads/2026/01/2555029069898888523.png
ORGANIZER;CN="Back To Basics":MAILTO:info.b2b@naminnesota.org
END:VEVENT
BEGIN:VEVENT
DTSTART;TZID=America/Chicago:20260815T170000
DTEND;TZID=America/Chicago:20260815T210000
DTSTAMP:20260422T124529
CREATED:20260313T145024Z
LAST-MODIFIED:20260313T145024Z
UID:10001143-1786813200-1786827600@naminnesota.org
SUMMARY:Recovery Game Night
DESCRIPTION:WAHA is hosting a monthly Recovery Game Night! \n3rd Saturday of every month\, 5PM-9PM\nLocation is at Common Ground Church in Cambridge. \nThis is a FREE event\, open to ALL!\nKids and families welcome! \nPotluck! Bring a dish to share.\nBring a game to play! \nBring a friend. Build community. In Recovery. \nContact Paul M 612-791-1288 for more info.
URL:https://naminnesota.org/event/recovery-game-night/2026-08-15/
LOCATION:Common Ground Church\, Cambridge 55008\, 404 Cypress St N\, Cambridge\, MN\, 55008\, United States
CATEGORIES:We Are Here
ATTACH;FMTTYPE=image/jpeg:https://naminnesota.org/wp-content/uploads/2026/03/1000005391.jpg
ORGANIZER;CN="Wee Are Here Area":MAILTO:ardnasknip@gmail.com
END:VEVENT
BEGIN:VEVENT
DTSTART;TZID=America/Chicago:20260821T150000
DTEND;TZID=America/Chicago:20260823T130000
DTSTAMP:20260422T124529
CREATED:20260414T162948Z
LAST-MODIFIED:20260414T163030Z
UID:10001273-1787324400-1787490000@naminnesota.org
SUMMARY:RITH Inland Gig Campout
DESCRIPTION:Join us for a weekend of camping. recovery. fellowship\, and fun! \nfood\, speaker meetings\, workshops\, kids activities\, corn hole\, campfires\, and more. \nSAVE THE DATE!\nMore details coming soon!
URL:https://naminnesota.org/event/rith-inland-gig-campour/
LOCATION:lake zumbra group camp\, 7000 park drive\, Victoria\, MN\, 55318\, United States
CATEGORIES:Recovery in the Heartland
ATTACH;FMTTYPE=image/png:https://naminnesota.org/wp-content/uploads/2026/04/Green-and-Beige-Modern-Abstract-Geometric-Summer-Camp-Flyer.png
ORGANIZER;CN="RITH area":MAILTO:Robwilkens75@gmail.com
END:VEVENT
BEGIN:VEVENT
DTSTART;TZID=America/Chicago:20260905T090000
DTEND;TZID=America/Chicago:20260905T120000
DTSTAMP:20260422T124529
CREATED:20260122T003931Z
LAST-MODIFIED:20260122T004006Z
UID:10001065-1788598800-1788609600@naminnesota.org
SUMMARY:Pancake Breakfast! First Saturday every month
DESCRIPTION:Pancakes\, bacon\, sausage breakfast\nFree event. Donations accepted.\nFun & Fellowship
URL:https://naminnesota.org/event/pancake-breakfast-first-saturday-every-month/2026-09-05/
LOCATION:MN
ATTACH;FMTTYPE=image/png:https://naminnesota.org/wp-content/uploads/2026/01/6204893025775230678.png
END:VEVENT
END:VCALENDAR