Workbook
Name Category: 'Check Register 2015'!$B$7:$B$53
Name Category: 'Check Register 2016'!$B$16:$B$59
Name Category: 'Check Register 2017'!$B$18:$B$66
Name Category: 'Check Register 2018'!$B$18:$B$65
Name Category: 'Check Register 2019'!$B$18:$B$65
Name Category: 'Check Register 2020'!$B$18:$B$69
Name Category: 'Check Register 2021'!$B$17:$B$75
Name Category: 'Check Register 2022'!$B$17:$B$63
Name Category: 'Check Register 2014 '!$B$6:$B$52
Name CategoryLookup: CategoryTable[Category]
Name CategoryLookup: CategoryTable8[Category]
Name CategoryLookup: CategoryTable812[Category]
Name CategoryLookup: CategoryTable81210[Category]
Name CategoryLookup: CategoryTable8121014[Category]
Name CategoryLookup: CategoryTable81210141620[Category]
Name CategoryLookup: CategoryTable81210141618[Category]
Name CategoryLookup: CategoryTable8121014161816[Category]
Name CategoryLookup: CategoryTable812101416181622[Category]
Name CategoryLookup: CategoryTable81210141618162224[Category]
Name CategoryLookup: CategoryTable1[Category]
Name CategoryLookup: CategoryTable[Category]
Name ChtData: OFFSET('Check Register 2014 '!$C$6,1,0,COUNTA('Check Register 2014 '!$C:$C)-2)
Name ChtData: OFFSET('Check Register 2015'!$C$7,1,0,COUNTA('Check Register 2015'!$C:$C)-2)
Name ChtData: OFFSET('Check Register 2016'!$C$16,1,0,COUNTA('Check Register 2016'!$C:$C)-2)
Name ChtData: OFFSET('Check Register 2017'!$C$18,1,0,COUNTA('Check Register 2017'!$C:$C)-2)
Name ChtData: OFFSET('Check Register 2018'!$C$18,1,0,COUNTA('Check Register 2018'!$C:$C)-2)
Name ChtData: OFFSET('Check Register 2019'!$C$18,1,0,COUNTA('Check Register 2019'!$C:$C)-2)
Name ChtData: OFFSET('Check Register 2020'!$C$18,1,0,COUNTA('Check Register 2020'!$C:$C)-2)
Name ChtData: OFFSET('Check Register 2021'!$C$17,1,0,COUNTA('Check Register 2021'!$C:$C)-2)
Name ChtData: OFFSET('Check Register 2022'!$C$17,1,0,COUNTA('Check Register 2022'!$C:$C)-2)
Name ChtData: OFFSET(Sample!$C$17,1,0,COUNTA(Sample!$C:$C)-2)
Name ChtData: OFFSET('Check Register 2012-13'!$C$16,1,0,COUNTA('Check Register 2012-13'!$C:$C)-2)
Name ChtLabels: OFFSET('Check Register 2014 '!$B$6,1,0,COUNTA('Check Register 2014 '!$B:$B)-2)
Name ChtLabels: OFFSET('Check Register 2015'!$B$7,1,0,COUNTA('Check Register 2015'!$B:$B)-2)
Name ChtLabels: OFFSET('Check Register 2016'!$B$16,1,0,COUNTA('Check Register 2016'!$B:$B)-2)
Name ChtLabels: OFFSET('Check Register 2017'!$B$18,1,0,COUNTA('Check Register 2017'!$B:$B)-2)
Name ChtLabels: OFFSET('Check Register 2018'!$B$18,1,0,COUNTA('Check Register 2018'!$B:$B)-2)
Name ChtLabels: OFFSET('Check Register 2019'!$B$18,1,0,COUNTA('Check Register 2019'!$B:$B)-2)
Name ChtLabels: OFFSET('Check Register 2020'!$B$18,1,0,COUNTA('Check Register 2020'!$B:$B)-2)
Name ChtLabels: OFFSET('Check Register 2021'!$B$17,1,0,COUNTA('Check Register 2021'!$B:$B)-2)
Name ChtLabels: OFFSET('Check Register 2022'!$B$17,1,0,COUNTA('Check Register 2022'!$B:$B)-2)
Name ChtLabels: OFFSET(Sample!$B$17,1,0,COUNTA(Sample!$B:$B)-2)
Name ChtLabels: OFFSET('Check Register 2012-13'!$B$16,1,0,COUNTA('Check Register 2012-13'!$B:$B)-2)
Name Transaction: MyTransactions[#All]
Name Transaction: CkReg13_14[#All]
Name Transaction: Ckreg14_15[#All]
Name Transaction: CkReg15_16[#All]
Name Transaction: CkReg16_18[#All]
Name Transaction: CkReg16_181519[#All]
Name Transaction: CkReg16_181517[#All]
Name Transaction: CkReg16_18151715[#All]
Name Transaction: CkReg16_1815171521[#All]
Name Transaction: CkReg2022[#All]
Name Transaction: MyTransactions[#All]
Name Transaction3: MyTransactions1[#All]

Sheet Sheet1 (2)
A1: January | B1: Bank Ending Balance | C1: 13647.04
B2: Outstanding Checks | C2: =100+460.98 -> 560.98
B3: Outstanding Deposits | C3: 0
B4: Reconciled Balance | C4: =+C1-C2+C3 -> 13086.06
B5: Register Balance | C5: 13086.06
B6: Difference | C6: =+C4-C5 -> 0
A8: February | B8: Bank Ending Balance | C8: 13215.54
B9: Outstanding Checks | C9: =100+200+290 -> 590
B10: Outstanding Deposits
B11: Reconciled Balance | C11: =+C8-C9+C10 -> 12625.54
B12: Register Balance | C12: 12625.54
B13: Difference | C13: =+C11-C12 -> 0
A15: March | B15: Bank Ending Balance | C15: 13016.09
B16: Outstanding Checks | C16: =100+290 -> 390
B17: Outstanding Deposits
B18: Reconciled Balance | C18: =+C15-C16+C17 -> 12626.09
B19: Register Balance | C19: 12626.09
B20: Difference | C20: =+C18-C19 -> 0
A22: April | B22: Bank Ending Balance | C22: 13016.62
B23: Outstanding Checks | C23: =100+290+106 -> 496
B24: Outstanding Deposits
B25: Reconciled Balance | C25: =+C22-C23+C24 -> 12520.62
B26: Register Balance | C26: 12520.62
B27: Difference | C27: =+C25-C26 -> 0
A29: May | B29: Bank Ending Balance | C29: 12911.16
B30: Outstanding Checks | C30: =100+290 -> 390
B31: Outstanding Deposits
B32: Reconciled Balance | C32: =+C29-C30+C31 -> 12521.16
B33: Register Balance | C33: 12521.16
B34: Difference | C34: =+C32-C33 -> 0
A36: June | B36: Bank Ending Balance | C36: 12911.49
B37: Outstanding Checks | C37: =100+290 -> 390
B38: Outstanding Deposits
B39: Reconciled Balance | C39: =+C36-C37+C38 -> 12521.49
B40: Register Balance | C40: 12521.49
B41: Difference | C41: =+C39-C40 -> 0
A43: July | B43: Bank Ending Balance | C43: 12911.59
B44: Outstanding Checks | C44: =100+290 -> 390
B45: Outstanding Deposits | C45: 132
B46: Reconciled Balance | C46: =+C43-C44+C45 -> 12653.59
...

Sheet Check Register 2022
H1: NLASC Check Register 01/01/2021-12/31/2021 | M1: As of | N1: =NOW() -> 44534.888
H2: Check # | I2: Date | J2: Payee or Receipt Number | K2: Description | L2: Category | M2: Withdrawal | N2: Deposit | O2: Available Balance | P2: Cleared | Q2: Balance per Bank | R2: Statement
I3: 44562 | J3: Beginning Balance | L3: Beginning Balance | N3: 13364.79 | O3: =+CkReg2022[[#This Row],[Deposit]] -> 13364.79 | Q3: 13364.79 | R3: 1
O4: =IF(ISBLANK(CkReg2022[[#This Row],[Withdrawal]]),O3+CkReg2022[[#This Row],[Deposit]],O3-CkReg2022[[#This Row],[Withdrawal]]) -> 13364.79 | Q4: =IF(ISBLANK(CkReg2022[[#This Row],[Withdrawal]]),Q3+CkReg2022[[#This Row],[Deposit]],Q3-CkReg2022[[#This Row],[Withdrawal]]) -> 13364.79 | R4: 1
O5: =IF(ISBLANK(CkReg2022[[#This Row],[Withdrawal]]),O4+CkReg2022[[#This Row],[Deposit]],O4-CkReg2022[[#This Row],[Withdrawal]]) -> 13364.79 | Q5: =IF(ISBLANK(CkReg2022[[#This Row],[Withdrawal]]),Q4+CkReg2022[[#This Row],[Deposit]],Q4-CkReg2022[[#This Row],[Withdrawal]]) -> 13364.79 | R5: 1
O6: =IF(ISBLANK(CkReg2022[[#This Row],[Withdrawal]]),O5+CkReg2022[[#This Row],[Deposit]],O5-CkReg2022[[#This Row],[Withdrawal]]) -> 13364.79 | Q6: =IF(ISBLANK(CkReg2022[[#This Row],[Withdrawal]]),Q5+CkReg2022[[#This Row],[Deposit]],Q5-CkReg2022[[#This Row],[Withdrawal]]) -> 13364.79 | R6: 1
O7: =IF(ISBLANK(CkReg2022[[#This Row],[Withdrawal]]),O6+CkReg2022[[#This Row],[Deposit]],O6-CkReg2022[[#This Row],[Withdrawal]]) -> 13364.79 | Q7: =IF(ISBLANK(CkReg2022[[#This Row],[Withdrawal]]),Q6+CkReg2022[[#This Row],[Deposit]],Q6-CkReg2022[[#This Row],[Withdrawal]]) -> 13364.79 | R7: 1
O8: =IF(ISBLANK(CkReg2022[[#This Row],[Withdrawal]]),O7+CkReg2022[[#This Row],[Deposit]],O7-CkReg2022[[#This Row],[Withdrawal]]) -> 13364.79 | Q8: 13364.79 | R8: 1
O9: =IF(ISBLANK(CkReg2022[[#This Row],[Withdrawal]]),O8+CkReg2022[[#This Row],[Deposit]],O8-CkReg2022[[#This Row],[Withdrawal]]) -> 13364.79 | Q9: 13364.79 | R9: 1
O10: =IF(ISBLANK(CkReg2022[[#This Row],[Withdrawal]]),O9+CkReg2022[[#This Row],[Deposit]],O9-CkReg2022[[#This Row],[Withdrawal]]) -> 13364.79 | Q10: 13364.79 | R10: 1
O11: =IF(ISBLANK(CkReg2022[[#This Row],[Withdrawal]]),O10+CkReg2022[[#This Row],[Deposit]],O10-CkReg2022[[#This Row],[Withdrawal]]) -> 13364.79 | Q11: =IF(ISBLANK(CkReg2022[[#This Row],[Withdrawal]]),Q10+CkReg2022[[#This Row],[Deposit]],Q10-CkReg2022[[#This Row],[Withdrawal]]) -> 13364.79 | R11: 1
O12: =IF(ISBLANK(CkReg2022[[#This Row],[Withdrawal]]),O11+CkReg2022[[#This Row],[Deposit]],O11-CkReg2022[[#This Row],[Withdrawal]]) -> 13364.79 | Q12: =IF(ISBLANK(CkReg2022[[#This Row],[Withdrawal]]),Q11+CkReg2022[[#This Row],[Deposit]],Q11-CkReg2022[[#This Row],[Withdrawal]]) -> 13364.79 | R12: 1
O13: =IF(ISBLANK(CkReg2022[[#This Row],[Withdrawal]]),O12+CkReg2022[[#This Row],[Deposit]],O12-CkReg2022[[#This Row],[Withdrawal]]) -> 13364.79 | Q13: =IF(ISBLANK(CkReg2022[[#This Row],[Withdrawal]]),Q12+CkReg2022[[#This Row],[Deposit]],Q12-CkReg2022[[#This Row],[Withdrawal]]) -> 13364.79 | R13: 1
B14: NORTHERN LIGHTS AREA TREASURY REPORT | D14: As of | F14: =NOW() -> 44534.888 | O14: =IF(ISBLANK(CkReg2022[[#This Row],[Withdrawal]]),O13+CkReg2022[[#This Row],[Deposit]],O13-CkReg2022[[#This Row],[Withdrawal]]) -> 13364.79 | Q14: =IF(ISBLANK(CkReg2022[[#This Row],[Withdrawal]]),Q13+CkReg2022[[#This Row],[Deposit]],Q13-CkReg2022[[#This Row],[Withdrawal]]) -> 13364.79 | R14: 1
O15: =IF(ISBLANK(CkReg2022[[#This Row],[Withdrawal]]),O14+CkReg2022[[#This Row],[Deposit]],O14-CkReg2022[[#This Row],[Withdrawal]]) -> 13364.79 | Q15: =IF(ISBLANK(CkReg2022[[#This Row],[Withdrawal]]),Q14+CkReg2022[[#This Row],[Deposit]],Q14-CkReg2022[[#This Row],[Withdrawal]]) -> 13364.79 | R15: 1
B16: Category | C16: Actual to date | D16: Budget | E16: Amended Budget | F16: Budget Balance | O16: =IF(ISBLANK(CkReg2022[[#This Row],[Withdrawal]]),O15+CkReg2022[[#This Row],[Deposit]],O15-CkReg2022[[#This Row],[Withdrawal]]) -> 13364.79 | Q16: =IF(ISBLANK(CkReg2022[[#This Row],[Withdrawal]]),Q15+CkReg2022[[#This Row],[Deposit]],Q15-CkReg2022[[#This Row],[Withdrawal]]) -> 13364.79 | R16: 1
B17: Beginning Balance | C17: =SUMIF(CkReg2022[Category],"=" &CategoryTable81210141618162224[[#This Row],[Category]],CkReg2022[Deposit]) -> 13364.79 | D17: 15791.49 | F17: =-CategoryTable81210141618162224[[#This Row],[Budget]]-CategoryTable81210141618162224[[#This Row],[Amended Budget]]+CategoryTable81210141618162224[[#This Row],[Actual to date]] -> -2426.7 | O17: =IF(ISBLANK(CkReg2022[[#This Row],[Withdrawal]]),O16+CkReg2022[[#This Row],[Deposit]],O16-CkReg2022[[#This Row],[Withdrawal]]) -> 13364.79 | Q17: =IF(ISBLANK(CkReg2022[[#This Row],[Withdrawal]]),Q16+CkReg2022[[#This Row],[Deposit]],Q16-CkReg2022[[#This Row],[Withdrawal]]) -> 13364.79 | R17: 1
B18: Prudent Reserve | C18: =+N8 -> 0 | D18: -4000 | F18: =-CategoryTable81210141618162224[[#This Row],[Budget]]-CategoryTable81210141618162224[[#This Row],[Amended Budget]]+CategoryTable81210141618162224[[#This Row],[Actual to date]] -> 4000 | O18: =IF(ISBLANK(CkReg2022[[#This Row],[Withdrawal]]),O17+CkReg2022[[#This Row],[Deposit]],O17-CkReg2022[[#This Row],[Withdrawal]]) -> 13364.79 | Q18: =IF(ISBLANK(CkReg2022[[#This Row],[Withdrawal]]),Q17+CkReg2022[[#This Row],[Deposit]],Q17-CkReg2022[[#This Row],[Withdrawal]]) -> 13364.79 | R18: 1
B19: New Project Reserve | C19: =SUMIF(CkReg2022[Category],"=" &CategoryTable81210141618162224[[#This Row],[Category]],CkReg2022[Deposit]) -> 0 | D19: -3950 | F19: =-CategoryTable81210141618162224[[#This Row],[Budget]]-CategoryTable81210141618162224[[#This Row],[Amended Budget]]+CategoryTable81210141618162224[[#This Row],[Actual to date]] -> 3950 | O19: =IF(ISBLANK(CkReg2022[[#This Row],[Withdrawal]]),O18+CkReg2022[[#This Row],[Deposit]],O18-CkReg2022[[#This Row],[Withdrawal]]) -> 13364.79 | Q19: =IF(ISBLANK(CkReg2022[[#This Row],[Withdrawal]]),Q18+CkReg2022[[#This Row],[Deposit]],Q18-CkReg2022[[#This Row],[Withdrawal]]) -> 13364.79 | R19: 1
B20: Vermilion Reserve | C20: =-(SUMIF(CkReg2022[Category],"=" &CategoryTable81210141618162224[[#This Row],[Category]],CkReg2022[Withdrawal])) -> 0 | D20: -4500 | F20: =-CategoryTable81210141618162224[[#This Row],[Budget]]-CategoryTable81210141618162224[[#This Row],[Amended Budget]]+CategoryTable81210141618162224[[#This Row],[Actual to date]] -> 4500 | O20: =IF(ISBLANK(CkReg2022[[#This Row],[Withdrawal]]),O19+CkReg2022[[#This Row],[Deposit]],O19-CkReg2022[[#This Row],[Withdrawal]]) -> 13364.79 | Q20: =IF(ISBLANK(CkReg2022[[#This Row],[Withdrawal]]),Q19+CkReg2022[[#This Row],[Deposit]],Q19-CkReg2022[[#This Row],[Withdrawal]]) -> 13364.79 | R20: 1
B21: Activities Inc | C21: =-(SUMIF(CkReg2022[Category],"=" &CategoryTable81210141618162224[[#This Row],[Category]],CkReg2022[Withdrawal])) -> 0 | D21: 550 | F21: =-CategoryTable81210141618162224[[#This Row],[Budget]]-CategoryTable81210141618162224[[#This Row],[Amended Budget]]+CategoryTable81210141618162224[[#This Row],[Actual to date]] -> -550 | O21: =IF(ISBLANK(CkReg2022[[#This Row],[Withdrawal]]),O20+CkReg2022[[#This Row],[Deposit]],O20-CkReg2022[[#This Row],[Withdrawal]]) -> 13364.79 | Q21: =IF(ISBLANK(CkReg2022[[#This Row],[Withdrawal]]),Q20+CkReg2022[[#This Row],[Deposit]],Q20-CkReg2022[[#This Row],[Withdrawal]]) -> 13364.79 | R21: 1
B22: Activities Exp | C22: =SUMIF(CkReg2022[Category],"=" &CategoryTable81210141618162224[[#This Row],[Category]],CkReg2022[Deposit]) -> 0 | D22: -1375 | F22: =-CategoryTable81210141618162224[[#This Row],[Budget]]-CategoryTable81210141618162224[[#This Row],[Amended Budget]]+CategoryTable81210141618162224[[#This Row],[Actual to date]] -> 1375 | O22: =IF(ISBLANK(CkReg2022[[#This Row],[Withdrawal]]),O21+CkReg2022[[#This Row],[Deposit]],O21-CkReg2022[[#This Row],[Withdrawal]]) -> 13364.79 | Q22: =IF(ISBLANK(CkReg2022[[#This Row],[Withdrawal]]),Q21+CkReg2022[[#This Row],[Deposit]],Q21-CkReg2022[[#This Row],[Withdrawal]]) -> 13364.79 | R22: 1
B23: Donations Received | C23: =SUMIF(CkReg2022[Category],"=" &CategoryTable81210141618162224[[#This Row],[Category]],CkReg2022[Deposit]) -> 0 | D23: 900 | F23: =-CategoryTable81210141618162224[[#This Row],[Budget]]-CategoryTable81210141618162224[[#This Row],[Amended Budget]]+CategoryTable81210141618162224[[#This Row],[Actual to date]] -> -900 | O23: =IF(ISBLANK(CkReg2022[[#This Row],[Withdrawal]]),O22+CkReg2022[[#This Row],[Deposit]],O22-CkReg2022[[#This Row],[Withdrawal]]) -> 13364.79 | Q23: =IF(ISBLANK(CkReg2022[[#This Row],[Withdrawal]]),Q22+CkReg2022[[#This Row],[Deposit]],Q22-CkReg2022[[#This Row],[Withdrawal]]) -> 13364.79 | R23: 1
B24: ASC Meeting Expenses | C24: =SUMIF(CkReg2022[Category],"=" &CategoryTable81210141618162224[[#This Row],[Category]],CkReg2022[Deposit]) -> 0 | D24: -30 | F24: =-CategoryTable81210141618162224[[#This Row],[Budget]]-CategoryTable81210141618162224[[#This Row],[Amended Budget]]+CategoryTable81210141618162224[[#This Row],[Actual to date]] -> 30 | O24: =IF(ISBLANK(CkReg2022[[#This Row],[Withdrawal]]),O23+CkReg2022[[#This Row],[Deposit]],O23-CkReg2022[[#This Row],[Withdrawal]]) -> 13364.79 | Q24: =IF(ISBLANK(CkReg2022[[#This Row],[Withdrawal]]),Q23+CkReg2022[[#This Row],[Deposit]],Q23-CkReg2022[[#This Row],[Withdrawal]]) -> 13364.79 | R24: 1
B25: GSR Orientation | C25: =SUMIF(CkReg2022[Category],"=" &CategoryTable81210141618162224[[#This Row],[Category]],CkReg2022[Deposit]) -> 0 | D25: -50 | F25: =-CategoryTable81210141618162224[[#This Row],[Budget]]-CategoryTable81210141618162224[[#This Row],[Amended Budget]]+CategoryTable81210141618162224[[#This Row],[Actual to date]] -> 50 | O25: =IF(ISBLANK(CkReg2022[[#This Row],[Withdrawal]]),O24+CkReg2022[[#This Row],[Deposit]],O24-CkReg2022[[#This Row],[Withdrawal]]) -> 13364.79 | Q25: =IF(ISBLANK(CkReg2022[[#This Row],[Withdrawal]]),Q24+CkReg2022[[#This Row],[Deposit]],Q24-CkReg2022[[#This Row],[Withdrawal]]) -> 13364.79 | R25: 1
B26: Interest Income | C26: =SUMIF(CkReg2022[Category],"=" &CategoryTable81210141618162224[[#This Row],[Category]],CkReg2022[Deposit]) -> 0 | D26: -5 | F26: =-CategoryTable81210141618162224[[#This Row],[Budget]]-CategoryTable81210141618162224[[#This Row],[Amended Budget]]+CategoryTable81210141618162224[[#This Row],[Actual to date]] -> 5 | O26: =IF(ISBLANK(CkReg2022[[#This Row],[Withdrawal]]),O25+CkReg2022[[#This Row],[Deposit]],O25-CkReg2022[[#This Row],[Withdrawal]]) -> 13364.79 | Q26: =IF(ISBLANK(CkReg2022[[#This Row],[Withdrawal]]),Q25+CkReg2022[[#This Row],[Deposit]],Q25-CkReg2022[[#This Row],[Withdrawal]]) -> 13364.79 | R26: 1
B27: Meeting Lists | C27: =SUMIF(CkReg2022[Category],"=" &CategoryTable81210141618162224[[#This Row],[Category]],CkReg2022[Deposit]) -> 0 | D27: -200 | F27: =-CategoryTable81210141618162224[[#This Row],[Budget]]-CategoryTable81210141618162224[[#This Row],[Amended Budget]]+CategoryTable81210141618162224[[#This Row],[Actual to date]] -> 200 | O27: =IF(ISBLANK(CkReg2022[[#This Row],[Withdrawal]]),O26+CkReg2022[[#This Row],[Deposit]],O26-CkReg2022[[#This Row],[Withdrawal]]) -> 13364.79 | Q27: =IF(ISBLANK(CkReg2022[[#This Row],[Withdrawal]]),Q26+CkReg2022[[#This Row],[Deposit]],Q26-CkReg2022[[#This Row],[Withdrawal]]) -> 13364.79 | R27: 1
B28: Meeting Rm Rent | C28: =SUMIF(CkReg2022[Category],"=" &CategoryTable81210141618162224[[#This Row],[Category]],CkReg2022[Deposit]) -> 0 | D28: -450 | F28: =-CategoryTable81210141618162224[[#This Row],[Budget]]-CategoryTable81210141618162224[[#This Row],[Amended Budget]]+CategoryTable81210141618162224[[#This Row],[Actual to date]] -> 450 | O28: =IF(ISBLANK(CkReg2022[[#This Row],[Withdrawal]]),O27+CkReg2022[[#This Row],[Deposit]],O27-CkReg2022[[#This Row],[Withdrawal]]) -> 13364.79 | Q28: =IF(ISBLANK(CkReg2022[[#This Row],[Withdrawal]]),Q27+CkReg2022[[#This Row],[Deposit]],Q27-CkReg2022[[#This Row],[Withdrawal]]) -> 13364.79 | R28: 1
B29: Misc Expense | C29: =-(SUMIF(CkReg2022[Category],"=" &CategoryTable81210141618162224[[#This Row],[Category]],CkReg2022[Withdrawal])) -> 0 | D29: -50 | F29: =-CategoryTable81210141618162224[[#This Row],[Budget]]-CategoryTable81210141618162224[[#This Row],[Amended Budget]]+CategoryTable81210141618162224[[#This Row],[Actual to date]] -> 50 | O29: =IF(ISBLANK(CkReg2022[[#This Row],[Withdrawal]]),O28+CkReg2022[[#This Row],[Deposit]],O28-CkReg2022[[#This Row],[Withdrawal]]) -> 13364.79 | Q29: =IF(ISBLANK(CkReg2022[[#This Row],[Withdrawal]]),Q28+CkReg2022[[#This Row],[Deposit]],Q28-CkReg2022[[#This Row],[Withdrawal]]) -> 13364.79 | R29: 1
B30: New Meeting Pkts | C30: =-(SUMIF(CkReg2022[Category],"=" &CategoryTable81210141618162224[[#This Row],[Category]],CkReg2022[Withdrawal])) -> 0 | D30: -50 | F30: =-CategoryTable81210141618162224[[#This Row],[Budget]]-CategoryTable81210141618162224[[#This Row],[Amended Budget]]+CategoryTable81210141618162224[[#This Row],[Actual to date]] -> 50 | O30: =IF(ISBLANK(CkReg2022[[#This Row],[Withdrawal]]),O29+CkReg2022[[#This Row],[Deposit]],O29-CkReg2022[[#This Row],[Withdrawal]]) -> 13364.79 | Q30: =IF(ISBLANK(CkReg2022[[#This Row],[Withdrawal]]),Q29+CkReg2022[[#This Row],[Deposit]],Q29-CkReg2022[[#This Row],[Withdrawal]]) -> 13364.79 | R30: 1
B31: PO Box Rental | C31: =-(SUMIF(CkReg2022[Category],"=" &CategoryTable81210141618162224[[#This Row],[Category]],CkReg2022[Withdrawal])) -> 0 | D31: -150 | F31: =-CategoryTable81210141618162224[[#This Row],[Budget]]-CategoryTable81210141618162224[[#This Row],[Amended Budget]]+CategoryTable81210141618162224[[#This Row],[Actual to date]] -> 150 | O31: =IF(ISBLANK(CkReg2022[[#This Row],[Withdrawal]]),O30+CkReg2022[[#This Row],[Deposit]],O30-CkReg2022[[#This Row],[Withdrawal]]) -> 13364.79 | Q31: =IF(ISBLANK(CkReg2022[[#This Row],[Withdrawal]]),Q30+CkReg2022[[#This Row],[Deposit]],Q30-CkReg2022[[#This Row],[Withdrawal]]) -> 13364.79 | R31: 1
B32: Storage Rent | C32: =-(SUMIF(CkReg2022[Category],"=" &CategoryTable81210141618162224[[#This Row],[Category]],CkReg2022[Withdrawal])) -> 0 | D32: -900 | F32: =-CategoryTable81210141618162224[[#This Row],[Budget]]-CategoryTable81210141618162224[[#This Row],[Amended Budget]]+CategoryTable81210141618162224[[#This Row],[Actual to date]] -> 900 | O32: =IF(ISBLANK(CkReg2022[[#This Row],[Withdrawal]]),O31+CkReg2022[[#This Row],[Deposit]],O31-CkReg2022[[#This Row],[Withdrawal]]) -> 13364.79 | Q32: =IF(ISBLANK(CkReg2022[[#This Row],[Withdrawal]]),Q31+CkReg2022[[#This Row],[Deposit]],Q31-CkReg2022[[#This Row],[Withdrawal]]) -> 13364.79 | R32: 1
B33: Zoom Expense | C33: =SUMIF(CkReg2022[Category],"=" &CategoryTable81210141618162224[[#This Row],[Category]],CkReg2022[Deposit]) -> 0 | D33: -200 | F33: =-CategoryTable81210141618162224[[#This Row],[Budget]]-CategoryTable81210141618162224[[#This Row],[Amended Budget]]+CategoryTable81210141618162224[[#This Row],[Actual to date]] -> 200 | O33: =IF(ISBLANK(CkReg2022[[#This Row],[Withdrawal]]),O32+CkReg2022[[#This Row],[Deposit]],O32-CkReg2022[[#This Row],[Withdrawal]]) -> 13364.79 | Q33: =IF(ISBLANK(CkReg2022[[#This Row],[Withdrawal]]),Q32+CkReg2022[[#This Row],[Deposit]],Q32-CkReg2022[[#This Row],[Withdrawal]]) -> 13364.79 | R33: 1
B34: Chair Expense | C34: =-(SUMIF(CkReg2022[Category],"=" &CategoryTable81210141618162224[[#This Row],[Category]],CkReg2022[Withdrawal])) -> 0 | D34: -30 | F34: =-CategoryTable81210141618162224[[#This Row],[Budget]]-CategoryTable81210141618162224[[#This Row],[Amended Budget]]+CategoryTable81210141618162224[[#This Row],[Actual to date]] -> 30 | O34: =IF(ISBLANK(CkReg2022[[#This Row],[Withdrawal]]),O33+CkReg2022[[#This Row],[Deposit]],O33-CkReg2022[[#This Row],[Withdrawal]]) -> 13364.79 | Q34: =IF(ISBLANK(CkReg2022[[#This Row],[Withdrawal]]),Q33+CkReg2022[[#This Row],[Deposit]],Q33-CkReg2022[[#This Row],[Withdrawal]]) -> 13364.79 | R34: 1
B35: Vice Chair Expense | C35: =-(SUMIF(CkReg2022[Category],"=" &CategoryTable81210141618162224[[#This Row],[Category]],CkReg2022[Withdrawal])) -> 0 | D35: -30 | F35: =-CategoryTable81210141618162224[[#This Row],[Budget]]-CategoryTable81210141618162224[[#This Row],[Amended Budget]]+CategoryTable81210141618162224[[#This Row],[Actual to date]] -> 30 | O35: =IF(ISBLANK(CkReg2022[[#This Row],[Withdrawal]]),O34+CkReg2022[[#This Row],[Deposit]],O34-CkReg2022[[#This Row],[Withdrawal]]) -> 13364.79 | Q35: =IF(ISBLANK(CkReg2022[[#This Row],[Withdrawal]]),Q34+CkReg2022[[#This Row],[Deposit]],Q34-CkReg2022[[#This Row],[Withdrawal]]) -> 13364.79 | R35: 1
B36: RCM-RCMA Expense | C36: =-(SUMIF(CkReg2022[Category],"=" &CategoryTable81210141618162224[[#This Row],[Category]],CkReg2022[Withdrawal])) -> 0 | D36: -320 | F36: =-CategoryTable81210141618162224[[#This Row],[Budget]]-CategoryTable81210141618162224[[#This Row],[Amended Budget]]+CategoryTable81210141618162224[[#This Row],[Actual to date]] -> 320 | O36: =IF(ISBLANK(CkReg2022[[#This Row],[Withdrawal]]),O35+CkReg2022[[#This Row],[Deposit]],O35-CkReg2022[[#This Row],[Withdrawal]]) -> 13364.79 | Q36: =IF(ISBLANK(CkReg2022[[#This Row],[Withdrawal]]),Q35+CkReg2022[[#This Row],[Deposit]],Q35-CkReg2022[[#This Row],[Withdrawal]]) -> 13364.79 | R36: 1
B37: Secretary Expense | C37: =-(SUMIF(CkReg2022[Category],"=" &CategoryTable81210141618162224[[#This Row],[Category]],CkReg2022[Withdrawal])) -> 0 | D37: -50 | F37: =-CategoryTable81210141618162224[[#This Row],[Budget]]-CategoryTable81210141618162224[[#This Row],[Amended Budget]]+CategoryTable81210141618162224[[#This Row],[Actual to date]] -> 50 | O37: =IF(ISBLANK(CkReg2022[[#This Row],[Withdrawal]]),O36+CkReg2022[[#This Row],[Deposit]],O36-CkReg2022[[#This Row],[Withdrawal]]) -> 13364.79 | Q37: =IF(ISBLANK(CkReg2022[[#This Row],[Withdrawal]]),Q36+CkReg2022[[#This Row],[Deposit]],Q36-CkReg2022[[#This Row],[Withdrawal]]) -> 13364.79 | R37: 1
B38: Treasurer Expense | C38: =-(SUMIF(CkReg2022[Category],"=" &CategoryTable81210141618162224[[#This Row],[Category]],CkReg2022[Withdrawal])) -> 0 | D38: -150 | F38: =-CategoryTable81210141618162224[[#This Row],[Budget]]-CategoryTable81210141618162224[[#This Row],[Amended Budget]]+CategoryTable81210141618162224[[#This Row],[Actual to date]] -> 150 | O38: =IF(ISBLANK(CkReg2022[[#This Row],[Withdrawal]]),O37+CkReg2022[[#This Row],[Deposit]],O37-CkReg2022[[#This Row],[Withdrawal]]) -> 13364.79 | Q38: =IF(ISBLANK(CkReg2022[[#This Row],[Withdrawal]]),Q37+CkReg2022[[#This Row],[Deposit]],Q37-CkReg2022[[#This Row],[Withdrawal]]) -> 13364.79 | R38: 1
B39: Carry the Mssg | C39: =-(SUMIF(CkReg2022[Category],"=" &CategoryTable81210141618162224[[#This Row],[Category]],CkReg2022[Withdrawal])) -> 0 | D39: -300 | F39: =-CategoryTable81210141618162224[[#This Row],[Budget]]-CategoryTable81210141618162224[[#This Row],[Amended Budget]]+CategoryTable81210141618162224[[#This Row],[Actual to date]] -> 300 | O39: =IF(ISBLANK(CkReg2022[[#This Row],[Withdrawal]]),O38+CkReg2022[[#This Row],[Deposit]],O38-CkReg2022[[#This Row],[Withdrawal]]) -> 13364.79 | Q39: =IF(ISBLANK(CkReg2022[[#This Row],[Withdrawal]]),Q38+CkReg2022[[#This Row],[Deposit]],Q38-CkReg2022[[#This Row],[Withdrawal]]) -> 13364.79 | R39: 1
B40: Douglas County Jail Men | C40: =-(SUMIF(CkReg2022[Category],"=" &CategoryTable81210141618162224[[#This Row],[Category]],CkReg2022[Withdrawal])) -> 0 | D40: -50 | F40: =-CategoryTable81210141618162224[[#This Row],[Budget]]-CategoryTable81210141618162224[[#This Row],[Amended Budget]]+CategoryTable81210141618162224[[#This Row],[Actual to date]] -> 50 | O40: =IF(ISBLANK(CkReg2022[[#This Row],[Withdrawal]]),O39+CkReg2022[[#This Row],[Deposit]],O39-CkReg2022[[#This Row],[Withdrawal]]) -> 13364.79 | Q40: =IF(ISBLANK(CkReg2022[[#This Row],[Withdrawal]]),Q39+CkReg2022[[#This Row],[Deposit]],Q39-CkReg2022[[#This Row],[Withdrawal]]) -> 13364.79 | R40: 1
...

Sheet Budget 2022
A1: NLANA 2022 PROPOSED BUDGET | D1: Revised 12/4/2021
A2: Category | B2: Actual to Date | C2: 2021 Budget | D2: 2022 Proposal | F2: Area Operations | G2: Vermilion Operations | H2: Projected Contri-butions
A3: Beginning Balance | B3: 13364.79 | C3: 12826 | D3: =20193+B36+B37 -> 15791.49 | F3: =+D3 -> 15791.49
A4: Prudent Reserve | B4: -3000 | C4: -3000 | D4: -4000 | F4: -4000
A5: New Project Reserve | B5: -1715 | C5: -1715 | D5: -3950 | F5: -3950
A6: Vermilion Reserve | B6: -4000 | C6: -4000 | D6: -4500 | F6: -4500
A7: Available Funds | B7: =SUM(B3:B6) -> 4649.79 | C7: =SUM(C3:C6) -> 4111 | D7: =SUM(D3:D6) -> 3341.49 | F7: =SUM(F3:F6) -> 3341.49 | G7: 0 | H7: 0
A9: Activities Inc | B9: 336 | C9: 500 | D9: 550 | F9: =+D9 -> 550
A10: Donations | B10: 1560 | C10: 775 | D10: 900 | F10: =+D10 -> 900
A11: Vermilion Merch Inc | B11: 9345 | C11: 5500 | D11: 6500 | G11: =+D11 -> 6500
A12: Vermilion Reg Inc | B12: 17790.5 | C12: 14500 | D12: 18600 | G12: =+D12 -> 18600
A13: Total Income | B13: =SUM(B9:B12) -> 29031.5 | C13: =SUM(C9:C12) -> 21275 | D13: =SUM(D9:D12) -> 26550 | F13: =SUM(F9:F12) -> 1450 | G13: =SUM(G9:G12) -> 25100 | H13: =SUM(H9:H12) -> 0
A15: Activities Exp | B15: -800 | C15: -1250 | D15: -1375 | F15: =+D15 -> -1375
A16: ASC Meeting Expenses | B16: 0 | C16: -25 | D16: -30 | F16: =+D16 -> -30
A17: GSR Orientation | B17: 0 | C17: -50 | D17: -50 | F17: =+D17 -> -50
A18: Interest Income | B18: 1 | C18: 5 | D18: -5 | F18: =+D18 -> -5
A19: Meeting Lists | B19: -98 | C19: -175 | D19: -200 | F19: =+D19 -> -200
A20: Meeting Rm Rent | B20: -400 | C20: -300 | D20: -450 | F20: =+D20 -> -450
A21: Misc Expense | B21: 0 | C21: -50 | D21: -50 | F21: =+D21 -> -50
A22: New Meeting Pkts | B22: 0 | C22: 0 | D22: -50 | F22: =+D22 -> -50
A23: PO Box Rental | B23: -134 | C23: -110 | D23: -150 | F23: =+D23 -> -150
A24: Storage Rent | B24: -1199 | C24: -1100 | D24: -900 | F24: =+D24 -> -900
A25: Zoom Expense | B25: -147 | C25: -200 | D25: -200 | F25: =+D25 -> -200
A26: Chair Expense | B26: 0 | C26: -25 | D26: -30 | F26: =+D26 -> -30
... A35: Drug Court | B35: 0 | C35: -100 | D35: -100 | F35: =+D35 -> -100
A36: 75% NA Minnesota Region | B36: -3301.1325 | C36: -875 | D36: =0.75*-3401.49 -> -2551.1175 | H36: =+D36 -> -2551.1175
A37: 25% NA World Service | B37: -1100.3775 | C37: -275 | D37: -850.37 | H37: =+D37 -> -850.37
A38: Vermilion Adult Games | B38: 0 | C38: -100 | D38: -100 | G38: =+D38 -> -100
A39: Vermilion Banner | B39: 0 | C39: -100 | D39: -100 | G39: =+D39 -> -100
A40: Vermilion Kids Games | B40: -50 | C40: -50 | D40: -50 | G40: =+D40 -> -50
A41: Vermilion Kids Crafts | B41: -50 | C41: -50 | D41: -50 | G41: =+D41 -> -50
A42: Vermilion Kitchen | B42: -5098 | C42: -4500 | D42: -6000 | G42: =+D42 -> -6000
A43: Vermilion Merchandise | B43: -4288 | C43: -3865 | D43: -5000 | G43: =+D43 -> -5000
A44: Vermilion Merch Card Fees | B44: -160 | C44: -135 | D44: -100 | G44: =+D44 -> -100
A45: Vermilion Programming | B45: -943 | C45: -1000 | D45: -1000 | G45: =+D45 -> -1000
A46: Vermilion Camp Fees | B46: -7201 | C46: -5600 | D46: -8000 | G46: =+D46 -> -8000
A47: Vermilion Registation Exp | B47: -487 | C47: -550 | D47: -500 | G47: =+D47 -> -500
A48: Vermilion Reg Card Fees | B48: -275 | C48: -360 | D48: -300 | G48: =+D48 -> -300
A49: Vermilion Chair/Treasurer | B49: -30 | C49: -50 | D49: -50 | G49: =+D49 -> -50
... A52: Vermilion Misc | B52: 0 | C52: -100 | D52: -100 | G52: =+D52 -> -100
...

Sheet Check Register 2021
H1: NLASC Check Register 01/01/2021-12/31/2021 | M1: As of | N1: =NOW() -> 44534.888
H2: Check # | I2: Date | J2: Payee or Receipt Number | K2: Description | L2: Category | M2: Withdrawal | N2: Deposit | O2: Available Balance | P2: Cleared | Q2: Balance per Bank | R2: Statement
I3: 44197 | J3: Beginning Balance | L3: Beginning Balance | N3: 13364.79 | O3: =+CkReg16_1815171521[[#This Row],[Deposit]] -> 13364.79 | P3: 44197 | Q3: 13364.79 | R3: 1
I4: 44197 | K4: Move Funds to Correct Group | L4: Beginning Balance | N4: -31.85 | O4: =IF(ISBLANK(CkReg16_1815171521[[#This Row],[Withdrawal]]),O3+CkReg16_1815171521[[#This Row],[Deposit]],O3-CkReg16_1815171521[[#This Row],[Withdrawal]]) -> 13332.94 | P4: 44197 | Q4: =IF(ISBLANK(CkReg16_1815171521[[#This Row],[Withdrawal]]),Q3+CkReg16_1815171521[[#This Row],[Deposit]],Q3-CkReg16_1815171521[[#This Row],[Withdrawal]]) -> 13332.94 | R4: 1
I5: 44197 | K5: Move Funds to Correct Group | L5: Beginning Balance | N5: -19.12 | O5: =IF(ISBLANK(CkReg16_1815171521[[#This Row],[Withdrawal]]),O4+CkReg16_1815171521[[#This Row],[Deposit]],O4-CkReg16_1815171521[[#This Row],[Withdrawal]]) -> 13313.82 | P5: 44197 | Q5: =IF(ISBLANK(CkReg16_1815171521[[#This Row],[Withdrawal]]),Q4+CkReg16_1815171521[[#This Row],[Deposit]],Q4-CkReg16_1815171521[[#This Row],[Withdrawal]]) -> 13313.82 | R5: 1
I6: 44197 | K6: Move Funds to Correct Group | L6: We Made A Decision | N6: 19.12 | O6: =IF(ISBLANK(CkReg16_1815171521[[#This Row],[Withdrawal]]),O5+CkReg16_1815171521[[#This Row],[Deposit]],O5-CkReg16_1815171521[[#This Row],[Withdrawal]]) -> 13332.94 | P6: 44197 | Q6: =IF(ISBLANK(CkReg16_1815171521[[#This Row],[Withdrawal]]),Q5+CkReg16_1815171521[[#This Row],[Deposit]],Q5-CkReg16_1815171521[[#This Row],[Withdrawal]]) -> 13332.94 | R6: 1
I7: 44197 | K7: Move Funds to Correct Group | L7: Rompin Stomp | N7: 31.85 | O7: =IF(ISBLANK(CkReg16_1815171521[[#This Row],[Withdrawal]]),O6+CkReg16_1815171521[[#This Row],[Deposit]],O6-CkReg16_1815171521[[#This Row],[Withdrawal]]) -> 13364.79 | P7: 44197 | Q7: =IF(ISBLANK(CkReg16_1815171521[[#This Row],[Withdrawal]]),Q6+CkReg16_1815171521[[#This Row],[Deposit]],Q6-CkReg16_1815171521[[#This Row],[Withdrawal]]) -> 13364.79 | R7: 1
I8: 44197 | L8: Prudent Reserve | M8: 3000 | O8: =IF(ISBLANK(CkReg16_1815171521[[#This Row],[Withdrawal]]),O7+CkReg16_1815171521[[#This Row],[Deposit]],O7-CkReg16_1815171521[[#This Row],[Withdrawal]]) -> 10364.79 | P8: 44197 | Q8: 13364.79 | R8: 1
I9: 44197 | L9: Vermilion Reserve | M9: 4000 | O9: =IF(ISBLANK(CkReg16_1815171521[[#This Row],[Withdrawal]]),O8+CkReg16_1815171521[[#This Row],[Deposit]],O8-CkReg16_1815171521[[#This Row],[Withdrawal]]) -> 6364.79 | P9: 44197 | Q9: 13364.79 | R9: 1
I10: 44197 | L10: New Project Reserve | M10: 1715 | O10: =IF(ISBLANK(CkReg16_1815171521[[#This Row],[Withdrawal]]),O9+CkReg16_1815171521[[#This Row],[Deposit]],O9-CkReg16_1815171521[[#This Row],[Withdrawal]]) -> 4649.79 | P10: 44197 | Q10: 13364.79 | R10: 44197
I11: 44199 | K11: Fees Square | L11: Rompin Stomp | N11: -0.45 | O11: =IF(ISBLANK(CkReg16_1815171521[[#This Row],[Withdrawal]]),O10+CkReg16_1815171521[[#This Row],[Deposit]],O10-CkReg16_1815171521[[#This Row],[Withdrawal]]) -> 4649.34 | P11: 44200 | Q11: =IF(ISBLANK(CkReg16_1815171521[[#This Row],[Withdrawal]]),Q10+CkReg16_1815171521[[#This Row],[Deposit]],Q10-CkReg16_1815171521[[#This Row],[Withdrawal]]) -> 13364.34 | R11: 1
I12: 44199 | K12: Fees Square | L12: Rompin Stomp | N12: -0.45 | O12: =IF(ISBLANK(CkReg16_1815171521[[#This Row],[Withdrawal]]),O11+CkReg16_1815171521[[#This Row],[Deposit]],O11-CkReg16_1815171521[[#This Row],[Withdrawal]]) -> 4648.89 | P12: 44200 | Q12: =IF(ISBLANK(CkReg16_1815171521[[#This Row],[Withdrawal]]),Q11+CkReg16_1815171521[[#This Row],[Deposit]],Q11-CkReg16_1815171521[[#This Row],[Withdrawal]]) -> 13363.89 | R12: 1
I13: 44199 | K13: Fees Square | L13: Rompin Stomp | N13: -0.45 | O13: =IF(ISBLANK(CkReg16_1815171521[[#This Row],[Withdrawal]]),O12+CkReg16_1815171521[[#This Row],[Deposit]],O12-CkReg16_1815171521[[#This Row],[Withdrawal]]) -> 4648.44 | P13: 44200 | Q13: =IF(ISBLANK(CkReg16_1815171521[[#This Row],[Withdrawal]]),Q12+CkReg16_1815171521[[#This Row],[Deposit]],Q12-CkReg16_1815171521[[#This Row],[Withdrawal]]) -> 13363.44 | R13: 1
B14: NORTHERN LIGHTS AREA TREASURY REPORT | D14: As of | F14: =NOW() -> 44534.888 | I14: 44199 | K14: Donation Square | L14: Rompin Stomp | N14: 5 | O14: =IF(ISBLANK(CkReg16_1815171521[[#This Row],[Withdrawal]]),O13+CkReg16_1815171521[[#This Row],[Deposit]],O13-CkReg16_1815171521[[#This Row],[Withdrawal]]) -> 4653.44 | P14: 44200 | Q14: =IF(ISBLANK(CkReg16_1815171521[[#This Row],[Withdrawal]]),Q13+CkReg16_1815171521[[#This Row],[Deposit]],Q13-CkReg16_1815171521[[#This Row],[Withdrawal]]) -> 13368.44 | R14: 1
I15: 44199 | K15: Donation Square | L15: Rompin Stomp | N15: 5 | O15: =IF(ISBLANK(CkReg16_1815171521[[#This Row],[Withdrawal]]),O14+CkReg16_1815171521[[#This Row],[Deposit]],O14-CkReg16_1815171521[[#This Row],[Withdrawal]]) -> 4658.44 | P15: 44200 | Q15: =IF(ISBLANK(CkReg16_1815171521[[#This Row],[Withdrawal]]),Q14+CkReg16_1815171521[[#This Row],[Deposit]],Q14-CkReg16_1815171521[[#This Row],[Withdrawal]]) -> 13373.44 | R15: 1
B16: Category | C16: Actual to date | D16: Budget | E16: Amended Budget | F16: Budget Balance | I16: 44199 | K16: Donation Square | L16: Rompin Stomp | N16: 5 | O16: =IF(ISBLANK(CkReg16_1815171521[[#This Row],[Withdrawal]]),O15+CkReg16_1815171521[[#This Row],[Deposit]],O15-CkReg16_1815171521[[#This Row],[Withdrawal]]) -> 4663.44 | P16: 44200 | Q16: =IF(ISBLANK(CkReg16_1815171521[[#This Row],[Withdrawal]]),Q15+CkReg16_1815171521[[#This Row],[Deposit]],Q15-CkReg16_1815171521[[#This Row],[Withdrawal]]) -> 13378.44 | R16: 1
B17: Beginning Balance | C17: =SUMIF(CkReg16_1815171521[Category],"=" &CategoryTable812101416181622[[#This Row],[Category]],CkReg16_1815171521[Deposit]) -> 13313.82 | D17: 12826.13 | E17: 538.66 | F17: =-CategoryTable812101416181622[[#This Row],[Budget]]-CategoryTable812101416181622[[#This Row],[Amended Budget]]+CategoryTable812101416181622[[#This Row],[Actual to date]] -> -50.97 | I17: 44200 | K17: Fees Square | L17: We Made A Decision | N17: -0.59 | O17: =IF(ISBLANK(CkReg16_1815171521[[#This Row],[Withdrawal]]),O16+CkReg16_1815171521[[#This Row],[Deposit]],O16-CkReg16_1815171521[[#This Row],[Withdrawal]]) -> 4662.85 | P17: 44202 | Q17: =IF(ISBLANK(CkReg16_1815171521[[#This Row],[Withdrawal]]),Q16+CkReg16_1815171521[[#This Row],[Deposit]],Q16-CkReg16_1815171521[[#This Row],[Withdrawal]]) -> 13377.85 | R17: 1
B18: Annual Start Up Balance | C18: =+N8 -> 0 | D18: -2963.63 | F18: =-CategoryTable812101416181622[[#This Row],[Budget]]-CategoryTable812101416181622[[#This Row],[Amended Budget]]+CategoryTable812101416181622[[#This Row],[Actual to date]] -> 2963.63 | I18: 44200 | K18: Fees Square | L18: We Made A Decision | N18: -0.45 | O18: =IF(ISBLANK(CkReg16_1815171521[[#This Row],[Withdrawal]]),O17+CkReg16_1815171521[[#This Row],[Deposit]],O17-CkReg16_1815171521[[#This Row],[Withdrawal]]) -> 4662.4 | P18: 44202 | Q18: =IF(ISBLANK(CkReg16_1815171521[[#This Row],[Withdrawal]]),Q17+CkReg16_1815171521[[#This Row],[Deposit]],Q17-CkReg16_1815171521[[#This Row],[Withdrawal]]) -> 13377.4 | R18: 1
B19: Donations | C19: =SUMIF(CkReg16_1815171521[Category],"=" &CategoryTable812101416181622[[#This Row],[Category]],CkReg16_1815171521[Deposit]) -> 1560.12 | D19: 775 | F19: =-CategoryTable812101416181622[[#This Row],[Budget]]-CategoryTable812101416181622[[#This Row],[Amended Budget]]+CategoryTable812101416181622[[#This Row],[Actual to date]] -> 785.12 | I19: 44200 | K19: Donation Square | L19: We Made A Decision | N19: 5 | O19: =IF(ISBLANK(CkReg16_1815171521[[#This Row],[Withdrawal]]),O18+CkReg16_1815171521[[#This Row],[Deposit]],O18-CkReg16_1815171521[[#This Row],[Withdrawal]]) -> 4667.4 | P19: 44202 | Q19: =IF(ISBLANK(CkReg16_1815171521[[#This Row],[Withdrawal]]),Q18+CkReg16_1815171521[[#This Row],[Deposit]],Q18-CkReg16_1815171521[[#This Row],[Withdrawal]]) -> 13382.4 | R19: 1
B20: Bank Fees | C20: =-(SUMIF(CkReg16_1815171521[Category],"=" &CategoryTable812101416181622[[#This Row],[Category]],CkReg16_1815171521[Withdrawal])) -> 0 | D20: 0 | F20: =-CategoryTable812101416181622[[#This Row],[Budget]]-CategoryTable812101416181622[[#This Row],[Amended Budget]]+CategoryTable812101416181622[[#This Row],[Actual to date]] -> 0 | I20: 44200 | K20: Donation Square | L20: We Made A Decision | N20: 10 | O20: =IF(ISBLANK(CkReg16_1815171521[[#This Row],[Withdrawal]]),O19+CkReg16_1815171521[[#This Row],[Deposit]],O19-CkReg16_1815171521[[#This Row],[Withdrawal]]) -> 4677.4 | P20: 44202 | Q20: =IF(ISBLANK(CkReg16_1815171521[[#This Row],[Withdrawal]]),Q19+CkReg16_1815171521[[#This Row],[Deposit]],Q19-CkReg16_1815171521[[#This Row],[Withdrawal]]) -> 13392.4 | R20: 1
B21: Group Lit Orders | C21: =-(SUMIF(CkReg16_1815171521[Category],"=" &CategoryTable812101416181622[[#This Row],[Category]],CkReg16_1815171521[Withdrawal])) -> 0 | D21: 0 | F21: =-CategoryTable812101416181622[[#This Row],[Budget]]-CategoryTable812101416181622[[#This Row],[Amended Budget]]+CategoryTable812101416181622[[#This Row],[Actual to date]] -> 0 | I21: 44204 | K21: Square Fee | L21: Donations | N21: -1.03 | O21: =IF(ISBLANK(CkReg16_1815171521[[#This Row],[Withdrawal]]),O20+CkReg16_1815171521[[#This Row],[Deposit]],O20-CkReg16_1815171521[[#This Row],[Withdrawal]]) -> 4676.37 | P21: 44207 | Q21: =IF(ISBLANK(CkReg16_1815171521[[#This Row],[Withdrawal]]),Q20+CkReg16_1815171521[[#This Row],[Deposit]],Q20-CkReg16_1815171521[[#This Row],[Withdrawal]]) -> 13391.37 | R21: 1
B22: Group Lit Paid | C22: =SUMIF(CkReg16_1815171521[Category],"=" &CategoryTable812101416181622[[#This Row],[Category]],CkReg16_1815171521[Deposit]) -> 0 | D22: 0 | F22: =-CategoryTable812101416181622[[#This Row],[Budget]]-CategoryTable812101416181622[[#This Row],[Amended Budget]]+CategoryTable812101416181622[[#This Row],[Actual to date]] -> 0 | I22: 44204 | K22: Group Dontations | L22: Donations | N22: 25 | O22: =IF(ISBLANK(CkReg16_1815171521[[#This Row],[Withdrawal]]),O21+CkReg16_1815171521[[#This Row],[Deposit]],O21-CkReg16_1815171521[[#This Row],[Withdrawal]]) -> 4701.37 | P22: 44207 | Q22: =IF(ISBLANK(CkReg16_1815171521[[#This Row],[Withdrawal]]),Q21+CkReg16_1815171521[[#This Row],[Deposit]],Q21-CkReg16_1815171521[[#This Row],[Withdrawal]]) -> 13416.37 | R22: 1
B23: Group Funds Held* | C23: =SUMIF(CkReg16_1815171521[Category],"=" &CategoryTable812101416181622[[#This Row],[Category]],CkReg16_1815171521[Deposit]) -> 0 | D23: 0 | F23: =-CategoryTable812101416181622[[#This Row],[Budget]]-CategoryTable812101416181622[[#This Row],[Amended Budget]]+CategoryTable812101416181622[[#This Row],[Actual to date]] -> 0 | I23: 44207 | K23: Fees Square | L23: We Made A Decision | N23: -0.59 | O23: =IF(ISBLANK(CkReg16_1815171521[[#This Row],[Withdrawal]]),O22+CkReg16_1815171521[[#This Row],[Deposit]],O22-CkReg16_1815171521[[#This Row],[Withdrawal]]) -> 4700.78 | P23: 44209 | Q23: =IF(ISBLANK(CkReg16_1815171521[[#This Row],[Withdrawal]]),Q22+CkReg16_1815171521[[#This Row],[Deposit]],Q22-CkReg16_1815171521[[#This Row],[Withdrawal]]) -> 13415.78 | R23: 1
B24: Hope Not Dope | C24: =SUMIF(CkReg16_1815171521[Category],"=" &CategoryTable812101416181622[[#This Row],[Category]],CkReg16_1815171521[Deposit]) -> 0 | D24: 0 | E24: =+CategoryTable812101416181622[[#This Row],[Actual to date]] -> 0 | F24: =-CategoryTable812101416181622[[#This Row],[Budget]]-CategoryTable812101416181622[[#This Row],[Amended Budget]]+CategoryTable812101416181622[[#This Row],[Actual to date]] -> 0 | I24: 44207 | K24: Fees Square | L24: We Made A Decision | N24: -0.45 | O24: =IF(ISBLANK(CkReg16_1815171521[[#This Row],[Withdrawal]]),O23+CkReg16_1815171521[[#This Row],[Deposit]],O23-CkReg16_1815171521[[#This Row],[Withdrawal]]) -> 4700.33 | P24: 44209 | Q24: =IF(ISBLANK(CkReg16_1815171521[[#This Row],[Withdrawal]]),Q23+CkReg16_1815171521[[#This Row],[Deposit]],Q23-CkReg16_1815171521[[#This Row],[Withdrawal]]) -> 13415.33 | R24: 1
B25: Living Clean | C25: =SUMIF(CkReg16_1815171521[Category],"=" &CategoryTable812101416181622[[#This Row],[Category]],CkReg16_1815171521[Deposit]) -> 0 | D25: 0 | E25: =+CategoryTable812101416181622[[#This Row],[Actual to date]] -> 0 | F25: =-CategoryTable812101416181622[[#This Row],[Budget]]-CategoryTable812101416181622[[#This Row],[Amended Budget]]+CategoryTable812101416181622[[#This Row],[Actual to date]] -> 0 | I25: 44207 | K25: Donation Square | L25: We Made A Decision | N25: 5 | O25: =IF(ISBLANK(CkReg16_1815171521[[#This Row],[Withdrawal]]),O24+CkReg16_1815171521[[#This Row],[Deposit]],O24-CkReg16_1815171521[[#This Row],[Withdrawal]]) -> 4705.33 | P25: 44209 | Q25: =IF(ISBLANK(CkReg16_1815171521[[#This Row],[Withdrawal]]),Q24+CkReg16_1815171521[[#This Row],[Deposit]],Q24-CkReg16_1815171521[[#This Row],[Withdrawal]]) -> 13420.33 | R25: 1
B26: Rompin Stomp | C26: =SUMIF(CkReg16_1815171521[Category],"=" &CategoryTable812101416181622[[#This Row],[Category]],CkReg16_1815171521[Deposit]) -> 50.47 | D26: 0 | E26: =+CategoryTable812101416181622[[#This Row],[Actual to date]] -> 50.47 | F26: =-CategoryTable812101416181622[[#This Row],[Budget]]-CategoryTable812101416181622[[#This Row],[Amended Budget]]+CategoryTable812101416181622[[#This Row],[Actual to date]] -> 0 | I26: 44207 | K26: Donation Square | L26: We Made A Decision | N26: 10 | O26: =IF(ISBLANK(CkReg16_1815171521[[#This Row],[Withdrawal]]),O25+CkReg16_1815171521[[#This Row],[Deposit]],O25-CkReg16_1815171521[[#This Row],[Withdrawal]]) -> 4715.33 | P26: 44209 | Q26: =IF(ISBLANK(CkReg16_1815171521[[#This Row],[Withdrawal]]),Q25+CkReg16_1815171521[[#This Row],[Deposit]],Q25-CkReg16_1815171521[[#This Row],[Withdrawal]]) -> 13430.33 | R26: 1
B27: We Made A Decision | C27: =SUMIF(CkReg16_1815171521[Category],"=" &CategoryTable812101416181622[[#This Row],[Category]],CkReg16_1815171521[Deposit]) -> 64.94 | D27: 0 | E27: =+CategoryTable812101416181622[[#This Row],[Actual to date]] -> 64.94 | F27: =-CategoryTable812101416181622[[#This Row],[Budget]]-CategoryTable812101416181622[[#This Row],[Amended Budget]]+CategoryTable812101416181622[[#This Row],[Actual to date]] -> 0 | I27: 44210 | K27: Fees Square | L27: Hope Not Dope | N27: -0.45 | O27: =IF(ISBLANK(CkReg16_1815171521[[#This Row],[Withdrawal]]),O26+CkReg16_1815171521[[#This Row],[Deposit]],O26-CkReg16_1815171521[[#This Row],[Withdrawal]]) -> 4714.88 | P27: 44215 | Q27: =IF(ISBLANK(CkReg16_1815171521[[#This Row],[Withdrawal]]),Q26+CkReg16_1815171521[[#This Row],[Deposit]],Q26-CkReg16_1815171521[[#This Row],[Withdrawal]]) -> 13429.88 | R27: 1
B28: Activities Income | C28: =SUMIF(CkReg16_1815171521[Category],"=" &CategoryTable812101416181622[[#This Row],[Category]],CkReg16_1815171521[Deposit]) -> 335.5 | D28: 500 | F28: =-CategoryTable812101416181622[[#This Row],[Budget]]-CategoryTable812101416181622[[#This Row],[Amended Budget]]+CategoryTable812101416181622[[#This Row],[Actual to date]] -> -164.5 | I28: 44210 | K28: Donation Square | L28: Hope Not Dope | N28: 5 | O28: =IF(ISBLANK(CkReg16_1815171521[[#This Row],[Withdrawal]]),O27+CkReg16_1815171521[[#This Row],[Deposit]],O27-CkReg16_1815171521[[#This Row],[Withdrawal]]) -> 4719.88 | P28: 44215 | Q28: =IF(ISBLANK(CkReg16_1815171521[[#This Row],[Withdrawal]]),Q27+CkReg16_1815171521[[#This Row],[Deposit]],Q27-CkReg16_1815171521[[#This Row],[Withdrawal]]) -> 13434.88 | R28: 1
B29: Activities Exp | C29: =-(SUMIF(CkReg16_1815171521[Category],"=" &CategoryTable812101416181622[[#This Row],[Category]],CkReg16_1815171521[Withdrawal])) -> -800 | D29: -1250 | F29: =-CategoryTable812101416181622[[#This Row],[Budget]]-CategoryTable812101416181622[[#This Row],[Amended Budget]]+CategoryTable812101416181622[[#This Row],[Actual to date]] -> 450 | I29: 44213 | K29: Square Fee | L29: Donations | N29: -0.74 | O29: =IF(ISBLANK(CkReg16_1815171521[[#This Row],[Withdrawal]]),O28+CkReg16_1815171521[[#This Row],[Deposit]],O28-CkReg16_1815171521[[#This Row],[Withdrawal]]) -> 4719.14 | P29: 44215 | Q29: =IF(ISBLANK(CkReg16_1815171521[[#This Row],[Withdrawal]]),Q28+CkReg16_1815171521[[#This Row],[Deposit]],Q28-CkReg16_1815171521[[#This Row],[Withdrawal]]) -> 13434.14 | R29: 1
B30: GSR Orientation | C30: =-(SUMIF(CkReg16_1815171521[Category],"=" &CategoryTable812101416181622[[#This Row],[Category]],CkReg16_1815171521[Withdrawal])) -> 0 | D30: -50 | F30: =-CategoryTable812101416181622[[#This Row],[Budget]]-CategoryTable812101416181622[[#This Row],[Amended Budget]]+CategoryTable812101416181622[[#This Row],[Actual to date]] -> 50 | I30: 44213 | K30: Fees Square | L30: Rompin Stomp | N30: -0.45 | O30: =IF(ISBLANK(CkReg16_1815171521[[#This Row],[Withdrawal]]),O29+CkReg16_1815171521[[#This Row],[Deposit]],O29-CkReg16_1815171521[[#This Row],[Withdrawal]]) -> 4718.69 | P30: 44215 | Q30: =IF(ISBLANK(CkReg16_1815171521[[#This Row],[Withdrawal]]),Q29+CkReg16_1815171521[[#This Row],[Deposit]],Q29-CkReg16_1815171521[[#This Row],[Withdrawal]]) -> 13433.69 | R30: 1
B31: Meeting Lists | C31: =-(SUMIF(CkReg16_1815171521[Category],"=" &CategoryTable812101416181622[[#This Row],[Category]],CkReg16_1815171521[Withdrawal])) -> -97.9 | D31: -175 | F31: =-CategoryTable812101416181622[[#This Row],[Budget]]-CategoryTable812101416181622[[#This Row],[Amended Budget]]+CategoryTable812101416181622[[#This Row],[Actual to date]] -> 77.1 | I31: 44213 | K31: Fees Square | L31: Rompin Stomp | N31: -0.45 | O31: =IF(ISBLANK(CkReg16_1815171521[[#This Row],[Withdrawal]]),O30+CkReg16_1815171521[[#This Row],[Deposit]],O30-CkReg16_1815171521[[#This Row],[Withdrawal]]) -> 4718.24 | P31: 44215 | Q31: =IF(ISBLANK(CkReg16_1815171521[[#This Row],[Withdrawal]]),Q30+CkReg16_1815171521[[#This Row],[Deposit]],Q30-CkReg16_1815171521[[#This Row],[Withdrawal]]) -> 13433.24 | R31: 1
B32: New Meeting Pkts | C32: =-(SUMIF(CkReg16_1815171521[Category],"=" &CategoryTable812101416181622[[#This Row],[Category]],CkReg16_1815171521[Withdrawal])) -> 0 | D32: 0 | F32: =-CategoryTable812101416181622[[#This Row],[Budget]]-CategoryTable812101416181622[[#This Row],[Amended Budget]]+CategoryTable812101416181622[[#This Row],[Actual to date]] -> 0 | I32: 44213 | K32: Fees Square | L32: Rompin Stomp | N32: -0.45 | O32: =IF(ISBLANK(CkReg16_1815171521[[#This Row],[Withdrawal]]),O31+CkReg16_1815171521[[#This Row],[Deposit]],O31-CkReg16_1815171521[[#This Row],[Withdrawal]]) -> 4717.79 | P32: 44215 | Q32: =IF(ISBLANK(CkReg16_1815171521[[#This Row],[Withdrawal]]),Q31+CkReg16_1815171521[[#This Row],[Deposit]],Q31-CkReg16_1815171521[[#This Row],[Withdrawal]]) -> 13432.79 | R32: 1
B33: Interest Income | C33: =SUMIF(CkReg16_1815171521[Category],"=" &CategoryTable812101416181622[[#This Row],[Category]],CkReg16_1815171521[Deposit]) -> 0.99 | D33: 5 | F33: =-CategoryTable812101416181622[[#This Row],[Budget]]-CategoryTable812101416181622[[#This Row],[Amended Budget]]+CategoryTable812101416181622[[#This Row],[Actual to date]] -> -4.01 | I33: 44213 | K33: Fees Square | L33: Rompin Stomp | N33: -0.45 | O33: =IF(ISBLANK(CkReg16_1815171521[[#This Row],[Withdrawal]]),O32+CkReg16_1815171521[[#This Row],[Deposit]],O32-CkReg16_1815171521[[#This Row],[Withdrawal]]) -> 4717.34 | P33: 44215 | Q33: =IF(ISBLANK(CkReg16_1815171521[[#This Row],[Withdrawal]]),Q32+CkReg16_1815171521[[#This Row],[Deposit]],Q32-CkReg16_1815171521[[#This Row],[Withdrawal]]) -> 13432.34 | R33: 1
B34: Meeting Rm Rent | C34: =-(SUMIF(CkReg16_1815171521[Category],"=" &CategoryTable812101416181622[[#This Row],[Category]],CkReg16_1815171521[Withdrawal])) -> -400 | D34: -300 | F34: =-CategoryTable812101416181622[[#This Row],[Budget]]-CategoryTable812101416181622[[#This Row],[Amended Budget]]+CategoryTable812101416181622[[#This Row],[Actual to date]] -> -100 | I34: 44213 | K34: Donation Square | L34: Rompin Stomp | N34: 5 | O34: =IF(ISBLANK(CkReg16_1815171521[[#This Row],[Withdrawal]]),O33+CkReg16_1815171521[[#This Row],[Deposit]],O33-CkReg16_1815171521[[#This Row],[Withdrawal]]) -> 4722.34 | P34: 44215 | Q34: =IF(ISBLANK(CkReg16_1815171521[[#This Row],[Withdrawal]]),Q33+CkReg16_1815171521[[#This Row],[Deposit]],Q33-CkReg16_1815171521[[#This Row],[Withdrawal]]) -> 13437.34 | R34: 1
B35: Zoom Expense | C35: =-(SUMIF(CkReg16_1815171521[Category],"=" &CategoryTable812101416181622[[#This Row],[Category]],CkReg16_1815171521[Withdrawal])) -> -146.79 | D35: -200 | F35: =-CategoryTable812101416181622[[#This Row],[Budget]]-CategoryTable812101416181622[[#This Row],[Amended Budget]]+CategoryTable812101416181622[[#This Row],[Actual to date]] -> 53.21 | I35: 44213 | K35: Donation Square | L35: Rompin Stomp | N35: 5 | O35: =IF(ISBLANK(CkReg16_1815171521[[#This Row],[Withdrawal]]),O34+CkReg16_1815171521[[#This Row],[Deposit]],O34-CkReg16_1815171521[[#This Row],[Withdrawal]]) -> 4727.34 | P35: 44215 | Q35: =IF(ISBLANK(CkReg16_1815171521[[#This Row],[Withdrawal]]),Q34+CkReg16_1815171521[[#This Row],[Deposit]],Q34-CkReg16_1815171521[[#This Row],[Withdrawal]]) -> 13442.34 | R35: 1
B36: Misc Expense | C36: =-(SUMIF(CkReg16_1815171521[Category],"=" &CategoryTable812101416181622[[#This Row],[Category]],CkReg16_1815171521[Withdrawal])) -> 0 | D36: -50 | F36: =-CategoryTable812101416181622[[#This Row],[Budget]]-CategoryTable812101416181622[[#This Row],[Amended Budget]]+CategoryTable812101416181622[[#This Row],[Actual to date]] -> 50 | I36: 44213 | K36: Donation Square | L36: Rompin Stomp | N36: 5 | O36: =IF(ISBLANK(CkReg16_1815171521[[#This Row],[Withdrawal]]),O35+CkReg16_1815171521[[#This Row],[Deposit]],O35-CkReg16_1815171521[[#This Row],[Withdrawal]]) -> 4732.34 | P36: 44215 | Q36: =IF(ISBLANK(CkReg16_1815171521[[#This Row],[Withdrawal]]),Q35+CkReg16_1815171521[[#This Row],[Deposit]],Q35-CkReg16_1815171521[[#This Row],[Withdrawal]]) -> 13447.34 | R36: 1
B37: PO Box Rental | C37: =-(SUMIF(CkReg16_1815171521[Category],"=" &CategoryTable812101416181622[[#This Row],[Category]],CkReg16_1815171521[Withdrawal])) -> -134 | D37: -110 | F37: =-CategoryTable812101416181622[[#This Row],[Budget]]-CategoryTable812101416181622[[#This Row],[Amended Budget]]+CategoryTable812101416181622[[#This Row],[Actual to date]] -> -24 | I37: 44213 | K37: Donation Square | L37: Rompin Stomp | N37: 5 | O37: =IF(ISBLANK(CkReg16_1815171521[[#This Row],[Withdrawal]]),O36+CkReg16_1815171521[[#This Row],[Deposit]],O36-CkReg16_1815171521[[#This Row],[Withdrawal]]) -> 4737.34 | P37: 44215 | Q37: =IF(ISBLANK(CkReg16_1815171521[[#This Row],[Withdrawal]]),Q36+CkReg16_1815171521[[#This Row],[Deposit]],Q36-CkReg16_1815171521[[#This Row],[Withdrawal]]) -> 13452.34 | R37: 1
B38: Storage Rent | C38: =-(SUMIF(CkReg16_1815171521[Category],"=" &CategoryTable812101416181622[[#This Row],[Category]],CkReg16_1815171521[Withdrawal])) -> -1198.64 | D38: -1100 | F38: =-CategoryTable812101416181622[[#This Row],[Budget]]-CategoryTable812101416181622[[#This Row],[Amended Budget]]+CategoryTable812101416181622[[#This Row],[Actual to date]] -> -98.64 | I38: 44213 | K38: Group Dontations | L38: Donations | N38: 15 | O38: =IF(ISBLANK(CkReg16_1815171521[[#This Row],[Withdrawal]]),O37+CkReg16_1815171521[[#This Row],[Deposit]],O37-CkReg16_1815171521[[#This Row],[Withdrawal]]) -> 4752.34 | P38: 44215 | Q38: =IF(ISBLANK(CkReg16_1815171521[[#This Row],[Withdrawal]]),Q37+CkReg16_1815171521[[#This Row],[Deposit]],Q37-CkReg16_1815171521[[#This Row],[Withdrawal]]) -> 13467.34 | R38: 1
B39: ASC Meeting Expenses | C39: =-(SUMIF(CkReg16_1815171521[Category],"=" &CategoryTable812101416181622[[#This Row],[Category]],CkReg16_1815171521[Withdrawal])) -> 0 | D39: -25 | F39: =-CategoryTable812101416181622[[#This Row],[Budget]]-CategoryTable812101416181622[[#This Row],[Amended Budget]]+CategoryTable812101416181622[[#This Row],[Actual to date]] -> 25 | I39: 44214 | K39: Fees Square | L39: We Made A Decision | N39: -0.39 | O39: =IF(ISBLANK(CkReg16_1815171521[[#This Row],[Withdrawal]]),O38+CkReg16_1815171521[[#This Row],[Deposit]],O38-CkReg16_1815171521[[#This Row],[Withdrawal]]) -> 4751.95 | P39: 44216 | Q39: =IF(ISBLANK(CkReg16_1815171521[[#This Row],[Withdrawal]]),Q38+CkReg16_1815171521[[#This Row],[Deposit]],Q38-CkReg16_1815171521[[#This Row],[Withdrawal]]) -> 13466.95 | R39: 1
B40: Chair Expense | C40: =-(SUMIF(CkReg16_1815171521[Category],"=" &CategoryTable812101416181622[[#This Row],[Category]],CkReg16_1815171521[Withdrawal])) -> 0 | D40: -25 | F40: =-CategoryTable812101416181622[[#This Row],[Budget]]-CategoryTable812101416181622[[#This Row],[Amended Budget]]+CategoryTable812101416181622[[#This Row],[Actual to date]] -> 25 | I40: 44214 | K40: Square Fee | L40: Donations | N40: -0.39 | O40: =IF(ISBLANK(CkReg16_1815171521[[#This Row],[Withdrawal]]),O39+CkReg16_1815171521[[#This Row],[Deposit]],O39-CkReg16_1815171521[[#This Row],[Withdrawal]]) -> 4751.56 | P40: 44216 | Q40: =IF(ISBLANK(CkReg16_1815171521[[#This Row],[Withdrawal]]),Q39+CkReg16_1815171521[[#This Row],[Deposit]],Q39-CkReg16_1815171521[[#This Row],[Withdrawal]]) -> 13466.56 | R40: 1
...

Sheet Group Funds Held
A1: Hope Not Dope
A2: Date | B2: Time | C2: Total Collected | D2: Fees | E2: Net Total Deposited | F2: Balance
A3: 44210 | B3: 0.80185185 | C3: 5 | D3: -0.45 | E3: 4.55 | F3: =+E3 -> 4.55
A4: 44292 | B4: Donation to ASC | E4: -4.55 | F4: =+F3+E4 -> 0
A10: Rompin Stompin
A11: Date | B11: Time | C11: Total Collected | D11: Fees | E11: Net Total Deposited | F11: Balance
A12: 44178 | B12: 0.68818287 | C12: 5 | D12: -0.45 | E12: 4.55 | F12: =+E12 -> 4.55
A13: 44185 | B13: 0.69251157 | C13: 5 | D13: -0.45 | E13: 4.55 | F13: =+F12+E13 -> 9.1
A14: 44185 | B14: 0.69159722 | C14: 5 | D14: -0.45 | E14: 4.55 | F14: =+F13+E14 -> 13.65
A15: 44185 | B15: 0.69159722 | C15: 5 | D15: -0.45 | E15: 4.55 | F15: =+F14+E15 -> 18.2
A16: 44185 | B16: 0.68054398 | C16: 5 | D16: -0.45 | E16: 4.55 | F16: =+F15+E16 -> 22.75
A17: 44192 | B17: 0.6849537 | C17: 5 | D17: -0.45 | E17: 4.55 | F17: =+F16+E17 -> 27.3
A18: 44192 | B18: 0.67623843 | C18: 5 | D18: -0.45 | E18: 4.55 | F18: =+F17+E18 -> 31.85
A19: 44199 | B19: 0.67518519 | C19: 5 | D19: -0.45 | E19: 4.55 | F19: =+F18+E19 -> 36.4
A20: 44199 | B20: 0.67511574 | C20: 5 | D20: -0.45 | E20: 4.55 | F20: =+F19+E20 -> 40.95
A21: 44199 | B21: 0.66982639 | C21: 5 | D21: -0.45 | E21: 4.55 | F21: =+F20+E21 -> 45.5
A22: 44213 | B22: 0.69646991 | C22: 5 | D22: -0.45 | E22: 4.55 | F22: =+F21+E22 -> 50.05
A23: 44213 | B23: 0.6766088 | C23: 5 | D23: -0.45 | E23: 4.55 | F23: =+F22+E23 -> 54.6
A24: 44213 | B24: 0.67640046 | C24: 5 | D24: -0.45 | E24: 4.55 | F24: =+F23+E24 -> 59.15
... A27: 44227 | B27: 0.67465278 | C27: 5 | D27: -0.45 | E27: 4.55 | F27: =+F26+E27 -> 77.66
A28: Sunday, February 7, 2021 | B28: 4:17PM | C28: 5 | D28: -0.45 | E28: 4.55 | F28: =+F27+E28 -> 82.21
A29: Sunday, February 7, 2021 | B29: 4:17PM | C29: 5 | D29: -0.45 | E29: 4.55 | F29: =+F28+E29 -> 86.76
A30: Sunday, February 7, 2021 | B30: 4:02 PM | C30: 10 | D30: -0.59 | E30: 9.41 | F30: =+F29+E30 -> 96.17
A31: Sunday, February 7, 2021 | B31: 0.68055556 | C31: 5 | D31: -0.45 | E31: 4.55 | F31: =+F30+E31 -> 100.72
A32: Sunday, February 14, 2021 | B32: 0.68055556 | C32: 5 | D32: -0.45 | E32: 4.55 | F32: =+F31+E32 -> 105.27
A33: Sunday, February 21, 2021 | B33: 0.68055556 | C33: 5 | D33: -0.45 | E33: 4.55 | F33: =+F32+E33 -> 109.82
A34: Sunday, February 21, 2021 | B34: 0.68055556 | C34: 5 | D34: -0.45 | E34: 4.55 | F34: =+F33+E34 -> 114.37
A35: Sunday, February 28, 2021 | B35: 0.68055556 | C35: 5 | D35: -0.45 | E35: 4.55 | F35: =+F34+E35 -> 118.92
A36: Sunday, March 7, 2021 | B36: 0.68055556 | C36: 5 | D36: -0.45 | E36: 4.55 | F36: =+F35+E36 -> 123.47
A37: Sunday, March 14, 2021 | B37: 0.68055556 | C37: 5 | D37: -0.45 | E37: 4.55 | F37: =+F36+E37 -> 128.02
A38: Sunday, March 21, 2021 | B38: 0.68055556 | C38: 5 | D38: -0.45 | E38: 4.55 | F38: =+F37+E38 -> 132.57
A39: Sunday, March 28, 2021 | B39: 0.68055556 | C39: 5 | D39: -0.45 | E39: 4.55 | F39: =+F38+E39 -> 137.12
A40: Sunday, March 28, 2021 | B40: 0.68055556 | C40: 5 | D40: -0.45 | E40: 4.55 | F40: =+F39+E40 -> 141.67
A41: Sunday, March 28, 2021 | B41: 0.68055556 | C41: 10 | D41: -0.59 | E41: 9.41 | F41: =+F40+E41 -> 151.08
A42: Sunday, March 28, 2021 | B42: 0.68055556 | C42: 5 | D42: -0.45 | E42: 4.55 | F42: =+F41+E42 -> 155.63
... A53: Sunday May 23, 2021 | B53: 0.67847222 | C53: 10 | D53: -0.59 | E53: 9.41 | F53: =+F52+E53 -> 220.26
A54: 44352 | B54: Literature Order | E54: -169.79 | F54: =+F53+E54 -> 50.47
A57: We Made A Decision
A58: Date | B58: Time | C58: Total Collected | D58: Fees | E58: Net Total Deposited | F58: Balance
A59: 44185 | B59: 0.6853588 | C59: 20 | D59: -0.88 | E59: 19.12 | F59: =+E59 -> 19.12
...

Sheet Budgeting (2021)
A1: NLANA 2021 PROPOSED BUDGET
A2: Category | B2: Actual to Date | C2: 2020 Budget | D2: Amended Budget | E2: Budget Remaining | G2: Committee Proposal | I2: Proposed Budget 2021 | J2: Budget Difference | L2: Only Expenses
A3: Beginning Balance | B3: =+'Check Register 2020'!C18 -> 13761.47 | C3: 14273.3 | D3: 13761.47 | I3: 11477.74 | J3: 0
A4: Annual Start Up Balance | I4: -2963.63
A5: Donations | B5: 382 | C5: 1150 | D5: 1150 | E5: =-B5+D5 -> 768 | I5: 775 | J5: =-I5+C5 -> 375 | L5: 775
A6: Bank Fees | E6: =-B6+D6 -> 0 | I6: 0 | L6: 0
A7: Group Lit Orders | B7: 0 | C7: 0 | D7: 0 | E7: =-B7+D7 -> 0 | I7: 0 | J7: =-I7+C7 -> 0 | L7: 0
A8: Group Lit Paid | B8: 0 | C8: 0 | D8: 0 | E8: =-B8+D8 -> 0 | I8: 0 | J8: =-I8+C8 -> 0 | L8: 0
A9: Activities Inc | B9: 185 | C9: 1000 | D9: 1000 | E9: =-B9+D9 -> 815 | I9: 500 | J9: =-I9+C9 -> 500 | L9: 500
A10: Activities Exp | B10: -216.14 | C10: -1500 | D10: -1500 | E10: =-B10+D10 -> -1283.86 | I10: -1250 | J10: =-I10+C10 -> -250 | L10: -1250
A11: GSR Orientation | B11: 0 | C11: -100 | D11: -100 | E11: =-B11+D11 -> -100 | I11: -50 | J11: =-I11+C11 -> -50 | L11: -50
A12: Meeting Lists | B12: -51.7 | C12: -350 | D12: -350 | E12: =-B12+D12 -> -298.3 | I12: -175 | J12: =-I12+C12 -> -175 | L12: -175
A13: New Meeting Pkts | B13: 0 | C13: 0 | D13: 0 | E13: =-B13+D13 -> 0 | I13: 0 | J13: =-I13+C13 -> 0 | L13: 0
A14: Interest Income | B14: 3.35 | C14: 5 | D14: 5 | E14: =-B14+D14 -> 1.65 | I14: 5 | J14: =-I14+C14 -> 0 | L14: 5
A15: Meeting Rm Rent | B15: -75 | C15: -450 | D15: -450 | E15: =-B15+D15 -> -375 | I15: -300 | J15: =-I15+C15 -> -150 | L15: -300
A16: Zoom Expense | I16: -200 | J16: =-I16+C16 -> 200 | L16: -200
A17: Misc Expense | B17: 0 | C17: -50 | D17: -50 | E17: =-B17+D17 -> -50 | I17: -50 | J17: =-I17+C17 -> 0 | L17: -50
A18: PO Box Rental | B18: -106 | C18: -95 | D18: -95 | E18: =-B18+D18 -> 11 | I18: -110 | J18: =-I18+C18 -> 15 | L18: -110
A19: Storage Rent | B19: 0 | C19: -1050 | D19: -1050 | E19: =-B19+D19 -> -1050 | I19: -1100 | J19: =-I19+C19 -> 50 | L19: -1100
A20: ASC Meeting Expenses | B20: -14 | C20: -50 | D20: -50 | E20: =-B20+D20 -> -36 | I20: -25 | J20: =-I20+C20 -> -25 | L20: -25
A21: Chair Expense | B21: -9.2 | C21: -50 | D21: -50 | E21: =-B21+D21 -> -40.8 | I21: -25 | J21: =-I21+C21 -> -25 | L21: -25
A22: Vice Chair Expense | B22: 0 | C22: -25 | D22: -25 | E22: =-B22+D22 -> -25 | I22: -12.5 | J22: =-I22+C22 -> -12.5 | L22: -12.5
A23: RCM-RCMA Expense | B23: -290 | C23: -850 | D23: -850 | E23: =-B23+D23 -> -560 | G23: -850 | I23: -320 | J23: =-I23+C23 -> -530 | L23: -320
A24: Secretary Expense | B24: -20 | C24: -100 | D24: -100 | E24: =-B24+D24 -> -80 | I24: -50 | J24: =-I24+C24 -> -50 | L24: -50
A25: Treasurer Expense | B25: 0 | C25: -100 | D25: -100 | E25: =-B25+D25 -> -100 | I25: -50 | J25: =-I25+C25 -> -50 | L25: -50
A26: Web Publisher | B26: 0 | C26: 0 | D26: 0 | E26: =-B26+D26 -> 0 | I26: 0 | J26: =-I26+C26 -> 0 | L26: 0
A27: Carry the Mssg | B27: 0 | C27: -300 | D27: -300 | E27: =-B27+D27 -> -300 | I27: -300 | J27: =-I27+C27 -> 0 | L27: -300
